Workbook
Name ABN: Cover!$C$17
Name AGL_GAS_NETWORKS: "YTD-ACTUAL99"
Name BaseDeal: 1000000
Name cBoard: 1
Name cManual: 0
Name DB: "WIREAUPROD"
Name No.: TRUE
Name NvsASD: "V2007-12-31"
Name NvsAutoDrillOk: "VN"
Name NvsElapsedTime: 0.000138888884976041
Name NvsEndTime: 39513.5166782407
Name NvsInstLang: "VENG"
Name NvsInstSpec: "%,FBUSINESS_UNIT,TCONS_ACT,NEE CONSOLIDATION"
Name NvsInstSpec1: ","
Name NvsInstSpec2: ","
Name NvsInstSpec3: ","
Name NvsInstSpec4: ","
Name NvsInstSpec5: ","
Name NvsInstSpec6: ","
Name NvsInstSpec7: ","
Name NvsInstSpec8: ","
Name NvsInstSpec9: ","
Name NvsLayoutType: "M3"
Name NvsNplSpec: "%,X,RZT.ACCOUNT.,CZF.BUSINESS_UNIT."
Name NvsPanelBusUnit: "V"
Name NvsPanelEffdt: "V1998-12-31"
Name NvsPanelSetid: "VEPIC"
Name NvsReqBU: "VEE"
Name NvsReqBUOnly: "VN"
Name NvsTransLed: "VN"
Name NvsTreeASD: "V2007-12-31"
Name NvsValTbl.ACCOUNT: "GL_ACCOUNT_TBL"
Name NvsValTbl.BUSINESS_UNIT: "BUS_UNIT_TBL_GL"
Name NvsValTbl.DEPTID: "DEPARTMENT_TBL"
Name NvsValTbl.PROJECT_ID: "PROJECT_ID_VW"
Name Template.WIRE: "DBACCESS"
Name Tradingname: Cover!$C$15
Name Version.WIRE: 1
Name Yearending: Cover!$C$23
Name Yearstart: Cover!$C$21

Sheet Cover
A1: Gas Pipeline Operator
A2: Reporting template
A4: This template is to be uploaded by a Gas Pipeline Operator to its website to fulfil its annual reporting obligations.
A6: Colour coding of input sheets:
A7: Dark cyan = ERA instructions/headings
A8: Yellow = Input cells
A9: Grey - Not applicable/No inputs required
A11: Leave coloured cells blank if no information exists - PLEASE DO NOT ENTER TEXT unless specifically requested to do so.
A12: All dollar amounts are to be unrounded, and in nominal terms.
A15: Service provider: | C15: APA OPERATIONS PTY LIMITED
A17: Australian business number: | C17: 79 123 090 933
A19: Pipeline name: | C19: Murrin Murrin Lateral
A21: Reporting period start date: | C21: 44013
A23: Reporting period end date: | C23: 44377
A25: Publication date of this report: | C25: 44501
A27: Reported information is current at: | C27: 44377
A29: Has any information in this template been amended since last published within this current reporting period? | C29: Yes | F29: Amendment reference | I29: 3.4.1 in Basis of preparation & 6. Notes in this reporting template
A33: Business address | B33: Address | D33: Level 25, 580 George Street
B34: Suburb | D34: Sydney
C35: State | D35: NSW | E35: Postcode | F35: 2000
A37: Postal address | B37: Address | D37: PO Box R41
B38: Suburb | D38: Royal Exchange
C39: State | D39: NSW | E39: Postcode | F39: 1225
A42: Contact name/s | B42: Bruce Song (Investor Relations Analyst - Investor Rel & Analytics)
A43: Contact phone/s | B43: +61 (2) 9275 0052
A44: Contact email address/s | B44: APARegReporting@apa.com.au

Sheet Contents
F3: Table of contents

Sheet Summary
B1: Summary
B2: =Tradingname -> APA OPERATIONS PTY LIMITED
B3: Year ending | C3: =TEXT(Yearstart,"dd/mm/yyyy")&" to "&TEXT(Yearending,"dd/mm/yyyy") -> 01/07/2020 to 30/06/2021
B4: All numbers are expressed in $nominal
B8: Revenues and expenses (Table 2.1) | C8: Amounts excluding related party transactions | D8: Related party transactions | E8: Total
B9: Direct revenue | C9: ='2. Revenues and expenses'!D16 -> 6571910.6 | D9: ='2. Revenues and expenses'!E16 -> 5422667 | E9: ='2. Revenues and expenses'!F16 -> 11994578
B10: Indirect revenue allocated | C10: ='2. Revenues and expenses'!D19 -> 0 | D10: ='2. Revenues and expenses'!E19 -> 0 | E10: ='2. Revenues and expenses'!F19 -> 0
B11: Total revenue | C11: ='2. Revenues and expenses'!D20 -> 6571910.6 | D11: ='2. Revenues and expenses'!E20 -> 5422667 | E11: ='2. Revenues and expenses'!F20 -> 11994578
B12: Direct costs | C12: ='2. Revenues and expenses'!D30 -> -2431594.1 | D12: ='2. Revenues and expenses'!E30 -> -2006376.2 | E12: ='2. Revenues and expenses'!F30 -> -4437970.3
B13: Shared costs allocated | C13: ='2. Revenues and expenses'!D41 -> -1062324.9 | D13: ='2. Revenues and expenses'!E41 -> 0 | E13: ='2. Revenues and expenses'!F41 -> -1062324.9
B14: Total costs | C14: ='2. Revenues and expenses'!D42 -> -3493919 | D14: ='2. Revenues and expenses'!E42 -> -2006376.2 | E14: ='2. Revenues and expenses'!F42 -> -5500295.2
B15: Earnings before interest and tax (EBIT) | C15: ='2. Revenues and expenses'!D43 -> 3077991.6 | D15: ='2. Revenues and expenses'!E43 -> 3416290.8 | E15: ='2. Revenues and expenses'!F43 -> 6494282.4
B18: Statement of pipeline assets (Table 3.1) | C18: Cumulative value as at current reporting period | D18: Cumulative value as at previous reporting period
B19: Pipelines | C19: ='3. Statement of pipeline assets'!D16 -> 28908119 | D19: ='3. Statement of pipeline assets'!E16 -> 12803906
B20: Compressors | C20: ='3. Statement of pipeline assets'!D23 -> 31033380 | D20: ='3. Statement of pipeline assets'!E23 -> 31993019
B21: City Gates, supply regulators and valve stations | C21: ='3. Statement of pipeline assets'!D30 -> 2995424.4 | D21: ='3. Statement of pipeline assets'!E30 -> 3057363.6
B22: Metering | C22: ='3. Statement of pipeline assets'!D37 -> 1097280.4 | D22: ='3. Statement of pipeline assets'!E37 -> 1121270.4
B23: Odourant plants | C23: ='3. Statement of pipeline assets'!D44 -> 0 | D23: ='3. Statement of pipeline assets'!E44 -> 0
B24: SCADA (Communications) | C24: ='3. Statement of pipeline assets'!D51 -> 41612.247 | D24: ='3. Statement of pipeline assets'!E51 -> 40344.926
B25: Buildings | C25: ='3. Statement of pipeline assets'!D58 -> 433395.6 | D25: ='3. Statement of pipeline assets'!E58 -> 438924.18
B26: Land and easements | C26: ='3. Statement of pipeline assets'!D64 -> 0 | D26: ='3. Statement of pipeline assets'!E64 -> 0
B27: Other depreciable pipeline assets | C27: ='3. Statement of pipeline assets'!D71 -> 967540.27 | D27: ='3. Statement of pipeline assets'!E71 -> 925091.66
B28: Leased Assets | C28: ='3. Statement of pipeline assets'!D78 -> 1982.5696 | D28: ='3. Statement of pipeline assets'!E78 -> 16688.043
B29: Other non-depreciable pipeline assets | C29: ='3. Statement of pipeline assets'!D79 -> 6891119.3 | D29: ='3. Statement of pipeline assets'!E79 -> 11340386
B30: Total pipeline assets | C30: ='3. Statement of pipeline assets'!D80 -> 72369853 | D30: ='3. Statement of pipeline assets'!E80 -> 61736995
B31: Shared property, plant and equipment | C31: ='3. Statement of pipeline assets'!D88 -> 592961.81 | D31: ='3. Statement of pipeline assets'!E88 -> 569359.56
B32: Shared leased assets | C32: ='3. Statement of pipeline assets'!D95 -> 170663.29 | D32: ='3. Statement of pipeline assets'!E95 -> 183505.15
B33: Inventories | C33: ='3. Statement of pipeline assets'!D96 -> 0 | D33: ='3. Statement of pipeline assets'!E96 -> 0
B34: Deferred tax assets | C34: ='3. Statement of pipeline assets'!D97 -> 0 | D34: ='3. Statement of pipeline assets'!E97 -> 0
B35: Other shared assets | C35: ='3. Statement of pipeline assets'!D98 -> 0 | D35: ='3. Statement of pipeline assets'!E98 -> 0
B36: Total shared assets allocated | C36: ='3. Statement of pipeline assets'!D99 -> 763625.1 | D36: ='3. Statement of pipeline assets'!E99 -> 752864.71
B37: Total assets | C37: ='3. Statement of pipeline assets'!D100 -> 73133478 | D37: ='3. Statement of pipeline assets'!E100 -> 62489859
B38: Return on assets (EBIT/Total assets value) (Table 1.1.1) | C38: ='1.1 Financial performance'!C10 -> 0.088800403
B41: Recovered capital value (Table 4.1) | C41: Cumulative value as at current reporting period | D41: =VALUE(RIGHT(TEXT(Yearending,"dd/mm/yyyy"),4)) -> 2021
B42: Pipeline assets cost base | C42: ='4. Recovered capital'!E16 -> 76658475
B43: Shared assets allocated cost base | C43: ='4. Recovered capital'!E23 -> 1481791.5
B44: Total assets | C44: ='4. Recovered capital'!E24 -> 78140267
B45: Return of capital
B46: Revenue | C46: ='4. Recovered capital'!E26 -> 81540611 | D46: =IFERROR(INDEX('4. Recovered capital'!$F$8:$BH$34,MATCH($B46,'4. Recovered capital'!$D$8:$D$34,0),MATCH(D$41,'4. Recovered capital'!$F$8:$BH$8,0)),) -> 11994578
B47: Operating expenses | C47: ='4. Recovered capital'!E27 -> -17130950 | D47: =IFERROR(INDEX('4. Recovered capital'!$F$8:$BH$34,MATCH($B47,'4. Recovered capital'!$D$8:$D$34,0),MATCH(D$41,'4. Recovered capital'!$F$8:$BH$8,0)),) -> -3882516.3
...

Sheet 1. Pipeline information
B1: Pipeline information
B2: =Tradingname -> APA OPERATIONS PTY LIMITED
B3: Reporting Period | C3: =TEXT(Yearstart,"dd/mm/yyyy")&" to "&TEXT(Yearending,"dd/mm/yyyy") -> 01/07/2020 to 30/06/2021
B5: Table 1.1: Pipeline details
B7: Pipeline location | C7: Western Australia
B8: Pipeline length (km) | C8: 85
B9: Number of customers | C9: 6
B10: Service type | C10: Transmission
B12: Table 1.2: Pipeline services provided
B14: Service description | C14: Provided to non related parties | D14: Provided to related parties
B15: Transportation services
B16: Firm forward haul transportation service | C16: Yes | D16: Yes
B17: Interruptible or as available transportation service | C17: Yes | D17: No
B18: Backhaul services | C18: No | D18: No
B19: Stand-alone compression services
B20: Firm stand-alone compression service | C20: No | D20: No
B21: Interruptible or as available stand-alone compression service | C21: No | D21: No
B22: Storage services
B23: Park services | C23: No | D23: No
B24: Park and loan services | C24: No | D24: No
B25: Trading services
B26: Capacity trading service | C26: No | D26: No
B27: In pipe trading service | C27: No | D27: No
B28: Other (please specify)
B29: other service (insert description)
B30: other service (insert description)
B31: other service (insert description)
B32: other service (insert description)
B33: other service (insert description)
B34: other service (insert description)
B35: other service (insert description)
B36: other service (insert description)

Sheet 1.1 Financial performance
B1: Financial performance measures
B2: =Tradingname -> APA OPERATIONS PTY LIMITED
B3: Reporting Period | C3: =TEXT(Yearstart,"dd/mm/yyyy")&" to "&TEXT(Yearending,"dd/mm/yyyy") -> 01/07/2020 to 30/06/2021
B5: Table 1.1.1: Return on assets
C7: Pipeline
B8: Earnings before interest and tax | C8: ='2. Revenues and expenses'!F43 -> 6494282.4
B9: Total assets | C9: ='3. Statement of pipeline assets'!$D$100 -> 73133478
B10: Return on assets | C10: =IFERROR(C8/C9,0) -> 0.088800403

Sheet 2. Revenues and expenses
B1: Statement of pipeline revenues and expenses
B2: =Tradingname -> APA OPERATIONS PTY LIMITED
B3: Reporting Period | C3: =TEXT(Yearstart,"dd/mm/yyyy")&" to "&TEXT(Yearending,"dd/mm/yyyy") -> 01/07/2020 to 30/06/2021
B5: Table 2.1: Statement of pipeline revenues and expenses
D7: Reporting period | G7: Previous reporting period
B8: Basis of Preparation reference | C8: Description | D8: Amounts excluding related party transactions | E8: Related party transactions | F8: Total | G8: Amounts excluding related party transactions | H8: Related party transactions | I8: Total
D9: $ nominal | E9: $ nominal | F9: $ nominal | G9: $ nominal | H9: $ nominal | I9: $ nominal
C10: Direct revenue
B11: 2.3.1 & 2.3.1.1 | C11: Total service revenue | D11: ='2.1 Revenue by service'!D21 -> 6571910.6 | E11: ='2.1 Revenue by service'!E21 -> 5422667 | F11: =SUM(D11:E11) -> 11994578 | G11: ='2.1 Revenue by service'!G21 -> 6263375.6 | H11: ='2.1 Revenue by service'!H21 -> 5334153.2 | I11: =SUM(G11:H11) -> 11597529
C12: Customer contribution revenue | D12: ='2.2 Revenue contributions '!C15 -> 0 | E12: ='2.2 Revenue contributions '!D15 -> 0 | F12: =SUM(D12:E12) -> 0 | I12: =SUM(G12:H12) -> 0
C13: Government contribution revenue | D13: ='2.2 Revenue contributions '!D27 -> 0 | F13: =SUM(D13:E13) -> 0 | I13: =SUM(G13:H13) -> 0
C14: Profit from sale of fixed assets | D14: 0 | E14: 0 | F14: =SUM(D14:E14) -> 0 | I14: =SUM(G14:H14) -> 0
B15: 2.3.1 | C15: Other direct revenue | D15: 0 | E15: 0 | F15: =SUM(D15:E15) -> 0 | I15: =SUM(G15:H15) -> 0
C16: Total direct revenue | D16: =SUM(D11:D15) -> 6571910.6 | E16: =SUM(E11:E15) -> 5422667 | F16: =SUM(D16:E16) -> 11994578 | G16: =SUM(G11:G15) -> 6263375.6 | H16: =SUM(H11:H15) -> 5334153.2 | I16: =SUM(I11:I15) -> 11597529
C17: Indirect revenue allocated
C18: Other revenue | D18: ='2.3 Indirect revenue'!G36 -> 0 | E18: ='2.3 Indirect revenue'!H36 -> 0 | F18: =SUM(D18:E18) -> 0 | I18: =SUM(G18:H18) -> 0
C19: Total indirect revenue allocated | D19: =SUM(D18:D18) -> 0 | E19: =SUM(E18:E18) -> 0 | F19: =SUM(F18:F18) -> 0 | G19: =SUM(G18:G18) -> 0 | H19: =SUM(H18:H18) -> 0 | I19: =SUM(I18:I18) -> 0
C20: Total revenue | D20: =D16+D19 -> 6571910.6 | E20: =E16+E19 -> 5422667 | F20: =F16+F19 -> 11994578 | G20: =G16+G19 -> 6263375.6 | H20: =H16+H19 -> 5334153.2 | I20: =I16+I19 -> 11597529
C21: Direct costs
B22: 2.3.2 | C22: Repairs and maintenance | D22: -2379.7072 | E22: -1963.5628 | F22: =SUM(D22:E22) -> -4343.27 | G22: -17663.093 | H22: -14996.237 | I22: =SUM(G22:H22) -> -32659.33
B23: 2.3.2 | C23: Wages | D23: -681987.76 | E23: -562727.14 | F23: =SUM(D23:E23) -> -1244714.9 | G23: -585095.99 | H23: -496755.48 | I23: =SUM(G23:H23) -> -1081851.5
B24: 2.3.2.1 | C24: Depreciation | D24: -762603.09 | E24: -629245.1 | F24: =SUM(D24:E24) -> -1391848.2 | G24: -690177.56 | H24: -585971.35 | I24: =SUM(G24:H24) -> -1276148.9
B25: 2.3.2 | C25: Insurance | D25: -17346.492 | E25: -14313.075 | F25: =SUM(D25:E25) -> -31659.567 | G25: -15049.819 | H25: -12777.528 | I25: =SUM(G25:H25) -> -27827.347
B26: 2.3.2 | C26: Licence and regulatory costs | D26: -2302.0195 | E26: -1899.4605 | F26: =SUM(D26:E26) -> -4201.48 | G26: -10552.644 | H26: -8959.3565 | I26: =SUM(G26:H26) -> -19512
B27: 2.3.2 | C27: Directly attributable finance charges | D27: -134.48833 | E27: -110.97007 | F27: =SUM(D27:E27) -> -245.4584 | G27: -343.60407 | H27: -291.72513 | I27: =SUM(G27:H27) -> -635.3292
B28: 2.3.2 | C28: Leasing and rental costs | D28: 0 | E28: 0 | F28: =SUM(D28:E28) -> 0 | G28: -4529.7082 | H28: -3845.7918 | I28: =SUM(G28:H28) -> -8375.5
B29: 2.3.2 | C29: Other direct costs | D29: -964840.55 | E29: -796116.87 | F29: =SUM(D29:E29) -> -1760957.4 | G29: -1355225 | H29: -1150606.8 | I29: =SUM(G29:H29) -> -2505831.8
C30: Total direct costs | D30: =SUM(D22:D29) -> -2431594.1 | E30: =SUM(E22:E29) -> -2006376.2 | F30: =SUM(F22:F29) -> -4437970.3 | G30: =SUM(G22:G29) -> -2678637.4 | H30: =SUM(H22:H29) -> -2274204.3 | I30: =SUM(I22:I29) -> -4952841.7
C31: Shared costs
C32: Employee costs | D32: =SUMIF('2.4 Shared costs'!$C$9:$C$35,'2. Revenues and expenses'!$C32,'2.4 Shared costs'!$H$9:$H$35) -> 0 | E32: =SUMIF('2.4 Shared costs'!$C$9:$C$35,'2. Revenues and expenses'!$C32,'2.4 Shared costs'!$I$9:$I$35) -> 0 | F32: =SUM(D32:E32) -> 0 | G32: 0 | H32: 0 | I32: =SUM(G32:H32) -> 0
C33: Information technology and communication costs | D33: =SUMIF('2.4 Shared costs'!$C$9:$C$35,'2. Revenues and expenses'!$C33,'2.4 Shared costs'!$H$9:$H$35) -> 0 | E33: =SUMIF('2.4 Shared costs'!$C$9:$C$35,'2. Revenues and expenses'!$C33,'2.4 Shared costs'!$I$9:$I$35) -> 0 | F33: =SUM(D33:E33) -> 0 | G33: 0 | H33: 0 | I33: =SUM(G33:H33) -> 0
C34: Indirect operating expenses | D34: =SUMIF('2.4 Shared costs'!$C$9:$C$35,'2. Revenues and expenses'!$C34,'2.4 Shared costs'!$H$9:$H$35) -> 0 | E34: =SUMIF('2.4 Shared costs'!$C$9:$C$35,'2. Revenues and expenses'!$C34,'2.4 Shared costs'!$I$9:$I$35) -> 0 | F34: =SUM(D34:E34) -> 0 | G34: 0 | H34: 0 | I34: =SUM(G34:H34) -> 0
B35: 2.3.2.1 | C35: Shared asset depreciation | D35: =SUMIF('2.4 Shared costs'!$C$9:$C$35,'2. Revenues and expenses'!$C35,'2.4 Shared costs'!$H$9:$H$35) -> -154120.15 | E35: =SUMIF('2.4 Shared costs'!$C$9:$C$35,'2. Revenues and expenses'!$C35,'2.4 Shared costs'!$I$9:$I$35) -> 0 | F35: =SUM(D35:E35) -> -154120.15 | G35: -108494.73 | H35: 0 | I35: =SUM(G35:H35) -> -108494.73
C36: Rental and leasing costs | D36: =SUMIF('2.4 Shared costs'!$C$9:$C$35,'2. Revenues and expenses'!$C36,'2.4 Shared costs'!$H$9:$H$35) -> 0 | E36: =SUMIF('2.4 Shared costs'!$C$9:$C$35,'2. Revenues and expenses'!$C36,'2.4 Shared costs'!$I$9:$I$35) -> 0 | F36: =SUM(D36:E36) -> 0 | G36: 0 | H36: 0 | I36: =SUM(G36:H36) -> 0
C37: Borrowing costs | D37: =SUMIF('2.4 Shared costs'!$C$9:$C$35,'2. Revenues and expenses'!$C37,'2.4 Shared costs'!$H$9:$H$35) -> 0 | E37: =SUMIF('2.4 Shared costs'!$C$9:$C$35,'2. Revenues and expenses'!$C37,'2.4 Shared costs'!$I$9:$I$35) -> 0 | F37: =SUM(D37:E37) -> 0 | G37: 0 | H37: 0 | I37: =SUM(G37:H37) -> 0
C38: Loss from sale of shared fixed assets | D38: =SUMIF('2.4 Shared costs'!$C$9:$C$35,'2. Revenues and expenses'!$C38,'2.4 Shared costs'!$H$9:$H$35) -> 0 | E38: =SUMIF('2.4 Shared costs'!$C$9:$C$35,'2. Revenues and expenses'!$C38,'2.4 Shared costs'!$I$9:$I$35) -> 0 | F38: =SUM(D38:E38) -> 0 | G38: 0 | H38: 0 | I38: =SUM(G38:H38) -> 0
B39: 2.4.4 | C39: Impairment losses (nature of the impairment loss) | D39: =SUMIF('2.4 Shared costs'!$C$9:$C$35,'2. Revenues and expenses'!$C39,'2.4 Shared costs'!$H$9:$H$35) -> 0 | E39: =SUMIF('2.4 Shared costs'!$C$9:$C$35,'2. Revenues and expenses'!$C39,'2.4 Shared costs'!$I$9:$I$35) -> 0 | F39: =SUM(D39:E39) -> 0 | G39: 0 | H39: 0 | I39: =SUM(G39:H39) -> 0
B40: 2.3.2.2 | C40: Other shared costs | D40: =SUMIF('2.4 Shared costs'!$C$9:$C$35,'2. Revenues and expenses'!$C40,'2.4 Shared costs'!$H$9:$H$35) -> -908204.76 | E40: =SUMIF('2.4 Shared costs'!$C$9:$C$35,'2. Revenues and expenses'!$C40,'2.4 Shared costs'!$I$9:$I$35) -> 0 | F40: =SUM(D40:E40) -> -908204.76 | G40: -592332.89 | H40: 0 | I40: =SUM(G40:H40) -> -592332.89
C41: Total shared costs allocated | D41: =SUM(D32:D40) -> -1062324.9 | E41: =SUM(E32:E40) -> 0 | F41: =SUM(F32:F40) -> -1062324.9 | G41: -700827.62 | H41: 0 | I41: =SUM(I32:I40) -> -700827.62
C42: Total costs | D42: =D30+D41 -> -3493919 | E42: =E30+E41 -> -2006376.2 | F42: =F30+F41 -> -5500295.2 | G42: -3379465 | H42: -2274204.3 | I42: =I30+I41 -> -5653669.3
...

Sheet 2.1 Revenue by service
B1: Revenue by service
B2: =Tradingname -> APA OPERATIONS PTY LIMITED
B3: Reporting Period | C3: =TEXT(Yearstart,"dd/mm/yyyy")&" to "&TEXT(Yearending,"dd/mm/yyyy") -> 01/07/2020 to 30/06/2021
B5: Table 2.1.1: Revenue by service
D7: Reporting period | G7: Previous reporting period
B8: Basis of Preparation reference | C8: Description | D8: Amounts excluding related party transactions | E8: Related party transactions | F8: Total | G8: Amounts excluding related party transactions | H8: Related party transactions | I8: Total
D9: $ nominal | E9: $ nominal | F9: $ nominal | G9: $ nominal | H9: $ nominal | I9: $ nominal
C10: Revenue by service
B11: 2.3.1 & 2.3.1.1 | C11: Firm forward haul transportation services | D11: 6330131.7 | E11: 5259986.9 | F11: =SUM(D11:E11) -> 11590119 | G11: 6033976.7 | H11: 5171028 | I11: =SUM(G11:H11) -> 11205005
B12: 2.3.1 | C12: Interruptible or as available transportation services | D12: 226089.96 | E12: 0 | F12: =SUM(D12:E12) -> 226089.96 | G12: 147529.06 | H12: 0 | I12: =SUM(G12:H12) -> 147529.06
B13: 2.3.1 | C13: Backhaul services | D13: 0 | E13: 0 | F13: =SUM(D13:E13) -> 0 | G13: 0 | H13: 0 | I13: =SUM(G13:H13) -> 0
B14: 2.3.1 | C14: Firm stand-alone compression service | D14: 0 | E14: 0 | F14: =SUM(D14:E14) -> 0 | G14: 0 | H14: 0 | I14: =SUM(G14:H14) -> 0
B15: 2.3.1 | C15: Interruptible or as available stand-alone compression service | D15: 0 | E15: 0 | F15: =SUM(D15:E15) -> 0 | G15: 0 | H15: 0 | I15: =SUM(G15:H15) -> 0
B16: 2.3.1 | C16: Park services | D16: 0 | E16: 0 | F16: =SUM(D16:E16) -> 0 | G16: 0 | H16: 0 | I16: =SUM(G16:H16) -> 0
B17: 2.3.1 | C17: Park and loan services | D17: 0 | E17: 0 | F17: =SUM(D17:E17) -> 0 | G17: 0 | H17: 0 | I17: =SUM(G17:H17) -> 0
B18: 2.3.1 | C18: Capacity trading service | D18: 0 | E18: 0 | F18: =SUM(D18:E18) -> 0 | G18: 0 | H18: 0 | I18: =SUM(G18:H18) -> 0
B19: 2.3.1 | C19: In pipe trading service | D19: 0 | E19: 0 | F19: =SUM(D19:E19) -> 0 | G19: 0 | H19: 0 | I19: =SUM(G19:H19) -> 0
B20: 2.3.1 | C20: Other pipeline revenue (if relevant) | D20: 15688.96 | E20: 162680.01 | F20: =SUM(D20:E20) -> 178368.97 | G20: 81869.86 | H20: 163125.19 | I20: =SUM(G20:H20) -> 244995.05
C21: Total service revenue | D21: =SUM(D11:D20) -> 6571910.6 | E21: =SUM(E11:E20) -> 5422667 | F21: =SUM(F11:F20) -> 11994578 | G21: =SUM(G11:G20) -> 6263375.6 | H21: =SUM(H11:H20) -> 5334153.2 | I21: =SUM(I11:I20) -> 11597529

Sheet 2.2 Revenue contributions 
B1: Revenue - contributions
B2: =Tradingname -> APA OPERATIONS PTY LIMITED
B3: Reporting Period | C3: =TEXT(Yearstart,"dd/mm/yyyy")&" to "&TEXT(Yearending,"dd/mm/yyyy") -> 01/07/2020 to 30/06/2021
B5: Table 2.2.1: Customer contributions received
B7: Description | C7: Amounts excluding related party transactions | D7: Related party transactions | E7: Total
C8: $ nominal | D8: $ nominal | E8: $ nominal
B9: Customer Contributions | C9: 0 | D9: 0 | E9: =SUM(C9:D9) -> 0
E10: =SUM(C10:D10) -> 0
E11: =SUM(C11:D11) -> 0
E12: =SUM(C12:D12) -> 0
E13: =SUM(C13:D13) -> 0
E14: =SUM(C14:D14) -> 0
B15: Total | C15: =SUM(C9:C14) -> 0 | D15: =SUM(D9:D14) -> 0 | E15: =SUM(E9:E14) -> 0
B17: Table 2.2.2: Government contributions received
B19: Source | C19: Description | D19: Total
D20: $ nominal
B27: Total | D27: =SUM(D21:D26) -> 0

Sheet 2.3 Indirect revenue
B1: Indirect revenue
B2: =Tradingname -> APA OPERATIONS PTY LIMITED | E2: Please ensure allocation methodologies are explained in sufficient detail in the Basis of Preparation as required under section 3.2.4 of the Guideline
B3: Reporting Period | C3: =TEXT(Yearstart,"dd/mm/yyyy")&" to "&TEXT(Yearending,"dd/mm/yyyy") -> 01/07/2020 to 30/06/2021
B5: Table 2.3.1: Indirect revenue allocation
B7: Basis of Preparation reference | C7: Description | D7: Indirect revenue excluding related parties | E7: Indirect revenue from related parties | F7: % allocated to pipeline | G7: Total allocated to pipeline excluding related parties | H7: Total related party amounts allocated to pipeline
C8: (list each individual revenue item) | D8: $ nominal | E8: $ nominal | G8: $ nominal | H8: $ nominal
G9: =D9*F9 -> 0 | H9: =E9*F9 -> 0
G10: =D10*F10 -> 0 | H10: =E10*F10 -> 0
G11: =D11*F11 -> 0 | H11: =E11*F11 -> 0
G12: =D12*F12 -> 0 | H12: =E12*F12 -> 0
G13: =D13*F13 -> 0 | H13: =E13*F13 -> 0
G14: =D14*F14 -> 0 | H14: =E14*F14 -> 0
G15: =D15*F15 -> 0 | H15: =E15*F15 -> 0
G16: =D16*F16 -> 0 | H16: =E16*F16 -> 0
G17: =D17*F17 -> 0 | H17: =E17*F17 -> 0
G18: =D18*F18 -> 0 | H18: =E18*F18 -> 0
G19: =D19*F19 -> 0 | H19: =E19*F19 -> 0
G20: =D20*F20 -> 0 | H20: =E20*F20 -> 0
... G35: =D35*F35 -> 0 | H35: =E35*F35 -> 0
C36: Total | D36: =SUM(D9:D35) -> 0 | E36: =SUM(E9:E35) -> 0 | G36: =SUM(G9:G35) -> 0 | H36: =SUM(H9:H35) -> 0

Sheet 2.4 Shared costs
B1: Shared costs
B2: =Tradingname -> APA OPERATIONS PTY LIMITED | E2: Please ensure allocation methodologies are explained in sufficient detail in the Basis of Preparation as required under section 3.2.4 of the Guideline
B3: Reporting Period | C3: =TEXT(Yearstart,"dd/mm/yyyy")&" to "&TEXT(Yearending,"dd/mm/yyyy") -> 01/07/2020 to 30/06/2021
B5: Table 2.4.1: Shared cost allocation
B7: Basis of Preparation reference | C7: Description | D7: Income statement account applied to | E7: Shared costs excluding related parties | F7: Shared costs paid to related parties | G7: % allocated to pipeline | H7: Total allocated to pipeline excluding related parties | I7: Total related party amounts allocated to pipeline
C8: (list each individual cost) | E8: $ nominal | F8: $ nominal | H8: $ nominal | I8: $ nominal
C9: Employee costs | H9: =E9*G9 -> 0 | I9: =F9*G9 -> 0
C10: Information technology and communication costs | H10: =E10*G10 -> 0 | I10: =F10*G10 -> 0
C11: Indirect operating expenses | H11: =E11*G11 -> 0 | I11: =F11*G11 -> 0
B12: 2.3.2.1 | C12: Shared asset depreciation | E12: -30443326 | G12: 0.0050625266 | H12: =E12*G12 -> -154120.15 | I12: =F12*G12 -> 0
C13: Rental and leasing costs | H13: =E13*G13 -> 0 | I13: =F13*G13 -> 0
C14: Borrowing costs | H14: =E14*G14 -> 0 | I14: =F14*G14 -> 0
C15: Loss from sale of shared fixed assets | H15: =E15*G15 -> 0 | I15: =F15*G15 -> 0
C16: Impairment losses (nature of the impairment loss) | H16: =E16*G16 -> 0 | I16: =F16*G16 -> 0
C17: Other shared costs | E17: =SUM(E18:E35) -> -1.0740645e+08 | F17: =SUM(F18:F35) -> 0 | H17: =SUM(H18:H35) -> -908204.76 | I17: =SUM(I18:I35) -> 0
B18: 2.3.2.2 | C18: Corporate operating expenditure | E18: -98942992 | G18: 0.0084557749 | H18: =E18*G18 -> -836639.67 | I18: =F18*G18 -> 0
B19: 2.3.2.2 | C19: Shared leased interest | E19: -896322.44 | G19: =G18 -> 0.0084557749 | H19: =E19*G19 -> -7579.1008 | I19: =F19*G19 -> 0
B20: 2.3.2.1 | C20: Shared leased asset depreciation | E20: -7567134.2 | G20: =G19 -> 0.0084557749 | H20: =E20*G20 -> -63985.984 | I20: =F20*G20 -> 0
H21: =E21*G21 -> 0 | I21: =F21*G21 -> 0
H22: =E22*G22 -> 0 | I22: =F22*G22 -> 0
H23: =E23*G23 -> 0 | I23: =F23*G23 -> 0
H24: =E24*G24 -> 0 | I24: =F24*G24 -> 0
H25: =E25*G25 -> 0 | I25: =F25*G25 -> 0
H26: =E26*G26 -> 0 | I26: =F26*G26 -> 0
H27: =E27*G27 -> 0 | I27: =F27*G27 -> 0
H28: =E28*G28 -> 0 | I28: =F28*G28 -> 0
H29: =E29*G29 -> 0 | I29: =F29*G29 -> 0
H30: =E30*G30 -> 0 | I30: =F30*G30 -> 0
H31: =E31*G31 -> 0 | I31: =F31*G31 -> 0
H32: =E32*G32 -> 0 | I32: =F32*G32 -> 0
... H35: =E35*G35 -> 0 | I35: =F35*G35 -> 0
C36: Total | E36: =SUM(E9:E17) -> -1.3784977e+08 | F36: =SUM(F9:F17) -> 0 | H36: =SUM(H9:H17) -> -1062324.9 | I36: =SUM(I9:I17) -> 0

Sheet 3. Statement of pipeline assets
B1: Statement of pipeline assets
B2: =Tradingname -> APA OPERATIONS PTY LIMITED
B3: Reporting Period | C3: =TEXT(Yearstart,"dd/mm/yyyy")&" to "&TEXT(Yearending,"dd/mm/yyyy") -> 01/07/2020 to 30/06/2021
B5: Table 3.1: Pipeline assets
B7: Basis of Preparation reference | C7: Description | D7: Reporting period | E7: Previous reporting period
C8: Pipeline Assets
C9: Pipelines | D9: $ nominal | E9: $ nominal
B10: 2.4 | C10: Initial construction or acquisition costs | D10: =SUMIF('3.3 Depreciation amortisation'!$D$9:$D$52,'3. Statement of pipeline assets'!C9,'3.3 Depreciation amortisation'!$H$9:$H$52) -> 14964796 | E10: 14964796
B11: 2.4 | C11: Additions | D11: =SUMIF('3.3 Depreciation amortisation'!$D$9:$D$52,'3. Statement of pipeline assets'!C9,'3.3 Depreciation amortisation'!$I$9:$I$52) -> 16484785 | E11: 85583.53
B12: 2.4 | C12: Capitalised maintenance or improvements | D12: =SUMIF('3.3 Depreciation amortisation'!$D$9:$D$52,'3. Statement of pipeline assets'!C9,'3.3 Depreciation amortisation'!$J$9:$J$52) -> 214771.52 | E12: 214771.52
C13: Total capitalised pipeline construction costs | D13: =SUM(D10:D12) -> 31664352 | E13: =SUM(E10:E12) -> 15265151
B14: 2.4 | C14: Depreciation | D14: =SUMIF('3.3 Depreciation amortisation'!$D$9:$D$52,'3. Statement of pipeline assets'!C9,'3.3 Depreciation amortisation'!$M$9:$M$52)+SUMIF('3.3 Depreciation amortisation'!$D$9:$D$52,'3. Statement of pipeline assets'!C9,'3.3 Depreciation amortisation'!$N$9:$N$52) -> -2756233.3 | E14: -2461244.5
B15: 2.4 | C15: Disposals or early termination (at cost) | D15: =SUMIF('3.3 Depreciation amortisation'!$D$9:$D$52,'3. Statement of pipeline assets'!C9,'3.3 Depreciation amortisation'!$K$9:$K$52) -> 0 | E15: 0
C16: Closing pipeline carrying value | D16: =SUM(D13:D15) -> 28908119 | E16: =SUM(E13:E15) -> 12803906
C17: Compressors
B18: 2.4 | C18: Initial construction or acquisition costs | D18: =SUMIF('3.3 Depreciation amortisation'!$D$9:$D$52,'3. Statement of pipeline assets'!C17,'3.3 Depreciation amortisation'!$H$9:$H$52) -> 0 | E18: 0
B19: 2.4 | C19: Additions | D19: =SUMIF('3.3 Depreciation amortisation'!$D$9:$D$52,'3. Statement of pipeline assets'!C17,'3.3 Depreciation amortisation'!$I$9:$I$52) -> 33610379 | E19: 33610379
B20: 2.4 | C20: Capitalised maintenance or improvements | D20: =SUMIF('3.3 Depreciation amortisation'!$D$9:$D$52,'3. Statement of pipeline assets'!C17,'3.3 Depreciation amortisation'!$J$9:$J$52) -> 0 | E20: 0
B21: 2.4 | C21: Depreciation | D21: =SUMIF('3.3 Depreciation amortisation'!$D$9:$D$52,'3. Statement of pipeline assets'!C17,'3.3 Depreciation amortisation'!$M$9:$M$52)+SUMIF('3.3 Depreciation amortisation'!$D$9:$D$52,'3. Statement of pipeline assets'!C17,'3.3 Depreciation amortisation'!$N$9:$N$52) -> -2576999 | E21: -1617359.8
B22: 2.4 | C22: Disposal or early termination (at cost) | D22: =SUMIF('3.3 Depreciation amortisation'!$D$9:$D$52,'3. Statement of pipeline assets'!C17,'3.3 Depreciation amortisation'!$K$9:$K$52) -> 0 | E22: 0
C23: Closing compressors carrying value | D23: =SUM(D18:D22) -> 31033380 | E23: =SUM(E18:E22) -> 31993019
C24: City Gates, supply regulators and valve stations
B25: 2.4 | C25: Initial construction or acquisition costs | D25: =SUMIF('3.3 Depreciation amortisation'!$D$9:$D$52,'3. Statement of pipeline assets'!C24,'3.3 Depreciation amortisation'!$H$9:$H$52) -> 0 | E25: 0
B26: 2.4 | C26: Additions | D26: =SUMIF('3.3 Depreciation amortisation'!$D$9:$D$52,'3. Statement of pipeline assets'!C24,'3.3 Depreciation amortisation'!$I$9:$I$52) -> 3099080.7 | E26: 3099080.7
B27: 2.4 | C27: Capitalised maintenance or improvements | D27: =SUMIF('3.3 Depreciation amortisation'!$D$9:$D$52,'3. Statement of pipeline assets'!C24,'3.3 Depreciation amortisation'!$J$9:$J$52) -> 0 | E27: 0
B28: 2.4 | C28: Depreciation | D28: =SUMIF('3.3 Depreciation amortisation'!$D$9:$D$52,'3. Statement of pipeline assets'!C24,'3.3 Depreciation amortisation'!$M$9:$M$52)+SUMIF('3.3 Depreciation amortisation'!$D$9:$D$52,'3. Statement of pipeline assets'!C24,'3.3 Depreciation amortisation'!$N$9:$N$52) -> -103656.28 | E28: -41717.089
B29: 2.4 | C29: Disposal or early termination (at cost) | D29: =SUMIF('3.3 Depreciation amortisation'!$D$9:$D$52,'3. Statement of pipeline assets'!C24,'3.3 Depreciation amortisation'!$K$9:$K$52) -> 0 | E29: 0
C30: Closing city gates, supply regulators and valve stations carrying value | D30: =SUM(D25:D29) -> 2995424.4 | E30: =SUM(E25:E29) -> 3057363.6
C31: Metering
B32: 2.4 | C32: Initial construction or acquisition costs | D32: =SUMIF('3.3 Depreciation amortisation'!$D$9:$D$52,'3. Statement of pipeline assets'!C31,'3.3 Depreciation amortisation'!$H$9:$H$52) -> 0 | E32: 0
B33: 2.4 | C33: Additions | D33: =SUMIF('3.3 Depreciation amortisation'!$D$9:$D$52,'3. Statement of pipeline assets'!C31,'3.3 Depreciation amortisation'!$I$9:$I$52) -> 1200317.1 | E33: 1200317.1
B34: 2.4 | C34: Capitalised maintenance or improvements | D34: =SUMIF('3.3 Depreciation amortisation'!$D$9:$D$52,'3. Statement of pipeline assets'!C31,'3.3 Depreciation amortisation'!$J$9:$J$52) -> 0 | E34: 0
B35: 2.4 | C35: Depreciation | D35: =SUMIF('3.3 Depreciation amortisation'!$D$9:$D$52,'3. Statement of pipeline assets'!C31,'3.3 Depreciation amortisation'!$M$9:$M$52)+SUMIF('3.3 Depreciation amortisation'!$D$9:$D$52,'3. Statement of pipeline assets'!C31,'3.3 Depreciation amortisation'!$N$9:$N$52) -> -103036.64 | E35: -79046.734
B36: 2.4 | C36: Disposal or early termination (at cost) | D36: =SUMIF('3.3 Depreciation amortisation'!$D$9:$D$52,'3. Statement of pipeline assets'!C31,'3.3 Depreciation amortisation'!$K$9:$K$52) -> 0 | E36: 0
C37: Closing Metering | D37: =SUM(D32:D36) -> 1097280.4 | E37: =SUM(E32:E36) -> 1121270.4
C38: Odorant plants
B39: 2.4 | C39: Initial construction or acquisition costs | D39: =SUMIF('3.3 Depreciation amortisation'!$D$9:$D$52,'3. Statement of pipeline assets'!C38,'3.3 Depreciation amortisation'!$H$9:$H$52) -> 0 | E39: 0
B40: 2.4 | C40: Additions | D40: =SUMIF('3.3 Depreciation amortisation'!$D$9:$D$52,'3. Statement of pipeline assets'!C38,'3.3 Depreciation amortisation'!$I$9:$I$52) -> 0 | E40: 0
B41: 2.4 | C41: Capitalised maintenance or improvements | D41: =SUMIF('3.3 Depreciation amortisation'!$D$9:$D$52,'3. Statement of pipeline assets'!C38,'3.3 Depreciation amortisation'!$J$9:$J$52) -> 0 | E41: 0
B42: 2.4 | C42: Depreciation | D42: =SUMIF('3.3 Depreciation amortisation'!$D$9:$D$52,'3. Statement of pipeline assets'!C38,'3.3 Depreciation amortisation'!$M$9:$M$52)+SUMIF('3.3 Depreciation amortisation'!$D$9:$D$52,'3. Statement of pipeline assets'!C38,'3.3 Depreciation amortisation'!$N$9:$N$52) -> 0 | E42: 0
...

Sheet 3.1 Asset useful life
B1: Asset useful life
B2: =Tradingname -> APA OPERATIONS PTY LIMITED
B3: Reporting Period | C3: =TEXT(Yearstart,"dd/mm/yyyy")&" to "&TEXT(Yearending,"dd/mm/yyyy") -> 01/07/2020 to 30/06/2021
B5: Table 3.1.1: Asset useful life
B7: Basis of Preparation reference | C7: Description (list each individual balance sheet item) | D7: Acquisition date | E7: Useful life | F7: Reason for choosing this useful life
E8: years
B9: 2.4 | C9: ='3. Statement of pipeline assets'!C9 -> Pipelines | D9: =CONCATENATE("2/7/2007"," to ",TEXT(Yearending,"d/m/yyyy")) -> 2/7/2007 to 30/6/2021 | E9: 80 | F9: Per Appendix A - Pipeline asset lives
B10: 2.4 | C10: ='3. Statement of pipeline assets'!C17 -> Compressors | D10: =CONCATENATE("24/10/2018"," to ",TEXT(Yearending,"d/m/yyyy")) -> 24/10/2018 to 30/6/2021 | E10: 35 | F10: Per Appendix A - Pipeline asset lives
B11: 2.4 | C11: ='3. Statement of pipeline assets'!C24 -> City Gates, supply regulators and valve stations | D11: =CONCATENATE("1/6/2017"," to ",TEXT(Yearending,"d/m/yyyy")) -> 1/6/2017 to 30/6/2021 | E11: 50 | F11: Per Appendix A - Pipeline asset lives
B12: 2.4 | C12: ='3. Statement of pipeline assets'!C31 -> Metering | D12: =CONCATENATE("1/2/2015"," to ",TEXT(Yearending,"d/m/yyyy")) -> 1/2/2015 to 30/6/2021 | E12: 50 | F12: Per Appendix A - Pipeline asset lives
B13: 2.4 | C13: ='3. Statement of pipeline assets'!C38 -> Odorant plants | E13: 80 | F13: Per Appendix A - Pipeline asset lives
B14: 2.4 | C14: ='3. Statement of pipeline assets'!C45 -> SCADA (Communications) | D14: =CONCATENATE("31/8/2019"," to ",TEXT(Yearending,"d/m/yyyy")) -> 31/8/2019 to 30/6/2021 | E14: 15 | F14: Per Appendix A - Pipeline asset lives
B15: 2.4 | C15: ='3. Statement of pipeline assets'!C52 -> Buildings | D15: =CONCATENATE("31/8/2019"," to ",TEXT(Yearending,"d/m/yyyy")) -> 31/8/2019 to 30/6/2021 | E15: 80 | F15: Per Appendix A - Pipeline asset lives
B16: 2.4 | C16: ='3. Statement of pipeline assets'!C65 -> Other depreciable pipeline assets | D16: =CONCATENATE("24/10/2018"," to ",TEXT(Yearending,"d/m/yyyy")) -> 24/10/2018 to 30/6/2021 | E16: 5-80 | F16: Per Appendix A - Pipeline asset lives
B17: 2.4 | C17: Land and easements | E17: N/A | F17: Indefinite
C18: insert asset description
C19: insert asset description
C20: insert asset description
B21: 2.4.6 | C21: ='3. Statement of pipeline assets'!C72 -> Leased Assets | D21: =CONCATENATE("1/7/2019"," to ",TEXT(Yearending,"d/m/yyyy")) -> 1/7/2019 to 30/6/2021 | E21: Various | F21: Per leased asset life
C22: insert asset description
C23: insert asset description
C24: insert asset description
C25: insert asset description
C26: insert asset description
B27: 2.4 | C27: ='3. Statement of pipeline assets'!C82 -> Shared property, plant and equipment | D27: =CONCATENATE("1/12/2015"," to ",TEXT(Yearending,"d/m/yyyy")) -> 1/12/2015 to 30/6/2021 | E27: 5 | F27: Per Appendix A - Pipeline asset lives
C28: insert asset description
C29: insert asset description
C30: insert asset description
C31: insert asset description
C32: insert asset description
B33: 2.4.5 | C33: ='3. Statement of pipeline assets'!C89 -> Shared leased assets | D33: =CONCATENATE("1/7/2019"," to ",TEXT(Yearending,"d/m/yyyy")) -> 1/7/2019 to 30/6/2021 | E33: Various | F33: Per leased asset life
C34: insert asset description
C35: insert asset description
C36: insert asset description
C37: insert asset description
C38: insert asset description

Sheet 3.2 Asset impairment
B1: Asset impairment
B2: =Tradingname -> APA OPERATIONS PTY LIMITED
B3: Reporting Period | C3: =TEXT(Yearstart,"dd/mm/yyyy")&" to "&TEXT(Yearending,"dd/mm/yyyy") -> 01/07/2020 to 30/06/2021
B5: Table 3.2.1: Assets impaired
B7: Asset description | C7: Impairment amount $ nominal | D7: Impairment date | E7: Basis for impairment
B25: Table 3.2.2: Asset impairment reversals
B27: Asset description | C27: Prior Impairment amount $ nominal | D27: Impairment date | E27: Basis for impairment | F27: Reversal amount $nominal | G27: Reversal date | H27: Basis for Reversal

Sheet 3.3 Depreciation amortisation
B1: Depreciation and amortisation
B2: =Tradingname -> APA OPERATIONS PTY LIMITED
B3: Reporting Period | C3: =TEXT(Yearstart,"dd/mm/yyyy")&" to "&TEXT(Yearending,"dd/mm/yyyy") -> 01/07/2020 to 30/06/2021
B5: Table 3.3.1: Pipeline assets at cost | I5: Additions, capitalised maintenance and disposals must be reported on a cumulative basis
B7: Basis of Preparation reference | C7: Description | D7: Category | E7: Acquisition date | F7: Useful life | G7: Estimated residual value | H7: Initial construction or acquisition cost | I7: Additions | J7: Capitalised maintenance or improvements | K7: Disposals or Early termination | L7: Cost base | M7: Prior years' accumulated depreciation | N7: Current year depreciation | O7: Written down value
F8: Years | G8: $ nominal | H8: $ nominal | I8: $ nominal | J8: $ nominal | K8: $ nominal | L8: $ nominal | M8: $ nominal | N8: $ nominal | O8: $ nominal
B9: 2.4 | D9: Pipelines | E9: ='3.1 Asset useful life'!D9 -> 2/7/2007 to 30/6/2021 | F9: 80 | G9: 0 | H9: 14964796 | I9: 16484785 | J9: 214771.52 | K9: 0 | L9: =SUM(H9:K9) -> 31664352 | M9: -2461244.5 | N9: -294988.84 | O9: =SUM(L9:N9) -> 28908119
B10: 2.4 | D10: Compressors | E10: ='3.1 Asset useful life'!D10 -> 24/10/2018 to 30/6/2021 | F10: 35 | G10: 0 | H10: 0 | I10: 33610379 | J10: 0 | K10: 0 | L10: =SUM(H10:K10) -> 33610379 | M10: -1617359.8 | N10: -959639.25 | O10: =SUM(L10:N10) -> 31033380
B11: 2.4 | D11: City Gates, supply regulators and valve stations | E11: ='3.1 Asset useful life'!D11 -> 1/6/2017 to 30/6/2021 | F11: 50 | G11: 0 | H11: 0 | I11: 3099080.7 | J11: 0 | K11: 0 | L11: =SUM(H11:K11) -> 3099080.7 | M11: -41717.089 | N11: -61939.189 | O11: =SUM(L11:N11) -> 2995424.4
B12: 2.4 | D12: Metering | E12: ='3.1 Asset useful life'!D12 -> 1/2/2015 to 30/6/2021 | F12: 50 | G12: 0 | H12: 0 | I12: 1200317.1 | J12: 0 | K12: 0 | L12: =SUM(H12:K12) -> 1200317.1 | M12: -79046.734 | N12: -23989.91 | O12: =SUM(L12:N12) -> 1097280.4
B13: 2.4 | D13: Odorant plants | F13: 80 | G13: 0 | H13: 0 | I13: 0 | J13: 0 | K13: 0 | L13: =SUM(H13:K13) -> 0 | M13: 0 | N13: 0 | O13: =SUM(L13:N13) -> 0
B14: 2.4 | D14: SCADA (Communications) | E14: ='3.1 Asset useful life'!D14 -> 31/8/2019 to 30/6/2021 | F14: 15 | G14: 0 | H14: 0 | I14: 46432.05 | J14: 0 | K14: 0 | L14: =SUM(H14:K14) -> 46432.05 | M14: -1864.4144 | N14: -2955.3882 | O14: =SUM(L14:N14) -> 41612.247
B15: 2.4 | D15: Buildings | E15: ='3.1 Asset useful life'!D15 -> 31/8/2019 to 30/6/2021 | F15: 80 | G15: 0 | H15: 0 | I15: 442589.71 | J15: 0 | K15: 0 | L15: =SUM(H15:K15) -> 442589.71 | M15: -3665.5274 | N15: -5528.5847 | O15: =SUM(L15:N15) -> 433395.6
B16: 2.4 | D16: Other depreciable pipeline assets | E16: ='3.1 Asset useful life'!D16 -> 24/10/2018 to 30/6/2021 | F16: 5-80 | G16: 0 | H16: 0 | I16: 1022067.9 | J16: 0 | K16: 0 | L16: =SUM(H16:K16) -> 1022067.9 | M16: -25291.004 | N16: -29236.65 | O16: =SUM(L16:N16) -> 967540.27
B17: 2.4 | D17: Land and easements | F17: N/A | G17: 0 | H17: 0 | I17: 0 | J17: 0 | K17: 0 | L17: =SUM(H17:K17) -> 0 | M17: 0 | N17: 0 | O17: =SUM(L17:N17) -> 0
B18: 2.4.6 | D18: Leased assets | E18: ='3.1 Asset useful life'!D21 -> 1/7/2019 to 30/6/2021 | F18: Various | G18: 0 | H18: 30992.144 | I18: -1135.0856 | J18: 0 | K18: 0 | L18: =SUM(H18:K18) -> 29857.058 | M18: -14304.101 | N18: -13570.388 | O18: =SUM(L18:N18) -> 1982.5696
L19: =SUM(H19:K19) -> 0 | O19: =SUM(L19:N19) -> 0
L20: =SUM(H20:K20) -> 0 | O20: =SUM(L20:N20) -> 0
L21: =SUM(H21:K21) -> 0 | O21: =SUM(L21:N21) -> 0
L22: =SUM(H22:K22) -> 0 | O22: =SUM(L22:N22) -> 0
L23: =SUM(H23:K23) -> 0 | O23: =SUM(L23:N23) -> 0
L24: =SUM(H24:K24) -> 0 | O24: =SUM(L24:N24) -> 0
L25: =SUM(H25:K25) -> 0 | O25: =SUM(L25:N25) -> 0
L26: =SUM(H26:K26) -> 0 | O26: =SUM(L26:N26) -> 0
L27: =SUM(H27:K27) -> 0 | O27: =SUM(L27:N27) -> 0
L28: =SUM(H28:K28) -> 0 | O28: =SUM(L28:N28) -> 0
L29: =SUM(H29:K29) -> 0 | O29: =SUM(L29:N29) -> 0
L30: =SUM(H30:K30) -> 0 | O30: =SUM(L30:N30) -> 0
... L52: =SUM(H52:K52) -> 0 | O52: =SUM(L52:N52) -> 0
D53: Total pipeline assets | G53: =SUM(G9:G52) -> 0 | H53: =SUM(H9:H52) -> 14995788 | I53: =SUM(I9:I52) -> 55904516 | J53: =SUM(J9:J52) -> 214771.52 | K53: =SUM(K9:K52) -> 0 | L53: =SUM(L9:L52) -> 71115075 | M53: =SUM(M9:M52) -> -4244493.1 | N53: =SUM(N9:N52) -> -1391848.2 | O53: =SUM(O9:O52) -> 65478734
B56: Table 3.3.2: Shared assets at cost
B58: Basis of Preparation reference | C58: Description | D58: Category | E58: Acquisition date | F58: Useful life | G58: Initial construction or acquisition cost | H58: Additions | I58: Capitalised maintenance or improvements | J58: Disposals or Early termination | K58: Cost base | L58: Prior years' accumulated depreciation | M58: Current year depreciation | N58: Written down value
F59: Years | G59: $ nominal | H59: $ nominal | I59: $ nominal | J59: $ nominal | K59: $ nominal | L59: $ nominal | M59: $ nominal | N59: $ nominal
B60: 2.4.5 | C60: Information Technology | D60: Shared property, plant and equipment | E60: During FY08 | F60: ='3.1 Asset useful life'!$E$27 -> 5 | G60: 32272.299 | H60: 0 | I60: 0 | J60: -997.40481 | K60: =SUM(G60:J60) -> 31274.894 | L60: -31274.894 | M60: =IF(SUM(K60:L60)>0,-K60/F60,0) -> 0 | N60: =SUM(K60:M60) -> 0
B61: 2.4.5 | C61: Information Technology | D61: Shared property, plant and equipment | E61: During FY09 | F61: ='3.1 Asset useful life'!$E$27 -> 5 | G61: 1920.6654 | H61: 0 | I61: 0 | J61: -391.21744 | K61: =SUM(G61:J61) -> 1529.4479 | L61: -1529.4479 | M61: =IF(SUM(K61:L61)>0,-K61/F61,0) -> 0 | N61: =SUM(K61:M61) -> 0
B62: 2.4.5 | C62: Information Technology | D62: Shared property, plant and equipment | E62: During FY10 | F62: ='3.1 Asset useful life'!$E$27 -> 5 | G62: 1287.8075 | H62: 0 | I62: 0 | J62: -147.37794 | K62: =SUM(G62:J62) -> 1140.4296 | L62: -1140.4296 | M62: =IF(SUM(K62:L62)>0,-K62/F62,0) -> 0 | N62: =SUM(K62:M62) -> 0
B63: 2.4.5 | C63: Information Technology | D63: Shared property, plant and equipment | E63: During FY11 | F63: ='3.1 Asset useful life'!$E$27 -> 5 | G63: 53331.816 | H63: 0 | I63: 0 | J63: -565.56894 | K63: =SUM(G63:J63) -> 52766.247 | L63: -52766.247 | M63: =IF(SUM(K63:L63)>0,-K63/F63,0) -> 0 | N63: =SUM(K63:M63) -> 0
B64: 2.4.5 | C64: Information Technology | D64: Shared property, plant and equipment | E64: During FY12 | F64: ='3.1 Asset useful life'!$E$27 -> 5 | G64: 25041.295 | H64: 0 | I64: 0 | J64: -5796.7105 | K64: =SUM(G64:J64) -> 19244.584 | L64: -19244.584 | M64: =IF(SUM(K64:L64)>0,-K64/F64,0) -> 0 | N64: =SUM(K64:M64) -> 0
B65: 2.4.5 | C65: Information Technology | D65: Shared property, plant and equipment | E65: During FY13 | F65: ='3.1 Asset useful life'!$E$27 -> 5 | G65: 16720.823 | H65: 0 | I65: 0 | J65: -1702.7522 | K65: =SUM(G65:J65) -> 15018.07 | L65: -15018.07 | M65: =IF(SUM(K65:L65)>0,-K65/F65,0) -> 0 | N65: =SUM(K65:M65) -> 0
B66: 2.4.5 | C66: Information Technology | D66: Shared property, plant and equipment | E66: During FY14 | F66: ='3.1 Asset useful life'!$E$27 -> 5 | G66: 15094.126 | H66: 0 | I66: 0 | J66: -4290.7813 | K66: =SUM(G66:J66) -> 10803.345 | L66: -10803.345 | M66: =IF(SUM(K66:L66)>0,-K66/F66,0) -> 0 | N66: =SUM(K66:M66) -> 0
...

Sheet 3.4 Shared supporting assets
B1: Shared supporting assets
B2: =Tradingname -> APA OPERATIONS PTY LIMITED | E2: Please ensure allocation methodologies are explained in sufficient detail in the Basis of Preparation as required under section 3.2.4 of the Guideline
B3: Reporting Period | C3: =TEXT(Yearstart,"dd/mm/yyyy")&" to "&TEXT(Yearending,"dd/mm/yyyy") -> 01/07/2020 to 30/06/2021
B5: Table 3.4.1: Shared supporting asset allocation
B7: Basis of Preparation reference | C7: Description (list each individual shared asset category greater than 5%) | D7: Category of shared assets | E7: Total amount | F7: % allocated to pipeline | G7: Total allocated to pipeline
E8: $ nominal | G8: $ nominal
B9: 2.4.5 | C9: Information Technology | D9: Shared property, plant and equipment | E9: 2.4171762e+08 | F9: 0.0047130517 | G9: =E9*F9 -> 1139227.7
B10: 2.4.5 | C10: Shared leased assets | D10: Shared leased assets | E10: 35022653 | F10: 0.0082524064 | G10: =E10*F10 -> 289021.16
G11: =E11*F11 -> 0
G12: =E12*F12 -> 0
G13: =E13*F13 -> 0
G14: =E14*F14 -> 0
G15: =E15*F15 -> 0
G16: =E16*F16 -> 0
G17: =E17*F17 -> 0
G18: =E18*F18 -> 0
G19: =E19*F19 -> 0
G20: =E20*F20 -> 0
G21: =E21*F21 -> 0
G22: =E22*F22 -> 0
... G35: =E35*F35 -> 0
C36: Total | E36: =SUM(E9:E35) -> 2.7674028e+08 | G36: =SUM(G9:G35) -> 1428248.8

Sheet Auditor's Report Statements

Sheet 4. Recovered capital
B1: Recovered capital method (rule 569(4))
B2: =Tradingname -> APA OPERATIONS PTY LIMITED
B3: Reporting Period | C3: =TEXT(Yearstart,"dd/mm/yyyy")&" to "&TEXT(Yearending,"dd/mm/yyyy") -> 01/07/2020 to 30/06/2021
B5: Table 4.1: Recovered capital method - pipeline assets
B7: Basis of Preparation reference | C7: Asset description | E7: Total | F7: Year | BI7: Drag and drop columns if required
F8: =RIGHT(TEXT(C38,"dd/mm/yyyy"),4) -> 1998 | G8: =F8+1 -> 1999 | H8: =G8+1 -> 2000 | I8: =H8+1 -> 2001 | J8: =I8+1 -> 2002 | K8: =J8+1 -> 2003 | L8: =K8+1 -> 2004 | M8: =L8+1 -> 2005 | N8: =M8+1 -> 2006 | ... BH8: =BG8+1 -> 2052
B9: 3 | C9: Pipeline assets
D10: Construction cost | E10: =SUM(F10:BH10) -> 16860432 | F10: 16860432 | G10: 0 | H10: 0 | I10: 0 | J10: 0 | K10: 0 | L10: 0 | M10: 0 | N10: 0 | O10: 0 | P10: 0 | Q10: 0 | R10: 0 | S10: 0 | T10: 0 | U10: 0 | V10: 0 | W10: 0 | X10: 0 | Y10: 0 | Z10: 0 | AA10: 0 | AB10: 0 | AC10: 0
D11: Negative residual value | E11: =SUM(F11:BH11) -> 1288518.2 | F11: 731028.03 | G11: 7592.2792 | H11: 22776.838 | I11: 46638.287 | J11: 22776.838 | K11: 21692.226 | L11: 21692.226 | M11: 21692.226 | N11: 35792.173 | O11: 19523.004 | P11: 42299.841 | Q11: 14099.947 | R11: 31453.728 | S11: 36876.785 | T11: 13015.336 | U11: 26030.672 | V11: 33622.951 | W11: 17353.781 | X11: 11930.724 | Y11: 22776.838 | Z11: 24946.06 | AA11: 19523.004 | AB11: -4338.4453 | AC11: 47722.898
D12: Additions | E12: =SUM(F12:BH12) -> 58254285 | F12: 0 | G12: 202628.52 | H12: 139782.79 | I12: 0 | J12: 0 | K12: 0 | L12: 0 | M12: 0 | N12: 0 | O12: 0 | P12: 0 | Q12: 0 | R12: 0 | S12: 0 | T12: 55626.676 | U12: 0 | V12: 0 | W12: 54977.179 | X12: 288270.9 | Y12: 790729.69 | Z12: 33249.256 | AA12: 34230379 | AB12: 5427917.9 | AC12: 17030724
D13: Maintenance capitalised | E13: =SUM(F13:BH13) -> 224353.88 | F13: 0 | G13: 0 | H13: 0 | I13: 0 | J13: 0 | K13: 0 | L13: 0 | M13: 0 | N13: 0 | O13: 0 | P13: 0 | Q13: 0 | R13: 0 | S13: 0 | T13: 163780.28 | U13: 0 | V13: 60573.602 | W13: 0 | X13: 0 | Y13: 0 | Z13: 0 | AA13: 0 | AB13: 0 | AC13: 0
D14: Disposal (at cost) | E14: =SUM(F14:BH14) -> 0 | F14: 0 | G14: 0 | H14: 0 | I14: 0 | J14: 0 | K14: 0 | L14: 0 | M14: 0 | N14: 0 | O14: 0 | P14: 0 | Q14: 0 | R14: 0 | S14: 0 | T14: 0 | U14: 0 | V14: 0 | W14: 0 | X14: 0 | Y14: 0 | Z14: 0 | AA14: 0 | AB14: 0 | AC14: 0
D15: Leased Asset | E15: =SUM(F15:BH15) -> 30885.797 | F15: 0 | G15: 0 | H15: 0 | I15: 0 | J15: 0 | K15: 0 | L15: 0 | M15: 0 | N15: 0 | O15: 0 | P15: 0 | Q15: 0 | R15: 0 | S15: 0 | T15: 0 | U15: 0 | V15: 0 | W15: 0 | X15: 0 | Y15: 0 | Z15: 0 | AA15: 0 | AB15: 32059.163 | AC15: -1173.3658
D16: Cost base | E16: =SUM(F16:BH16) -> 76658475 | F16: =SUM(F9:F15) -> 17591460 | G16: =SUM(G9:G15) -> 210220.8 | H16: =SUM(H9:H15) -> 162559.63 | I16: =SUM(I9:I15) -> 46638.287 | J16: =SUM(J9:J15) -> 22776.838 | K16: =SUM(K9:K15) -> 21692.226 | L16: =SUM(L9:L15) -> 21692.226 | M16: =SUM(M9:M15) -> 21692.226 | ... BH16: =SUM(BH9:BH15) -> 0
B17: 3.2.3 | C17: Shared assets
D18: Construction cost or acquisition cost (where allowed) apportioned | E18: =SUM(F18:BH18) -> 0 | F18: 0 | G18: 0 | H18: 0 | I18: 0 | J18: 0 | K18: 0 | L18: 0 | M18: 0 | N18: 0 | O18: 0 | P18: 0 | Q18: 0 | R18: 0 | S18: 0 | T18: 0 | U18: 0 | V18: 0 | W18: 0 | X18: 0 | Y18: 0 | Z18: 0 | AA18: 0 | AB18: 0 | AC18: 0
D19: Additions | E19: =SUM(F19:BH19) -> 1201720.6 | F19: 0 | G19: 0 | H19: 0 | I19: 0 | J19: 0 | K19: 0 | L19: 0 | M19: 0 | N19: 0 | O19: 0 | P19: 32679.125 | Q19: 1604.6751 | R19: 1196.7725 | S19: 55201.065 | T19: 20111.837 | U19: 15718.496 | V19: 11272.281 | W19: 61679.57 | X19: 104701.15 | Y19: 65388.395 | Z19: 100082.31 | AA19: 232359.69 | AB19: 303737.24 | AC19: 195988.04
D20: Maintenance capitalised | E20: =SUM(F20:BH20) -> 0 | F20: 0 | G20: 0 | H20: 0 | I20: 0 | J20: 0 | K20: 0 | L20: 0 | M20: 0 | N20: 0 | O20: 0 | P20: 0 | Q20: 0 | R20: 0 | S20: 0 | T20: 0 | U20: 0 | V20: 0 | W20: 0 | X20: 0 | Y20: 0 | Z20: 0 | AA20: 0 | AB20: 0 | AC20: 0
D21: Disposal (at cost) | E21: =SUM(F21:BH21) -> -28107.295 | F21: 0 | G21: 0 | H21: 0 | I21: 0 | J21: 0 | K21: 0 | L21: 0 | M21: 0 | N21: 0 | O21: 0 | P21: 0 | Q21: 0 | R21: 0 | S21: 0 | T21: 0 | U21: 0 | V21: 0 | W21: 0 | X21: 0 | Y21: 0 | Z21: 0 | AA21: 0 | AB21: -6788.4617 | AC21: -21318.834
D22: Leased Asset | E22: =SUM(F22:BH22) -> 308178.18 | F22: 0 | G22: 0 | H22: 0 | I22: 0 | J22: 0 | K22: 0 | L22: 0 | M22: 0 | N22: 0 | O22: 0 | P22: 0 | Q22: 0 | R22: 0 | S22: 0 | T22: 0 | U22: 0 | V22: 0 | W22: 0 | X22: 0 | Y22: 0 | Z22: 0 | AA22: 0 | AB22: 246262.45 | AC22: 61915.725
D23: Cost base | E23: =SUM(F23:BH23) -> 1481791.5 | F23: =SUM(F18:F22) -> 0 | G23: =SUM(G18:G22) -> 0 | H23: =SUM(H18:H22) -> 0 | I23: =SUM(I18:I22) -> 0 | J23: =SUM(J18:J22) -> 0 | K23: =SUM(K18:K22) -> 0 | L23: =SUM(L18:L22) -> 0 | M23: =SUM(M18:M22) -> 0 | ... BH23: =SUM(BH18:BH22) -> 0
D24: Total assets | E24: =E16+E23 -> 78140267 | F24: =F16+F23 -> 17591460 | G24: =G16+G23 -> 210220.8 | H24: =H16+H23 -> 162559.63 | I24: =I16+I23 -> 46638.287 | J24: =J16+J23 -> 22776.838 | K24: =K16+K23 -> 21692.226 | L24: =L16+L23 -> 21692.226 | ... BH24: =BH16+BH23 -> 0
C25: Return of capital
B26: 3.2.2 | D26: Revenue | E26: =SUM(F26:BH26) -> 81540611 | F26: 895801.66 | G26: 1892143 | H26: 1740030.9 | I26: 1767982.8 | J26: 1667828.8 | K26: 1664940 | L26: 1628050.8 | M26: 1581649.1 | N26: 1595299.1 | O26: 1604096.2 | P26: 2056078.9 | Q26: 2399161.2 | R26: 2617691.5 | S26: 2587945.6 | T26: 2762030.7 | U26: 2816635.4 | V26: 2914283.6 | W26: 2865595.6 | X26: 3464308.4 | Y26: 5134243.8 | Z26: 4731990.5 | AA26: 7560717.4 | AB26: 11597529 | AC26: 11994578
B27: 3.2.2 | D27: Operating expenses | E27: =SUM(F27:BH27) -> -17130950 | F27: 0 | G27: 0 | H27: 0 | I27: 0 | J27: 0 | K27: 0 | L27: 0 | M27: 0 | N27: 0 | O27: 0 | P27: -493457.82 | Q27: -262058.52 | R27: -262483.78 | S27: -467652.27 | T27: -574285.26 | U27: -520580.79 | V27: -645055.89 | W27: -624805.66 | X27: -657634.22 | Y27: -911793.35 | Z27: -1022205.5 | AA27: -2600836.9 | AB27: -4205583.4 | AC27: -3882516.3
B28: 3.2.5 | D28: Net tax liabilities | E28: =SUM(F28:BH28) -> -6044127.3 | F28: -164165.46 | G28: 0 | H28: 0 | I28: 0 | J28: 0 | K28: 0 | L28: 0 | M28: 0 | N28: 0 | O28: 0 | P28: 0 | Q28: 0 | R28: 0 | S28: 0 | T28: -69469.265 | U28: -162801 | V28: -163589.23 | W28: -163828.84 | X28: -338472.37 | Y28: -767133.15 | Z28: -891640.59 | AA28: -1041080.3 | AB28: -1110725.9 | AC28: -1171221.2
D29: Leased Asset Interest/Financing Charge | E29: =SUM(F29:BH29) -> -16894.896 | F29: 0 | G29: 0 | H29: 0 | I29: 0 | J29: 0 | K29: 0 | L29: 0 | M29: 0 | N29: 0 | O29: 0 | P29: 0 | Q29: 0 | R29: 0 | S29: 0 | T29: 0 | U29: 0 | V29: 0 | W29: 0 | X29: 0 | Y29: 0 | Z29: 0 | AA29: 0 | AB29: -9070.3366 | AC29: -7824.5592
B30: 3.2.4 | D30: Return on capital | E30: =SUM(F30:BH30) -> -40595546 | F30: 0 | G30: -1944604.3 | H30: -1818751.3 | I30: -1868666.5 | J30: -1779423 | K30: -1791183.9 | L30: -1769969.8 | M30: -1739642.5 | N30: -1782997.2 | O30: -1823666.4 | P30: -1688092.5 | Q30: -1880133.9 | R30: -1860984 | S30: -1681878.9 | T30: -1609088.5 | U30: -1648419.8 | V30: -1487485.1 | W30: -1435946.1 | X30: -1376320.3 | Y30: -1292984.8 | Z30: -1175225.7 | AA30: -933684.59 | AB30: -3038686.9 | AC30: -3167709.9
D31: Total Return of Capital | E31: =SUM(F31:BH31) -> 17753094 | F31: =SUM(F26:F30) -> 731636.2 | G31: =SUM(G26:G30) -> -52461.277 | H31: =SUM(H26:H30) -> -78720.349 | I31: =SUM(I26:I30) -> -100683.76 | J31: =SUM(J26:J30) -> -111594.16 | K31: =SUM(K26:K30) -> -126243.9 | L31: =SUM(L26:L30) -> -141919.02 | M31: =SUM(M26:M30) -> -157993.38 | ... BH31: =SUM(BH26:BH30) -> 0
D32: Recovered capital method total asset value | E32: =SUM(F32:BH32) -> 60387173 | F32: =F16+F23-F31 -> 16859824 | G32: =G16+G23-G31 -> 262682.08 | H32: =H16+H23-H31 -> 241279.98 | I32: =I16+I23-I31 -> 147322.05 | J32: =J16+J23-J31 -> 134371 | K32: =K16+K23-K31 -> 147936.13 | L32: =L16+L23-L31 -> 163611.25 | M32: =M16+M23-M31 -> 179685.6 | ... BH32: =BH16+BH23-BH31 -> 0
C33: For information | D33: Opening asset value | G33: =F24+F33-F31 -> 16859824 | H33: =G24+G33-G31 -> 17122506 | I33: =H24+H33-H31 -> 17363786 | J33: =I24+I33-I31 -> 17511108 | K33: =J24+J33-J31 -> 17645479 | L33: =K24+K33-K31 -> 17793415 | M33: =L24+L33-L31 -> 17957026 | N33: =M24+M33-M31 -> 18136712 | ... BH33: =BG24+BG33-BG31 -> 60387173
C34: For information | D34: Rate of return (WACC) | F34: N/A | G34: 0.11533954 | H34: 0.10621992 | I34: 0.10761861 | J34: 0.10161681 | K34: 0.10150951 | L34: 0.099473307 | M34: 0.096878093 | N34: 0.098308736 | O34: 0.09932714 | P34: 0.090761102 | Q34: 0.10000848 | R34: 0.10027674 | S34: 0.092937361 | T34: 0.090649955 | U34: 0.094228167 | V34: 0.087238262 | W34: 0.086826291 | X34: 0.0858529 | Y34: 0.084265567 | Z34: 0.083582134 | AA34: 0.074242853 | AB34: 0.068946314 | AC34: 0.067630299
B36: Table 4.2: Pipeline details
B38: Construction date | C38: 35796
B39: Negative residual value | C39: =E11 -> 1288518.2

Sheet 4.1 Pipelines capex
B1: Capital expenditure
B2: =Tradingname -> APA OPERATIONS PTY LIMITED
B3: Reporting Period | C3: =TEXT(Yearstart,"dd/mm/yyyy")&" to "&TEXT(Yearending,"dd/mm/yyyy") -> 01/07/2020 to 30/06/2021
B5: Table 4.1.1: Capital expenditure greater than 5% of construction cost
B7: Basis of Preparation reference | C7: Description of works | D7: Date recognised | E7: Expenditure ($ nominal)
B8: 3.2.1 | C8: Compressor station and other Stay in Business items | D8: FY19 | E8: 33010016
B9: 3.2.1 | C9: Murrin Offtake Station Upgrade and other Stay in Business items | D9: FY20 | E9: 5247261.5
B10: 3.2.1 | C10: Murrin pipeline and other Stay in Business items | D10: FY21 | E10: 16475109

Sheet Auditor's Review Report RCM

Sheet 5. Weighted average price
B1: Weighted average prices
B2: =Tradingname -> APA OPERATIONS PTY LIMITED
B3: Reporting Period | C3: =TEXT(Yearstart,"dd/mm/yyyy")&" to "&TEXT(Yearending,"dd/mm/yyyy") -> 01/07/2020 to 30/06/2021
B5: Table 5.1: Weighted average prices
B7: Basis of preparation reference | C7: Service description | E7: Has there been any use of estimates to allocate revenue to each transportation service? | F7: Other Services | L7: Postage Stamp Transportation Services | S7: Zonal Based Transportation Services | AL7: Distance Based Transportation Services (to major delivery points)
T8: Zone 1 | Z8: Zone 2 | AF8: Zone 3 | AM8: Major Delivery Point 1 | AS8: Major Delivery Point 2 | AY8: Major Delivery Point 3 | BE8: Other Delivery Points
D9: Total revenue | F9: Capacity based charges | I9: Volumetric based charges | L9: Total Postage Stamp Revenue | M9: Capacity based | P9: Volumetric based | S9: Total Zonal Revenue | T9: Capacity based | W9: Volumetric based | Z9: Capacity based | AC9: Volumetric based | AF9: Capacity based | AI9: Volumetric based | AL9: Total Distance Based Revenue | AM9: Capacity based | AP9: Volumetric based | AS9: Capacity based | AV9: Volumetric based | AY9: Capacity based | BB9: Volumetric based | BE9: Capacity based | BH9: Volumetric based
D10: $'000 | F10: Revenue $'000 | G10: MDQ Total TJ* | H10: WAP $/GJ | I10: Revenue $'000 | J10: Total TJ | K10: WAP $/GJ | L10: $ '000 | M10: Revenue $'000 | N10: MDQ Total TJ* | O10: WAP $/GJ | P10: Revenue $'000 | Q10: Total TJ | R10: WAP $/GJ | S10: $'000 | T10: Revenue $'000 | U10: MDQ Total TJ* | V10: WAP $/GJ | W10: Revenue $'000 | X10: Total TJ | Y10: WAP $/GJ | Z10: Revenue $'000 | AA10: MDQ Total TJ* | AB10: WAP $/GJ | AC10: Revenue $'000 | AD10: Total TJ | AE10: WAP $/GJ | AF10: Revenue $'000 | AG10: MDQ Total TJ* | AH10: WAP $/GJ | AI10: Revenue $'000 | AJ10: Total TJ | AK10: WAP $/GJ | AL10: $'000 | AM10: Revenue $'000 | AN10: MDQ Total TJ* | AO10: WAP $/GJ | AP10: Revenue $'000 | AQ10: Total TJ | AR10: WAP $/GJ | AS10: Revenue $'000 | AT10: MDQ Total TJ* | AU10: WAP $/GJ | AV10: Revenue $'000 | AW10: Total TJ | AX10: WAP $/GJ | AY10: Revenue $'000 | AZ10: MDQ Total TJ* | BA10: WAP $/GJ | BB10: Revenue $'000 | BC10: Total TJ | BD10: WAP $/GJ | BE10: Revenue $'000 | BF10: MDQ Total TJ* | BG10: WAP $/GJ | BH10: Revenue $'000 | BI10: Total TJ | BJ10: WAP $/GJ
C11: Transportation services
B12: 4.4.1 | C12: Firm forward haul transportation services | D12: =L12+S12+AL12 -> 11590.119 | L12: =M12+P12 -> 11590.119 | M12: 11224.928 | N12: 20044.288 | O12: =IFERROR(M12/N12,0) -> 0.56000636 | P12: 365.19024 | Q12: 10289.137 | R12: =IFERROR(P12/Q12,0) -> 0.035492794 | S12: =T12+W12+Z12+AC12+AF12+AI12 -> 0 | V12: =IFERROR(T12/U12,0) -> 0 | Y12: =IFERROR(W12/X12,0) -> 0 | AB12: =IFERROR(Z12/AA12,0) -> 0 | AE12: =IFERROR(AC12/AD12,0) -> 0 | AH12: =IFERROR(AF12/AG12,0) -> 0 | AK12: =IFERROR(AI12/AJ12,0) -> 0 | AL12: =AM12+AP12+AS12+AV12+AY12+BB12+BE12+BH12 -> 0 | AO12: =IFERROR(AM12/AN12,0) -> 0 | AR12: =IFERROR(AP12/AQ12,0) -> 0 | AU12: =IFERROR(AS12/AT12,0) -> 0 | AX12: =IFERROR(AV12/AW12,0) -> 0 | BA12: =IFERROR(AY12/AZ12,0) -> 0 | BD12: =IFERROR(BB12/BC12,0) -> 0 | BG12: =IFERROR(BE12/BF12,0) -> 0 | BJ12: =IFERROR(BH12/BI12,0) -> 0
B13: 4.4.1 | C13: Interruptible or as available transportation services | D13: =L13+S13+AL13 -> 226.08996 | L13: =M13+P13 -> 226.08996 | M13: 119.64032 | N13: 730 | O13: =IFERROR(M13/N13,0) -> 0.16389085 | P13: 106.44964 | Q13: 539.033 | R13: =IFERROR(P13/Q13,0) -> 0.19748259 | S13: =T13+W13+Z13+AC13+AF13+AI13 -> 0 | V13: =IFERROR(T13/U13,0) -> 0 | Y13: =IFERROR(W13/X13,0) -> 0 | AB13: =IFERROR(Z13/AA13,0) -> 0 | AE13: =IFERROR(AC13/AD13,0) -> 0 | AH13: =IFERROR(AF13/AG13,0) -> 0 | AK13: =IFERROR(AI13/AJ13,0) -> 0 | AL13: =AM13+AP13+AS13+AV13+AY13+BB13+BE13+BH13 -> 0 | AO13: =IFERROR(AM13/AN13,0) -> 0 | AR13: =IFERROR(AP13/AQ13,0) -> 0 | AU13: =IFERROR(AS13/AT13,0) -> 0 | AX13: =IFERROR(AV13/AW13,0) -> 0 | BA13: =IFERROR(AY13/AZ13,0) -> 0 | BD13: =IFERROR(BB13/BC13,0) -> 0 | BG13: =IFERROR(BE13/BF13,0) -> 0 | BJ13: =IFERROR(BH13/BI13,0) -> 0
B14: 4.4.1 | C14: Backhaul services | D14: =L14+S14+AL14 -> 0 | L14: =M14+P14 -> 0 | O14: =IFERROR(M14/N14,0) -> 0 | R14: =IFERROR(P14/Q14,0) -> 0 | S14: =T14+W14+Z14+AC14+AF14+AI14 -> 0 | V14: =IFERROR(T14/U14,0) -> 0 | Y14: =IFERROR(W14/X14,0) -> 0 | AB14: =IFERROR(Z14/AA14,0) -> 0 | AE14: =IFERROR(AC14/AD14,0) -> 0 | AH14: =IFERROR(AF14/AG14,0) -> 0 | AK14: =IFERROR(AI14/AJ14,0) -> 0 | AL14: =AM14+AP14+AS14+AV14+AY14+BB14+BE14+BH14 -> 0 | AO14: =IFERROR(AM14/AN14,0) -> 0 | AR14: =IFERROR(AP14/AQ14,0) -> 0 | AU14: =IFERROR(AS14/AT14,0) -> 0 | AX14: =IFERROR(AV14/AW14,0) -> 0 | BA14: =IFERROR(AY14/AZ14,0) -> 0 | BD14: =IFERROR(BB14/BC14,0) -> 0 | BG14: =IFERROR(BE14/BF14,0) -> 0 | BJ14: =IFERROR(BH14/BI14,0) -> 0
C15: Stand alone compression services
B16: 4.4.2 | C16: Firm stand alone compression services | D16: =F16+I16 -> 0 | H16: =IFERROR(F16/G16,0) -> 0 | I16: 0 | J16: 0 | K16: =IFERROR(I16/J16,0) -> 0
C17: Storage services
B18: 4.4.3 | C18: Firm park/park and loan services | D18: =F18+I18 -> 0 | H18: =IFERROR(F18/G18,0) -> 0 | I18: 0 | J18: 0 | K18: =IFERROR(I18/J18,0) -> 0
B19: 4.7 | C19: Total exempt services | D19: =F19+I19 -> 0
