Workbook
Name \0: #REF!
Name \A: #REF!
Name \B: #REF!
Name \C: #REF!
Name \M: #REF!
Name ______UAG99: #REF!
Name _____cpi1: #REF!
Name _____CPI2: #REF!
Name _____IRR1: #REF!
Name _____LUT1: #REF!
Name _____NPV1: #REF!
Name _____UAG99: #REF!
Name ____cpi1: #REF!
Name ____CPI2: #REF!
Name ____IRR1: #REF!
Name ____IZS2: #REF!
Name ____LUT1: #REF!
Name ____NPV1: #REF!
Name ____NPV2: #REF!
Name ____UAG99: #REF!
Name ___cpi1: #REF!
Name ___CPI2: #REF!
Name ___IRR1: #REF!
Name ___IZS2: #REF!
Name ___LUT1: #REF!
Name ___May08: #REF!
Name ___NPV1: #REF!
Name ___NPV2: #REF!
Name ___Tot220: #REF!
Name ___Tot237: #REF!
Name ___Tot257: #REF!
Name ___Tot258: #REF!
Name ___UAG99: #REF!
Name __cpi1: #REF!
Name __CPI2: #REF!
Name __DAT1: #REF!
Name __DAT14: #REF!
Name __DAT5: #REF!
Name __DAT6: #REF!
Name __DataSet1__: #REF!
Name __DataSet2__: #REF!
Name __DataSet3__: #REF!
Name __DataSet4__: #REF!
Name __int997: #REF!
Name __IRR1: #REF!
Name __IZS2: #REF!
Name __JUN09: #REF!
Name __LUT1: #REF!
Name __MAIN__: #REF!
Name __May08: #REF!
Name __NPV1: #REF!
Name __NPV2: #REF!
Name __PL1: #REF!
Name __TableData__: #REF!
Name __TB1: #REF!
Name __Tot220: #REF!
Name __Tot221: #REF!
Name __Tot232: #REF!
Name __Tot237: #REF!
Name __Tot257: #REF!

Sheet Cover
A1: Gas Pipeline Operator
A2: Reporting template
A4: This template is to be uploaded by a Gas Pipeline Operator to its website to fulfil its annual reporting obligations.
A6: Colour coding of input sheets:
A7: Dark cyan = ERA instructions/headings
A8: Yellow = Input cells
A9: Grey - Not applicable/No inputs required
A11: Leave coloured cells blank if no information exists - PLEASE DO NOT ENTER TEXT unless specifically requested to do so.
A12: All dollar amounts are to be unrounded, and in nominal terms.
A15: Service provider: | C15: APT PARMELIA PTY LTD
A17: Australian business number: | C17: 078 902 397
A19: Pipeline name: | C19: Parmelia Gas Pipeline
A21: Reporting period start date: | C21: 45474
A23: Reporting period end date: | C23: 45838
A25: Publication date of this report: | C25: 45961
A27: Reported information is current at: | C27: 45838
A29: Has any information in this template been amended since last published within this current reporting period? | C29: No | F29: Amendment reference
A33: Business address | B33: Address | D33: Level 10, 121 Castlereagh Street
B34: Suburb | D34: Sydney
C35: State | D35: NSW | E35: Postcode | F35: 2000
A37: Postal address | B37: Address | D37: PO Box R41
B38: Suburb | D38: Royal Exchange
C39: State | D39: NSW | E39: Postcode | F39: 1225
A42: Contact name/s | B42: Andrew Nairn (General Manager Investor Relations)
A43: Contact phone/s | B43: +61 (03) 8416 2887
A44: Contact email address/s | B44: APARegReporting@apa.com.au

Sheet Contents
F3: Table of contents

Sheet Summary
B1: Summary
B2: =Tradingname -> APT PARMELIA PTY LTD
B3: Year ending | C3: =TEXT(Yearstart,"dd/mm/yyyy")&" to "&TEXT(Yearending,"dd/mm/yyyy") -> 01/07/2024 to 30/06/2025
B4: All numbers are expressed in $nominal
B8: Revenues and expenses (Table 2.1) | C8: Amounts excluding related party transactions | D8: Related party transactions | E8: Total
B9: Direct revenue | C9: ='2. Revenues and expenses'!D16 -> 18875057 | D9: ='2. Revenues and expenses'!E16 -> 0 | E9: ='2. Revenues and expenses'!F16 -> 18875057
B10: Indirect revenue allocated | C10: ='2. Revenues and expenses'!D19 -> 0 | D10: ='2. Revenues and expenses'!E19 -> 0 | E10: ='2. Revenues and expenses'!F19 -> 0
B11: Total revenue | C11: ='2. Revenues and expenses'!D20 -> 18875057 | D11: ='2. Revenues and expenses'!E20 -> 0 | E11: ='2. Revenues and expenses'!F20 -> 18875057
B12: Direct costs | C12: ='2. Revenues and expenses'!D30 -> -7453583.5 | D12: ='2. Revenues and expenses'!E30 -> 0 | E12: ='2. Revenues and expenses'!F30 -> -7453583.5
B13: Shared costs allocated | C13: ='2. Revenues and expenses'!D41 -> 20022560 | D13: ='2. Revenues and expenses'!E41 -> 0 | E13: ='2. Revenues and expenses'!F41 -> 20022560
B14: Total costs | C14: ='2. Revenues and expenses'!D42 -> 12568977 | D14: ='2. Revenues and expenses'!E42 -> 0 | E14: ='2. Revenues and expenses'!F42 -> 12568977
B15: Earnings before interest and tax (EBIT) | C15: ='2. Revenues and expenses'!D43 -> 31444034 | D15: ='2. Revenues and expenses'!E43 -> 0 | E15: ='2. Revenues and expenses'!F43 -> 31444034
B18: Statement of pipeline assets (Table 3.1) | C18: Cumulative value as at current reporting period | D18: Cumulative value as at previous reporting period
B19: Pipelines | C19: ='3. Statement of pipeline assets'!D16 -> -0.00098804664 | D19: ='3. Statement of pipeline assets'!E16 -> 1.8626451e-08
B20: Compressors | C20: ='3. Statement of pipeline assets'!D23 -> 0.001967213 | D20: ='3. Statement of pipeline assets'!E23 -> 0
B21: City Gates, supply regulators and valve stations | C21: ='3. Statement of pipeline assets'!D30 -> 0.00032786874 | D21: ='3. Statement of pipeline assets'!E30 -> 0
B22: Metering | C22: ='3. Statement of pipeline assets'!D37 -> -0.0044262292 | D22: ='3. Statement of pipeline assets'!E37 -> 3.783498e-10
B23: Odourant plants | C23: ='3. Statement of pipeline assets'!D44 -> 0.0032786885 | D23: ='3. Statement of pipeline assets'!E44 -> -3.6379788e-11
B24: SCADA (Communications) | C24: ='3. Statement of pipeline assets'!D51 -> 0 | D24: ='3. Statement of pipeline assets'!E51 -> -2.3283064e-10
B25: Buildings | C25: ='3. Statement of pipeline assets'!D58 -> 0.0027868854 | D25: ='3. Statement of pipeline assets'!E58 -> 0
B26: Land and easements | C26: ='3. Statement of pipeline assets'!D65 -> 2.910383e-11 | D26: ='3. Statement of pipeline assets'!E65 -> 2.910383e-11
B27: Other depreciable pipeline assets | C27: ='3. Statement of pipeline assets'!D72 -> 0.024046687 | D27: ='3. Statement of pipeline assets'!E72 -> 0.019999999
B28: Leased Assets | C28: ='3. Statement of pipeline assets'!D79 -> 0 | D28: ='3. Statement of pipeline assets'!E79 -> 0
B29: Other non-depreciable pipeline assets | C29: ='3. Statement of pipeline assets'!D80 -> 3253480.7 | D29: ='3. Statement of pipeline assets'!E80 -> 2289041.3
B30: Total pipeline assets | C30: ='3. Statement of pipeline assets'!D81 -> 3253480.7 | D30: ='3. Statement of pipeline assets'!E81 -> 2289041.3
B31: Shared property, plant and equipment | C31: ='3. Statement of pipeline assets'!D89 -> 0 | D31: ='3. Statement of pipeline assets'!E89 -> 0
B32: Shared leased assets | C32: ='3. Statement of pipeline assets'!D96 -> 0 | D32: ='3. Statement of pipeline assets'!E96 -> -1.0913936e-10
B33: Inventories | C33: ='3. Statement of pipeline assets'!D97 -> 0 | D33: ='3. Statement of pipeline assets'!E97 -> 0
B34: Deferred tax assets | C34: ='3. Statement of pipeline assets'!D98 -> 5535642.9 | D34: ='3. Statement of pipeline assets'!E98 -> 3901720.5
B35: Other shared assets | C35: ='3. Statement of pipeline assets'!D99 -> 0 | D35: ='3. Statement of pipeline assets'!E99 -> 0
B36: Total shared assets allocated | C36: ='3. Statement of pipeline assets'!D100 -> 5535642.9 | D36: ='3. Statement of pipeline assets'!E100 -> 3901720.5
B37: Total assets | C37: ='3. Statement of pipeline assets'!D101 -> 8789123.6 | D37: ='3. Statement of pipeline assets'!E101 -> 6190761.8
B38: Return on assets (EBIT/Total assets value) (Table 1.1.1) | C38: ='1.1 Financial performance'!C10 -> 3.5776074
B41: Recovered capital value (Table 4.1) | C41: Cumulative value as at current reporting period | D41: =VALUE(RIGHT(TEXT(Yearending,"dd/mm/yyyy"),4)) -> 2025
B42: Pipeline assets cost base | C42: ='4. Recovered capital'!E16 -> 1.8932187e+08
B43: Shared assets allocated cost base | C43: ='4. Recovered capital'!E23 -> 5024133.8
B44: Total assets | C44: ='4. Recovered capital'!E24 -> 1.9434601e+08
B45: Return of capital
B46: Revenue | C46: ='4. Recovered capital'!E26 -> 2.7941059e+08 | D46: =IFERROR(INDEX('4. Recovered capital'!$F$8:$BH$34,MATCH($B46,'4. Recovered capital'!$D$8:$D$34,0),MATCH(D$41,'4. Recovered capital'!$F$8:$BH$8,0)),) -> 18875057
B47: Operating expenses | C47: ='4. Recovered capital'!E27 -> -2.221942e+08 | D47: =IFERROR(INDEX('4. Recovered capital'!$F$8:$BH$34,MATCH($B47,'4. Recovered capital'!$D$8:$D$34,0),MATCH(D$41,'4. Recovered capital'!$F$8:$BH$8,0)),) -> -9380228.6
...

Sheet CrossfireHiddenWorksheet
A3: 4fd9fff4-5667-4c7b-9c6f-7d86639f9365 | B3: 1936bd98-aa0f-4967-a703-3907c0e0ab4e | C3: 91f846ab-67de-4812-a74d-215a949d34d0
A4: 1 | B4: 7 | C4: 13
A5: Current Assets | B5: 1 | C5: 0 | D5: 447 | E5: 2025 - P12 Jun | F5: 452 | G5: 0 | H5: 1 | I5: 0 | J5: 176 | K5: 4000 | L5: 195 | M5: 4484679.8 | N5: 1 | O5: 10327.5 | P5: 11 | Q5: Regulatory - Depreciation | R5: 24
A6: Current Assets | B6: 2 | C6: 0 | D6: 448 | E6: 2025 - P12 Jun | F6: 453 | G6: 0 | H6: 2 | I6: 0 | J6: 177 | K6: 4001 | L6: 196 | M6: 0 | N6: 2 | O6: 0 | P6: 231 | Q6: Regulatory - Directly Attributable Finance Charges | R6: 25
A7: Current Assets | B7: 3 | C7: 0 | D7: 449 | E7: 2025 - P12 Jun | F7: 454 | G7: 0 | H7: 3 | I7: 0 | J7: 178 | K7: 4002 | L7: 197 | M7: 134268.35 | N7: 3 | O7: 134268.35 | P7: 232 | Q7: Regulatory - Insurance | R7: 26
A8: Current Assets | B8: 4 | C8: 0 | D8: 450 | E8: 2025 - P12 Jun | F8: 455 | G8: 0 | H8: 4 | I8: 0 | J8: 179 | K8: 4003 | L8: 198 | M8: 136157.86 | N8: 4 | O8: 123478.73 | P8: 233 | Q8: Regulatory - Leasing and Rental Costs | R8: 27
A9: Current Assets | B9: 5 | C9: 0 | D9: 451 | E9: A104 Corporate General | F9: 456 | G9: 0 | H9: 5 | I9: 0 | J9: 180 | K9: 4004 | L9: 199 | M9: 81601.74 | N9: 5 | O9: 121970.67 | P9: 234 | Q9: Regulatory - Licence and Regulatory Costs | R9: 28
A10: Current Assets | B10: 6 | C10: 0 | D10: 1430 | E10: A301 VTS | F10: 457 | G10: 0 | H10: 6 | I10: 0 | J10: 181 | K10: 4005 | L10: 200 | M10: 1389432.3 | N10: 6 | O10: 7461.77 | P10: 235 | Q10: Regulatory - Not Reportable | R10: 29
A11: Current Assets | B11: 7 | C11: 0 | D11: 1431 | E11: A619 Parmelia Gas Pipeline | F11: 458 | G11: 0 | H11: 7 | I11: 0 | J11: 182 | K11: 4006 | L11: 201 | M11: 1247092 | N11: 7 | O11: 4925.18 | P11: 236 | Q11: Regulatory - Other Direct Costs | R11: 30
A12: Current Assets | B12: 8 | C12: 0 | D12: 1432 | E12: A621 Mondarra gas storage | F12: 459 | G12: 0 | H12: 8 | I12: 0 | J12: 183 | K12: 4007 | L12: 202 | M12: 0 | N12: 8 | O12: 110195.1 | P12: 237 | Q12: Regulatory - Repairs and Maintenance | R12: 31
A13: Current Assets | B13: 9 | C13: 0 | D13: 1442 | E13: 1300:ASSETS HELD FOR SALE | F13: 460 | G13: 0 | H13: 9 | I13: 0 | J13: 184 | K13: 4008 | L13: 203 | M13: 0 | N13: 9 | O13: 40105.74 | P13: 238 | Q13: Regulatory - Tax | R13: 32
A14: Current Assets | B14: 10 | C14: 0 | D14: 1445 | E14: 1000:CASH AT BANK | F14: 461 | G14: 0 | H14: 10 | I14: 0 | J14: 185 | K14: 4009 | L14: 204 | M14: 5709880 | N14: 10 | O14: -19590.86 | P14: 239 | Q14: Regulatory - Wages | R14: 33
A15: Current Assets | B15: 11 | E15: 1001:CBA-APT A/C 4848 DIST. ACCOUNT | F15: 462 | G15: 0 | H15: 11 | I15: 0 | J15: 186 | K15: 4010 | L15: 205 | M15: 4475213 | N15: 255 | O15: 20748 | P15: 240 | Q15: 2025 | R15: 34
A16: Current Assets | B16: 12 | E16: 1002:CBA SUBORDINATED NOTES A/C 2428 | F16: 463 | G16: 0 | H16: 12 | I16: 0 | J16: 187 | K16: 4000:OPERATING REVENUE | L16: 206 | M16: 9466.88 | N16: 256 | O16: 0 | P16: 241 | Q16: 2025 - P12 Jun | R16: 243
A17: Current Assets | B17: 13 | E17: 1003:GGT - BANK ALLOCATIONS | F17: 464 | G17: 0 | H17: 13 | I17: 0 | J17: 188 | K17: 4001:REVENUE FROM ASSOCIATE | L17: 207 | M17: 134268.35 | N17: 259 | O17: 177280.97 | P17: 242 | Q17: 2025 - P11 May | R17: 244
A18: Current Assets | B18: 14 | E18: 1004:APA GROUP EQUITY TRUST BANK A/C | F18: 465 | G18: 0 | H18: 14 | I18: 0 | J18: 189 | K18: 4002:OTHER REVENUE | L18: 208 | M18: 7862.13 | N18: 261 | Q18: 2025 - P10 Apr | R18: 245
A19: Current Assets | B19: 15 | E19: 1029:CASH AT BANK - CONVERSION | F19: 466 | G19: 0 | H19: 15 | I19: 0 | J19: 190 | K19: 4003:DIVIDENDS INCOME | L19: 209 | M19: 5428.18 | N19: 262 | Q19: 2025 - P09 Mar | R19: 246
A20: Current Assets | B20: 16 | E20: 1030:CASH ON HAND | F20: 467 | G20: 0 | H20: 16 | I20: 0 | J20: 191 | K20: 4004:INTER-ENTITY SALES | L20: 210 | M20: 122867.55 | N20: 263 | Q20: 2025 - P08 Feb | R20: 247
A21: Current Assets | B21: 17 | E21: 1031:PETTY CASH | F21: 468 | G21: 0 | H21: 17 | I21: 0 | J21: 192 | K21: 4005:REALISED FX GAINS/LOSSES (CUSTOMER RECEIPTS) | L21: 211 | M21: -19590.86 | N21: 267 | Q21: 2025 - P07 Jan | R21: 248
A22: Current Assets | B22: 18 | E22: 1060:CASH CALLS PAID | F22: 469 | G22: 0 | H22: 18 | I22: 0 | J22: 193 | K22: No code | L22: 212 | M22: 98420 | N22: 268 | Q22: 2025 - P06 Dec | R22: 249
A23: Current Assets | B23: 19 | E23: 1061:CASH CALLS EQUALISATIONS | F23: 470 | G23: 0 | H23: 19 | I23: 0 | J23: 194 | K23: Total Income | L23: 213 | M23: 2772.6 | N23: 269 | Q23: 2025 - P05 Nov | R23: 250
A24: Current Assets | B24: 20 | E24: 1050:DEPOSITS @ CALL | F24: 471 | G24: 0 | H24: 20 | K24: 4006:UNREALISED FX GAINS/LOSSES (CUSTOMER RECEIPTS) | L24: 214 | M24: 0.5 | N24: 273 | Q24: 2025 - P04 Oct | R24: 251
A25: Current Assets | B25: 21 | E25: 1051:SHORT TERM DEPOSITS | F25: 472 | G25: 0 | H25: 21 | K25: 4007:INTER-ENTITY DIVIDEND | L25: 215 | M25: 0 | N25: 274 | Q25: 2025 - P03 Sep | R25: 252
A26: Current Assets | B26: 22 | E26: 1306:CURRENT ASSET CONVERSION ACCOUNT | F26: 473 | G26: 0 | H26: 22 | K26: 4008:FX REALISED GAIN/LOSS (REVENUE HEDGING) | L26: 216 | M26: 172253.62 | N26: 275 | Q26: 2025 - P02 Aug | R26: 253
A27: Current Assets | B27: 23 | E27: 1240:GAS STOCK STORAGE - CURRENT | F27: 474 | G27: 0 | H27: 23 | K27: 4009:FX UNREALISED GAIN/LOSS (REVENUE HEDGING) | L27: 217 | M27: 1217178.2 | N27: 276 | Q27: 2025 - P01 Jul | R27: 254
A28: Current Assets | B28: 24 | E28: 1200:INVENTORY (CONTROL) | F28: 475 | G28: 0 | H28: 24 | K28: 4010:WGP REVENUE UNWIND DUE TO DE-DESIGNATION | L28: 218 | M28: 50848.83 | N28: 281 | Q28: 6100:DEPRECIATION | R28: 257
A29: Current Assets | B29: 25 | E29: 1201:INVENTORY CONVERSION CLEARING | F29: 476 | G29: 0 | H29: 25 | K29: 4300:EQUITY ACCOUNTED PROFITS | L29: 219 | M29: 334405.81 | N29: 282 | Q29: 6101:AMORTISATION | R29: 258
A30: Current Assets | B30: 26 | E30: 1202:INVENTORY OFFSETS B/S (GGT) | F30: 477 | G30: 0 | H30: 26 | K30: 4090:HAULAGE REVENUE | L30: 220 | M30: 31.6 | N30: 283 | Q30: 5220:INSURANCE | R30: 260
A31: Current Assets | B31: 27 | E31: 1203:ACCUMULATED DIMINUTION - INVENTORY | F31: 478 | G31: 0 | H31: 27 | K31: 4091:NETWORKS FRC REVENUE | L31: 221 | M31: 0 | N31: 284 | Q31: 5109:PLANT & EQUIPMENT HIRE | R31: 264
A32: Current Assets | B32: 28 | E32: 1204:STORES & SPARES | F32: 479 | G32: 0 | H32: 28 | K32: 4092:OTHER NETWORKS REVENUE | L32: 222 | M32: 4576.13 | N32: 285 | Q32: 5114:MOTOR VEHICLES | R32: 265
A33: Current Assets | B33: 29 | E33: 1205:INVENTORY - WIP AT COST | F33: 480 | G33: 0 | H33: 29 | K33: Interest Income | L33: 223 | M33: 31.98 | N33: 286 | Q33: 5117:RENT & PROPERTY OUTGOINGS | R33: 266
A34: Current Assets | B34: 30 | E34: 1206:MAXIMO INVENTORY CLEARING | F34: 481 | G34: 0 | H34: 30 | K34: Operating Income | L34: 224 | M34: 315321.71 | N34: 287 | Q34: 5124:CORPORATE AFFAIRS | R34: 270
A35: Current Assets | B35: 31 | E35: 1280:PREPAYMENTS - GENERAL | F35: 482 | G35: 0 | H35: 31 | K35: 4100:PASSTHROUGH REVENUE | L35: 225 | M35: 69248.47 | N35: 288 | Q35: 5214:ASSET LICENCES | R35: 271
... A54: Current Assets | B54: 50 | E54: 1181:LOAN RECEIVABLE (PRINCIPAL) (INV) - CURRENT THIRD PARTY | F54: 501 | G54: 0 | H54: 50 | K54: RC0006 ALTERNATIVE FUELS EXCISE - PASSTHROUGH (REV) | L54: 244 | M54: 68508 | N54: 328 | Q54: 5123:OFFICE ADMINISTRATION | R54: 313
A55: Current Assets | B55: 51 | E55: 1150:DEBTORS - ASSOCIATES | F55: 502 | G55: 0 | H55: 51 | K55: RC0005 OTHER INCOME - PASSTHROUGH | L55: 245 | Q55: 5126:CATHODIC PROTECTION | R55: 314
A56: Current Assets | B56: 52 | E56: 1151:INTEREST RECEIVABLE (OCF) - CURRENT ASSOCIATE | F56: 503 | G56: 0 | H56: 52 | K56: RC0001 PIPELINE - VOLUME TARIFF (NT GAS) | L56: 246 | Q56: 5127:CONTRACTED WORKS | R56: 315
A57: Current Assets | B57: 53 | E57: 1152:LOAN RECEIVABLE (INV) - CURRENT ASSOCIATE | F57: 504 | G57: 0 | H57: 53 | K57: RC0002 PIPELINE - PASSTHROUGH | L57: 247 | Q57: 5128:SITE SERVICES | R57: 316
A58: Current Assets | B58: 54 | E58: 1100:TRADE DEBTORS (CONTROL) | F58: 505 | G58: 0 | H58: 54 | K58: RC0031 3RD PARTY CONTRACTED - REVENUE - FIXED | L58: 248 | Q58: 5131:NET ZERO - EMISSION REDUCTION COSTS | R58: 317
A59: Current Assets | B59: 55 | E59: 1101:TRADE DEBTORS (CONTRA) | F59: 506 | G59: 0 | H59: 55 | K59: RC0174 AMORTISATION OF UNEARNED REVENUE (AASB 15) | L59: 249 | Q59: 5500:GAIN/(LOSS) ON THE FIXED ASSETS DISPOSAL | R59: 318
A60: Current Assets | B60: 56 | E60: 1102:TRADE DEBTORS - FINANCE LEASE PRINCIPAL | F60: 507 | G60: 0 | H60: 56 | K60: RC0014 CAPACITY TRADING - THROUGHPUT (SOLD CAPACITY) | L60: 250 | Q60: 6130:INCOME TAX EXPENSE | R60: 321
...

Sheet OfficeConnectCellHighlights

Sheet 1. Pipeline information
B1: Pipeline information
B2: =Tradingname -> APT PARMELIA PTY LTD
B3: Reporting Period | C3: =TEXT(Yearstart,"dd/mm/yyyy")&" to "&TEXT(Yearending,"dd/mm/yyyy") -> 01/07/2024 to 30/06/2025
B5: Table 1.1: Pipeline details
B7: Pipeline location | C7: Western Australia
B8: Pipeline length (km) | C8: 416
B9: Number of customers | C9: 12
B10: Service type | C10: Transmission
B12: Table 1.2: Pipeline services provided
B14: Service description | C14: Provided to non related parties | D14: Provided to related parties
B15: Transportation services
B16: Firm forward haul transportation service | C16: Yes | D16: No
B17: Interruptible or as available transportation service | C17: Yes | D17: No
B18: Backhaul services | C18: Yes | D18: No
B19: Stand-alone compression services
B20: Firm stand-alone compression service | C20: No | D20: No
B21: Interruptible or as available stand-alone compression service | C21: No | D21: No
B22: Storage services
B23: Park services | C23: No | D23: No
B24: Park and loan services | C24: No | D24: No
B25: Trading services
B26: Capacity trading service | C26: No | D26: No
B27: In pipe trading service | C27: Yes | D27: No
B28: Other (please specify)
B29: other service (insert description)
B30: other service (insert description)
B31: other service (insert description)
B32: other service (insert description)
B33: other service (insert description)
B34: other service (insert description)
B35: other service (insert description)
B36: other service (insert description)

Sheet 1.1 Financial performance
B1: Financial performance measures
B2: =Tradingname -> APT PARMELIA PTY LTD
B3: Reporting Period | C3: =TEXT(Yearstart,"dd/mm/yyyy")&" to "&TEXT(Yearending,"dd/mm/yyyy") -> 01/07/2024 to 30/06/2025
B5: Table 1.1.1: Return on assets
C7: Pipeline
B8: Earnings before interest and tax | C8: ='2. Revenues and expenses'!F43 -> 31444034
B9: Total assets | C9: ='3. Statement of pipeline assets'!$D$101 -> 8789123.6
B10: Return on assets | C10: =IFERROR(C8/C9,0) -> 3.5776074
B12: Note: For the purposes of Part 23 reporting the Part 23 Book value exceeded the Part 23 Recoverable value on a stand-alone basis however there is no statutory impairment for Parmelia on a cash generating unit basis. For further information, please refer to the table reference 3.2.1 on the tab called "6. Notes".

Sheet 2. Revenues and expenses
B1: Statement of pipeline revenues and expenses
B2: =Tradingname -> APT PARMELIA PTY LTD
B3: Reporting Period | C3: =TEXT(Yearstart,"dd/mm/yyyy")&" to "&TEXT(Yearending,"dd/mm/yyyy") -> 01/07/2024 to 30/06/2025
B5: Table 2.1: Statement of pipeline revenues and expenses
D7: Reporting period | G7: Previous reporting period
B8: Basis of Preparation reference | C8: Description | D8: Amounts excluding related party transactions | E8: Related party transactions | F8: Total | G8: Amounts excluding related party transactions | H8: Related party transactions | I8: Total
D9: $ nominal | E9: $ nominal | F9: $ nominal | G9: $ nominal | H9: $ nominal | I9: $ nominal
C10: Direct revenue
B11: 2.3.1 & 2.3.1.1 | C11: Total service revenue | D11: ='2.1 Revenue by service'!D21 -> 13303501 | E11: ='2.1 Revenue by service'!E21 -> 0 | F11: =SUM(D11:E11) -> 13303501 | G11: ='2.1 Revenue by service'!G21 -> 10300418 | H11: ='2.1 Revenue by service'!H21 -> 0 | I11: =SUM(G11:H11) -> 10300418
C12: Customer contribution revenue | D12: ='2.2 Revenue contributions '!C15 -> 0 | E12: ='2.2 Revenue contributions '!D15 -> 0 | F12: =SUM(D12:E12) -> 0 | G12: 0 | H12: 0 | I12: =SUM(G12:H12) -> 0
C13: Government contribution revenue | D13: ='2.2 Revenue contributions '!D27 -> 0 | F13: =SUM(D13:E13) -> 0 | G13: 0 | H13: 0 | I13: =SUM(G13:H13) -> 0
C14: Profit from sale of fixed assets | D14: 0 | E14: 0 | F14: =SUM(D14:E14) -> 0 | G14: 2.0494717e-12 | H14: 0 | I14: =SUM(G14:H14) -> 2.0494717e-12
B15: 2.3.1 | C15: Other direct revenue | D15: 5571556.1 | E15: 0 | F15: =SUM(D15:E15) -> 5571556.1 | G15: 6225655.6 | H15: 0 | I15: =SUM(G15:H15) -> 6225655.6
C16: Total direct revenue | D16: =SUM(D11:D15) -> 18875057 | E16: =SUM(E11:E15) -> 0 | F16: =SUM(D16:E16) -> 18875057 | G16: =SUM(G11:G15) -> 16526074 | H16: =SUM(H11:H15) -> 0 | I16: =SUM(I11:I15) -> 16526074
C17: Indirect revenue allocated
C18: Other revenue | D18: ='2.3 Indirect revenue'!G36 -> 0 | E18: ='2.3 Indirect revenue'!H36 -> 0 | F18: =SUM(D18:E18) -> 0 | G18: 0 | H18: 0 | I18: =SUM(G18:H18) -> 0
C19: Total indirect revenue allocated | D19: =SUM(D18:D18) -> 0 | E19: =SUM(E18:E18) -> 0 | F19: =SUM(F18:F18) -> 0 | G19: 0 | H19: =SUM(H18:H18) -> 0 | I19: =SUM(I18:I18) -> 0
C20: Total revenue | D20: =D16+D19 -> 18875057 | E20: =E16+E19 -> 0 | F20: =F16+F19 -> 18875057 | G20: =G16+G19 -> 16526074 | H20: =H16+H19 -> 0 | I20: =I16+I19 -> 16526074
C21: Direct costs
B22: 2.3.2 | C22: Repairs and maintenance | D22: 0 | E22: 0 | F22: =SUM(D22:E22) -> 0 | G22: -12045.33 | H22: 0 | I22: =SUM(G22:H22) -> -12045.33
B23: 2.3.2 | C23: Wages | D23: -5825187.1 | E23: 0 | F23: =SUM(D23:E23) -> -5825187.1 | G23: -5150752.2 | H23: 0 | I23: =SUM(G23:H23) -> -5150752.2
B24: 2.3.2.1 | C24: Depreciation | D24: 0 | E24: 0 | F24: =SUM(D24:E24) -> 0 | G24: -64.46 | H24: 0 | I24: =SUM(G24:H24) -> -64.46
B25: 2.3.2 | C25: Insurance | D25: -145057.97 | E25: 0 | F25: =SUM(D25:E25) -> -145057.97 | G25: -136020.36 | H25: 0 | I25: =SUM(G25:H25) -> -136020.36
B26: 2.3.2 | C26: Licence and regulatory costs | D26: -88517.74 | E26: 0 | F26: =SUM(D26:E26) -> -88517.74 | G26: -126800 | H26: 0 | I26: =SUM(G26:H26) -> -126800
B27: 2.3.2 | C27: Directly attributable finance charges | D27: 0 | E27: 0 | F27: =SUM(D27:E27) -> 0 | G27: 0 | H27: 0 | I27: =SUM(G27:H27) -> 0
B28: 2.3.2 | C28: Leasing and rental costs | D28: -142813.85 | E28: 0 | F28: =SUM(D28:E28) -> -142813.85 | G28: -49036.73 | H28: 0 | I28: =SUM(G28:H28) -> -49036.73
B29: 2.3.2 | C29: Other direct costs | D29: -1252006.8 | E29: 0 | F29: =SUM(D29:E29) -> -1252006.8 | G29: -1432356.8 | H29: 0 | I29: =SUM(G29:H29) -> -1432356.8
C30: Total direct costs | D30: =SUM(D22:D29) -> -7453583.5 | E30: =SUM(E22:E29) -> 0 | F30: =SUM(F22:F29) -> -7453583.5 | G30: =SUM(G22:G29) -> -6907075.8 | H30: =SUM(H22:H29) -> 0 | I30: =SUM(I22:I29) -> -6907075.8
C31: Shared costs
C32: Employee costs | D32: =SUMIF('2.4 Shared costs'!$C$9:$C$35,'2. Revenues and expenses'!$C32,'2.4 Shared costs'!$H$9:$H$35) -> 0 | E32: =SUMIF('2.4 Shared costs'!$C$9:$C$35,'2. Revenues and expenses'!$C32,'2.4 Shared costs'!$I$9:$I$35) -> 0 | F32: =SUM(D32:E32) -> 0 | G32: 0 | H32: 0 | I32: =SUM(G32:H32) -> 0
C33: Information technology and communication costs | D33: =SUMIF('2.4 Shared costs'!$C$9:$C$35,'2. Revenues and expenses'!$C33,'2.4 Shared costs'!$H$9:$H$35) -> 0 | E33: =SUMIF('2.4 Shared costs'!$C$9:$C$35,'2. Revenues and expenses'!$C33,'2.4 Shared costs'!$I$9:$I$35) -> 0 | F33: =SUM(D33:E33) -> 0 | G33: 0 | H33: 0 | I33: =SUM(G33:H33) -> 0
C34: Indirect operating expenses | D34: =SUMIF('2.4 Shared costs'!$C$9:$C$35,'2. Revenues and expenses'!$C34,'2.4 Shared costs'!$H$9:$H$35) -> 0 | E34: =SUMIF('2.4 Shared costs'!$C$9:$C$35,'2. Revenues and expenses'!$C34,'2.4 Shared costs'!$I$9:$I$35) -> 0 | F34: =SUM(D34:E34) -> 0 | G34: 0 | H34: 0 | I34: =SUM(G34:H34) -> 0
B35: 2.3.2.1 | C35: Shared asset depreciation | D35: =SUMIF('2.4 Shared costs'!$C$9:$C$35,'2. Revenues and expenses'!$C35,'2.4 Shared costs'!$H$9:$H$35) -> 0 | E35: =SUMIF('2.4 Shared costs'!$C$9:$C$35,'2. Revenues and expenses'!$C35,'2.4 Shared costs'!$I$9:$I$35) -> 0 | F35: =SUM(D35:E35) -> 0 | G35: 0 | H35: 0 | I35: =SUM(G35:H35) -> 0
C36: Rental and leasing costs | D36: =SUMIF('2.4 Shared costs'!$C$9:$C$35,'2. Revenues and expenses'!$C36,'2.4 Shared costs'!$H$9:$H$35) -> 0 | E36: =SUMIF('2.4 Shared costs'!$C$9:$C$35,'2. Revenues and expenses'!$C36,'2.4 Shared costs'!$I$9:$I$35) -> 0 | F36: =SUM(D36:E36) -> 0 | G36: 0 | H36: 0 | I36: =SUM(G36:H36) -> 0
C37: Borrowing costs | D37: =SUMIF('2.4 Shared costs'!$C$9:$C$35,'2. Revenues and expenses'!$C37,'2.4 Shared costs'!$H$9:$H$35) -> 0 | E37: =SUMIF('2.4 Shared costs'!$C$9:$C$35,'2. Revenues and expenses'!$C37,'2.4 Shared costs'!$I$9:$I$35) -> 0 | F37: =SUM(D37:E37) -> 0 | G37: 0 | H37: 0 | I37: =SUM(G37:H37) -> 0
C38: Loss from sale of shared fixed assets | D38: =SUMIF('2.4 Shared costs'!$C$9:$C$35,'2. Revenues and expenses'!$C38,'2.4 Shared costs'!$H$9:$H$35) -> 0 | E38: =SUMIF('2.4 Shared costs'!$C$9:$C$35,'2. Revenues and expenses'!$C38,'2.4 Shared costs'!$I$9:$I$35) -> 0 | F38: =SUM(D38:E38) -> 0 | G38: 0 | H38: 0 | I38: =SUM(G38:H38) -> 0
B39: 2.4.4 | C39: Impairment losses (nature of the impairment loss) | D39: =SUMIF('2.4 Shared costs'!$C$9:$C$35,'2. Revenues and expenses'!$C39,'2.4 Shared costs'!$H$9:$H$35) -> 21949205 | E39: =SUMIF('2.4 Shared costs'!$C$9:$C$35,'2. Revenues and expenses'!$C39,'2.4 Shared costs'!$I$9:$I$35) -> 0 | F39: =SUM(D39:E39) -> 21949205 | G39: -48352417 | H39: 0 | I39: =SUM(G39:H39) -> -48352417
B40: 2.3.2.2 | C40: Other shared costs | D40: =SUMIF('2.4 Shared costs'!$C$9:$C$35,'2. Revenues and expenses'!$C40,'2.4 Shared costs'!$H$9:$H$35) -> -1926645.1 | E40: =SUMIF('2.4 Shared costs'!$C$9:$C$35,'2. Revenues and expenses'!$C40,'2.4 Shared costs'!$I$9:$I$35) -> 0 | F40: =SUM(D40:E40) -> -1926645.1 | G40: -1931475.7 | H40: 0 | I40: =SUM(G40:H40) -> -1931475.7
C41: Total shared costs allocated | D41: =SUM(D32:D40) -> 20022560 | E41: =SUM(E32:E40) -> 0 | F41: =SUM(F32:F40) -> 20022560 | G41: =SUM(G32:G40) -> -50283893 | H41: =SUM(H32:H40) -> 0 | I41: =SUM(I32:I40) -> -50283893
C42: Total costs | D42: =D30+D41 -> 12568977 | E42: =E30+E41 -> 0 | F42: =F30+F41 -> 12568977 | G42: =G30+G41 -> -57190969 | H42: =H30+H41 -> 0 | I42: =I30+I41 -> -57190969
...

Sheet 2.1 Revenue by service
B1: Revenue by service
B2: =Tradingname -> APT PARMELIA PTY LTD
B3: Reporting Period | C3: =TEXT(Yearstart,"dd/mm/yyyy")&" to "&TEXT(Yearending,"dd/mm/yyyy") -> 01/07/2024 to 30/06/2025
B5: Table 2.1.1: Revenue by service
D7: Reporting period | G7: Previous reporting period
B8: Basis of Preparation reference | C8: Description | D8: Amounts excluding related party transactions | E8: Related party transactions | F8: Total | G8: Amounts excluding related party transactions | H8: Related party transactions | I8: Total
D9: $ nominal | E9: $ nominal | F9: $ nominal | G9: $ nominal | H9: $ nominal | I9: $ nominal
C10: Revenue by service
B11: 2.3.1 & 2.3.1.1 | C11: Firm forward haul transportation services | D11: 11481112 | E11: 0 | F11: =SUM(D11:E11) -> 11481112 | G11: 8075887.6 | H11: 0 | I11: =SUM(G11:H11) -> 8075887.6
B12: 2.3.1 | C12: Interruptible or as available transportation services | D12: 803765.71 | E12: 0 | F12: =SUM(D12:E12) -> 803765.71 | G12: 1362670 | H12: 0 | I12: =SUM(G12:H12) -> 1362670
B13: 2.3.1 | C13: Backhaul services | D13: 0 | E13: 0 | F13: =SUM(D13:E13) -> 0 | G13: 0 | H13: 0 | I13: =SUM(G13:H13) -> 0
B14: 2.3.1 | C14: Firm stand-alone compression service | D14: 0 | E14: 0 | F14: =SUM(D14:E14) -> 0 | G14: 0 | H14: 0 | I14: =SUM(G14:H14) -> 0
B15: 2.3.1 | C15: Interruptible or as available stand-alone compression service | D15: 0 | E15: 0 | F15: =SUM(D15:E15) -> 0 | G15: 0 | H15: 0 | I15: =SUM(G15:H15) -> 0
B16: 2.3.1 | C16: Park services | D16: 0 | E16: 0 | F16: =SUM(D16:E16) -> 0 | G16: 0 | H16: 0 | I16: =SUM(G16:H16) -> 0
B17: 2.3.1 | C17: Park and loan services | D17: 0 | E17: 0 | F17: =SUM(D17:E17) -> 0 | G17: 0 | H17: 0 | I17: =SUM(G17:H17) -> 0
B18: 2.3.1 | C18: Capacity trading service | D18: 0 | E18: 0 | F18: =SUM(D18:E18) -> 0 | G18: 0 | H18: 0 | I18: =SUM(G18:H18) -> 0
B19: 2.3.1 | C19: In pipe trading service | D19: 5393.43 | E19: 0 | F19: =SUM(D19:E19) -> 5393.43 | G19: 5408.66 | H19: 0 | I19: =SUM(G19:H19) -> 5408.66
B20: 2.3.1 | C20: Other pipeline revenue (if relevant) | D20: 1013229.7 | E20: 0 | F20: =SUM(D20:E20) -> 1013229.7 | G20: 856451.71 | H20: 0 | I20: =SUM(G20:H20) -> 856451.71
C21: Total service revenue | D21: =SUM(D11:D20) -> 13303501 | E21: =SUM(E11:E20) -> 0 | F21: =SUM(F11:F20) -> 13303501 | G21: =SUM(G11:G20) -> 10300418 | H21: =SUM(H11:H20) -> 0 | I21: =SUM(I11:I20) -> 10300418

Sheet 2.2 Revenue contributions 
B1: Revenue - contributions
B2: =Tradingname -> APT PARMELIA PTY LTD
B3: Reporting Period | C3: =TEXT(Yearstart,"dd/mm/yyyy")&" to "&TEXT(Yearending,"dd/mm/yyyy") -> 01/07/2024 to 30/06/2025
B5: Table 2.2.1: Customer contributions received
B7: Description | C7: Amounts excluding related party transactions | D7: Related party transactions | E7: Total
C8: $ nominal | D8: $ nominal | E8: $ nominal
B9: Customer Contributions | C9: 0 | D9: 0 | E9: =SUM(C9:D9) -> 0
E10: =SUM(C10:D10) -> 0
E11: =SUM(C11:D11) -> 0
E12: =SUM(C12:D12) -> 0
E13: =SUM(C13:D13) -> 0
E14: =SUM(C14:D14) -> 0
B15: Total | C15: =SUM(C9:C14) -> 0 | D15: =SUM(D9:D14) -> 0 | E15: =SUM(E9:E14) -> 0
B17: Table 2.2.2: Government contributions received
B19: Source | C19: Description | D19: Total
D20: $ nominal
B27: Total | D27: =SUM(D21:D26) -> 0

Sheet 2.3 Indirect revenue
B1: Indirect revenue
B2: =Tradingname -> APT PARMELIA PTY LTD | E2: Please ensure allocation methodologies are explained in sufficient detail in the Basis of Preparation as required under section 3.2.4 of the Guideline
B3: Reporting Period | C3: =TEXT(Yearstart,"dd/mm/yyyy")&" to "&TEXT(Yearending,"dd/mm/yyyy") -> 01/07/2024 to 30/06/2025
B5: Table 2.3.1: Indirect revenue allocation
B7: Basis of Preparation reference | C7: Description | D7: Indirect revenue excluding related parties | E7: Indirect revenue from related parties | F7: % allocated to pipeline | G7: Total allocated to pipeline excluding related parties | H7: Total related party amounts allocated to pipeline
C8: (list each individual revenue item) | D8: $ nominal | E8: $ nominal | G8: $ nominal | H8: $ nominal
G9: =D9*F9 -> 0 | H9: =E9*F9 -> 0
G10: =D10*F10 -> 0 | H10: =E10*F10 -> 0
G11: =D11*F11 -> 0 | H11: =E11*F11 -> 0
G12: =D12*F12 -> 0 | H12: =E12*F12 -> 0
G13: =D13*F13 -> 0 | H13: =E13*F13 -> 0
G14: =D14*F14 -> 0 | H14: =E14*F14 -> 0
G15: =D15*F15 -> 0 | H15: =E15*F15 -> 0
G16: =D16*F16 -> 0 | H16: =E16*F16 -> 0
G17: =D17*F17 -> 0 | H17: =E17*F17 -> 0
G18: =D18*F18 -> 0 | H18: =E18*F18 -> 0
G19: =D19*F19 -> 0 | H19: =E19*F19 -> 0
G20: =D20*F20 -> 0 | H20: =E20*F20 -> 0
... G35: =D35*F35 -> 0 | H35: =E35*F35 -> 0
C36: Total | D36: =SUM(D9:D35) -> 0 | E36: =SUM(E9:E35) -> 0 | G36: =SUM(G9:G35) -> 0 | H36: =SUM(H9:H35) -> 0

Sheet 2.4 Shared costs
B1: Shared costs
B2: =Tradingname -> APT PARMELIA PTY LTD | E2: Please ensure allocation methodologies are explained in sufficient detail in the Basis of Preparation as required under section 3.2.4 of the Guideline
B3: Reporting Period | C3: =TEXT(Yearstart,"dd/mm/yyyy")&" to "&TEXT(Yearending,"dd/mm/yyyy") -> 01/07/2024 to 30/06/2025
B5: Table 2.4.1: Shared cost allocation
B7: Basis of Preparation reference | C7: Description | D7: Income statement account applied to | E7: Shared costs excluding related parties | F7: Shared costs paid to related parties | G7: % allocated to pipeline | H7: Total allocated to pipeline excluding related parties | I7: Total related party amounts allocated to pipeline
C8: (list each individual cost) | E8: $ nominal | F8: $ nominal | H8: $ nominal | I8: $ nominal
C9: Employee costs | H9: =E9*G9 -> 0 | I9: =F9*G9 -> 0
C10: Information technology and communication costs | H10: =E10*G10 -> 0 | I10: =F10*G10 -> 0
C11: Indirect operating expenses | H11: =E11*G11 -> 0 | I11: =F11*G11 -> 0
B12: 2.3.2.1 | C12: Shared asset depreciation | E12: -43523480 | H12: =E12*G12 -> 0 | I12: =F12*G12 -> 0
C13: Rental and leasing costs | H13: =E13*G13 -> 0 | I13: =F13*G13 -> 0
C14: Borrowing costs | H14: =E14*G14 -> 0 | I14: =F14*G14 -> 0
C15: Loss from sale of shared fixed assets | H15: =E15*G15 -> 0 | I15: =F15*G15 -> 0
C16: Impairment losses (nature of the impairment loss) | E16: 21949205 | G16: 1 | H16: =E16*G16 -> 21949205 | I16: =F16*G16 -> 0
C17: Other shared costs | E17: =SUM(E18:E35) -> -1.9794512e+08 | F17: =SUM(F18:F35) -> 0 | H17: =SUM(H18:H35) -> -1926645.1 | I17: =SUM(I18:I35) -> 0
B18: 2.3.2.2 | C18: Corporate operating expenditure | E18: -1.8771435e+08 | G18: 0.010263707 | H18: =E18*G18 -> -1926645.1 | I18: =F18*G18 -> 0
B19: 2.3.2.2 | C19: Shared leased interest (Refer to Note 6) | E19: -1341212.8 | G19: 0 | H19: =E19*G19 -> 0 | I19: =F19*G19 -> 0
B20: 2.3.2.1 | C20: Shared leased asset depreciation (Refer to Note 6) | E20: -8889555.5 | G20: =G19 -> 0 | H20: =E20*G20 -> 0 | I20: =F20*G20 -> 0
H21: =E21*G21 -> 0 | I21: =F21*G21 -> 0
H22: =E22*G22 -> 0 | I22: =F22*G22 -> 0
H23: =E23*G23 -> 0 | I23: =F23*G23 -> 0
H24: =E24*G24 -> 0 | I24: =F24*G24 -> 0
H25: =E25*G25 -> 0 | I25: =F25*G25 -> 0
H26: =E26*G26 -> 0 | I26: =F26*G26 -> 0
H27: =E27*G27 -> 0 | I27: =F27*G27 -> 0
H28: =E28*G28 -> 0 | I28: =F28*G28 -> 0
H29: =E29*G29 -> 0 | I29: =F29*G29 -> 0
H30: =E30*G30 -> 0 | I30: =F30*G30 -> 0
H31: =E31*G31 -> 0 | I31: =F31*G31 -> 0
H32: =E32*G32 -> 0 | I32: =F32*G32 -> 0
... H35: =E35*G35 -> 0 | I35: =F35*G35 -> 0
C36: Total | E36: =SUM(E9:E17) -> -2.1951939e+08 | F36: =SUM(F9:F17) -> 0 | H36: =SUM(H9:H17) -> 20022560 | I36: =SUM(I9:I17) -> 0

Sheet 3.1 Asset useful life
B1: Asset useful life
B2: =Tradingname -> APT PARMELIA PTY LTD
B3: Reporting Period | C3: =TEXT(Yearstart,"dd/mm/yyyy")&" to "&TEXT(Yearending,"dd/mm/yyyy") -> 01/07/2024 to 30/06/2025
B5: Table 3.1.1: Asset useful life
B7: Basis of Preparation reference | C7: Description (list each individual balance sheet item) | D7: Acquisition date | E7: Useful life | F7: Reason for choosing this useful life
E8: years
B9: 2.4 | C9: ='3. Statement of pipeline assets'!C9 -> Pipelines | D9: =CONCATENATE("17/8/2004"," to ",TEXT(Yearending,"d/m/yyyy")) -> 17/8/2004 to 30/6/2025 | E9: 80 | F9: Per Appendix A - Pipeline asset lives
B10: 2.4 | C10: ='3. Statement of pipeline assets'!C17 -> Compressors | D10: =CONCATENATE("17/8/2004"," to ",TEXT(Yearending,"d/m/yyyy")) -> 17/8/2004 to 30/6/2025 | E10: 35 | F10: Per Appendix A - Pipeline asset lives
B11: 2.4 | C11: ='3. Statement of pipeline assets'!C24 -> City Gates, supply regulators and valve stations | D11: =CONCATENATE("17/8/2004"," to ",TEXT(Yearending,"d/m/yyyy")) -> 17/8/2004 to 30/6/2025 | E11: 50 | F11: Per Appendix A - Pipeline asset lives
B12: 2.4 | C12: ='3. Statement of pipeline assets'!C31 -> Metering | D12: =CONCATENATE("17/8/2004"," to ",TEXT(Yearending,"d/m/yyyy")) -> 17/8/2004 to 30/6/2025 | E12: 50 | F12: Per Appendix A - Pipeline asset lives
B13: 2.4 | C13: ='3. Statement of pipeline assets'!C38 -> Odorant plants | D13: =CONCATENATE("17/8/2004"," to ",TEXT(Yearending,"d/m/yyyy")) -> 17/8/2004 to 30/6/2025 | E13: 80 | F13: Per Appendix A - Pipeline asset lives
B14: 2.4 | C14: ='3. Statement of pipeline assets'!C45 -> SCADA (Communications) | D14: =CONCATENATE("17/8/2004"," to ",TEXT(Yearending,"d/m/yyyy")) -> 17/8/2004 to 30/6/2025 | E14: 15 | F14: Per Appendix A - Pipeline asset lives
B15: 2.4 | C15: ='3. Statement of pipeline assets'!C52 -> Buildings | D15: =CONCATENATE("17/8/2004"," to ",TEXT(Yearending,"d/m/yyyy")) -> 17/8/2004 to 30/6/2025 | E15: 80 | F15: Per Appendix A - Pipeline asset lives
B16: 2.4 | C16: ='3. Statement of pipeline assets'!C66 -> Other depreciable pipeline assets | D16: =CONCATENATE("17/8/2004"," to ",TEXT(Yearending,"d/m/yyyy")) -> 17/8/2004 to 30/6/2025 | E16: 5-80 | F16: Per Appendix A - Pipeline asset lives
B17: 2.4 | C17: Land and easements | D17: =CONCATENATE("17/8/2004"," to ",TEXT(Yearending,"d/m/yyyy")) -> 17/8/2004 to 30/6/2025 | E17: N/A | F17: Indefinite
C18: insert asset description
C19: insert asset description
C20: insert asset description
B21: 2.4.6 | C21: ='3. Statement of pipeline assets'!C73 -> Leased Assets | D21: =CONCATENATE("1/7/2019"," to ",TEXT(Yearending,"d/m/yyyy")) -> 1/7/2019 to 30/6/2025 | E21: Various | F21: Per leased asset life
C22: insert asset description
C23: insert asset description
C24: insert asset description
C25: insert asset description
C26: insert asset description
B27: 2.4 | C27: ='3. Statement of pipeline assets'!C83 -> Shared property, plant and equipment | D27: =CONCATENATE("1/6/2000"," to ",TEXT(Yearending,"d/m/yyyy")) -> 1/6/2000 to 30/6/2025 | E27: 5 | F27: Per Appendix A - Pipeline asset lives
C28: insert asset description
C29: insert asset description
C30: insert asset description
C31: insert asset description
C32: insert asset description
B33: 2.4.5 | C33: ='3. Statement of pipeline assets'!C90 -> Shared leased assets | D33: =CONCATENATE("1/7/2019"," to ",TEXT(Yearending,"d/m/yyyy")) -> 1/7/2019 to 30/6/2025 | E33: Various | F33: Per leased asset life
C34: insert asset description
C35: insert asset description
C36: insert asset description
C37: insert asset description
C38: insert asset description

Sheet 3.2 Asset impairment
B1: Asset impairment
B2: =Tradingname -> APT PARMELIA PTY LTD
B3: Reporting Period | C3: =TEXT(Yearstart,"dd/mm/yyyy")&" to "&TEXT(Yearending,"dd/mm/yyyy") -> 01/07/2024 to 30/06/2025
B5: Table 3.2.1: Assets impaired
B7: Asset description | C7: Impairment amount $ nominal | D7: Impairment date | E7: Basis for impairment
B8: Parmelia Pipeline | C8: 11440576 | D8: 43646 | E8: Part 23 Book value exceeds the part 23 Recoverable value. | F8: Note: For the purposes of Part 23 reporting the Part 23 Book value exceeds the Part 23 recoverable value on a stand-alone basis however there is no statutory impairment for Parmelia on a cash generating unit basis. For further information, please refer to the section 3.2 of the tab called "6. Notes".
B9: Parmelia Pipeline | C9: 8154880.7 | D9: 44012 | E9: Part 23 Book value exceeds the part 23 Recoverable value.
B10: Parmelia Pipeline | C10: 47554920 | D10: 44377 | E10: Part 23 Book value exceeds the part 23 Recoverable value.
B11: Parmelia Pipeline | C11: 5664930.2 | D11: 44742 | E11: Part 23 Book value exceeds the part 23 Recoverable value.
B12: Parmelia Pipeline | C12: 11101489 | D12: 45107 | E12: Part 23 Book value exceeds the part 23 Recoverable value.
B13: Parmelia Pipeline | C13: 48352417 | D13: 45473 | E13: Part 23 Book value exceeds the part 23 Recoverable value.
B25: Table 3.2.2: Asset impairment reversals
B27: Asset description | C27: Prior Impairment amount $ nominal | D27: Impairment date | E27: Basis for impairment | F27: Reversal amount $nominal | G27: Reversal date | H27: Basis for Reversal
B28: Parmelia Pipeline | C28: =SUM(C8:C13) -> 1.3226921e+08 | D28: 45473 | E28: =E13 -> Part 23 Book value exceeds the part 23 Recoverable value. | F28: -21949205 | G28: 45838 | H28: Part 23 reversal impairment loss (see tab 6.Notes).

Sheet 3. Statement of pipeline assets
B1: Statement of pipeline assets
B2: =Tradingname -> APT PARMELIA PTY LTD
B3: Reporting Period | C3: =TEXT(Yearstart,"dd/mm/yyyy")&" to "&TEXT(Yearending,"dd/mm/yyyy") -> 01/07/2024 to 30/06/2025
B5: Table 3.1: Pipeline assets
B7: Basis of Preparation reference | C7: Description | D7: Reporting period | E7: Previous reporting period
C8: Pipeline Assets
C9: Pipelines | D9: $ nominal | E9: $ nominal
B10: 2.4 | C10: Initial construction or acquisition costs | D10: =SUMIF('3.3 Depreciation amortisation'!$D$9:$D$52,'3. Statement of pipeline assets'!C9,'3.3 Depreciation amortisation'!$H$9:$H$52) -> 10314985 | E10: 10314985
B11: 2.4 | C11: Additions | D11: =SUMIF('3.3 Depreciation amortisation'!$D$9:$D$52,'3. Statement of pipeline assets'!C9,'3.3 Depreciation amortisation'!$I$9:$I$52) -> 54134950 | E11: 81162064
B12: 2.4 | C12: Capitalised maintenance or improvements | D12: =SUMIF('3.3 Depreciation amortisation'!$D$9:$D$52,'3. Statement of pipeline assets'!C9,'3.3 Depreciation amortisation'!$J$9:$J$52) -> 4302266 | E12: 4302266
C13: Total capitalised pipeline construction costs | D13: =SUM(D10:D12) -> 68752201 | E13: =SUM(E10:E12) -> 95779315
B14: 2.4 | C14: Depreciation and impairment | D14: =SUMIF('3.3 Depreciation amortisation'!$D$9:$D$52,'3. Statement of pipeline assets'!C9,'3.3 Depreciation amortisation'!$M$9:$M$52)+SUMIF('3.3 Depreciation amortisation'!$D$9:$D$52,'3. Statement of pipeline assets'!C9,'3.3 Depreciation amortisation'!$N$9:$N$52) -> -66332456 | E14: -93359570
B15: 2.4 | C15: Disposals or early termination (at cost) | D15: =SUMIF('3.3 Depreciation amortisation'!$D$9:$D$52,'3. Statement of pipeline assets'!C9,'3.3 Depreciation amortisation'!$K$9:$K$52) -> -2419745.3 | E15: -2419745.3
C16: Closing pipeline carrying value | D16: =SUM(D13:D15) -> -0.00098804664 | E16: =SUM(E13:E15) -> 1.8626451e-08
C17: Compressors
B18: 2.4 | C18: Initial construction or acquisition costs | D18: =SUMIF('3.3 Depreciation amortisation'!$D$9:$D$52,'3. Statement of pipeline assets'!C17,'3.3 Depreciation amortisation'!$H$9:$H$52) -> 582242.42 | E18: 582242.42
B19: 2.4 | C19: Additions | D19: =SUMIF('3.3 Depreciation amortisation'!$D$9:$D$52,'3. Statement of pipeline assets'!C17,'3.3 Depreciation amortisation'!$I$9:$I$52) -> 1360366.4 | E19: 1360366.4
B20: 2.4 | C20: Capitalised maintenance or improvements | D20: =SUMIF('3.3 Depreciation amortisation'!$D$9:$D$52,'3. Statement of pipeline assets'!C17,'3.3 Depreciation amortisation'!$J$9:$J$52) -> 0 | E20: 0
B21: 2.4 | C21: Depreciation and impairment | D21: =SUMIF('3.3 Depreciation amortisation'!$D$9:$D$52,'3. Statement of pipeline assets'!C17,'3.3 Depreciation amortisation'!$M$9:$M$52)+SUMIF('3.3 Depreciation amortisation'!$D$9:$D$52,'3. Statement of pipeline assets'!C17,'3.3 Depreciation amortisation'!$N$9:$N$52) -> -1529157.6 | E21: -1529157.6
B22: 2.4 | C22: Disposal or early termination (at cost) | D22: =SUMIF('3.3 Depreciation amortisation'!$D$9:$D$52,'3. Statement of pipeline assets'!C17,'3.3 Depreciation amortisation'!$K$9:$K$52) -> -413451.13 | E22: -413451.13
C23: Closing compressors carrying value | D23: =SUM(D18:D22) -> 0.001967213 | E23: =SUM(E18:E22) -> 0
C24: City Gates, supply regulators and valve stations
B25: 2.4 | C25: Initial construction or acquisition costs | D25: =SUMIF('3.3 Depreciation amortisation'!$D$9:$D$52,'3. Statement of pipeline assets'!C24,'3.3 Depreciation amortisation'!$H$9:$H$52) -> 232221.87 | E25: 232221.87
B26: 2.4 | C26: Additions | D26: =SUMIF('3.3 Depreciation amortisation'!$D$9:$D$52,'3. Statement of pipeline assets'!C24,'3.3 Depreciation amortisation'!$I$9:$I$52) -> 2476519.6 | E26: 781984.5
B27: 2.4 | C27: Capitalised maintenance or improvements | D27: =SUMIF('3.3 Depreciation amortisation'!$D$9:$D$52,'3. Statement of pipeline assets'!C24,'3.3 Depreciation amortisation'!$J$9:$J$52) -> 0 | E27: 0
B28: 2.4 | C28: Depreciation and impairment | D28: =SUMIF('3.3 Depreciation amortisation'!$D$9:$D$52,'3. Statement of pipeline assets'!C24,'3.3 Depreciation amortisation'!$M$9:$M$52)+SUMIF('3.3 Depreciation amortisation'!$D$9:$D$52,'3. Statement of pipeline assets'!C24,'3.3 Depreciation amortisation'!$N$9:$N$52) -> -2567343.6 | E28: -872808.51
B29: 2.4 | C29: Disposal or early termination (at cost) | D29: =SUMIF('3.3 Depreciation amortisation'!$D$9:$D$52,'3. Statement of pipeline assets'!C24,'3.3 Depreciation amortisation'!$K$9:$K$52) -> -141397.86 | E29: -141397.86
C30: Closing city gates, supply regulators and valve stations carrying value | D30: =SUM(D25:D29) -> 0.00032786874 | E30: =SUM(E25:E29) -> 0
C31: Metering
B32: 2.4 | C32: Initial construction or acquisition costs | D32: =SUMIF('3.3 Depreciation amortisation'!$D$9:$D$52,'3. Statement of pipeline assets'!C31,'3.3 Depreciation amortisation'!$H$9:$H$52) -> 388978.41 | E32: 388978.41
B33: 2.4 | C33: Additions | D33: =SUMIF('3.3 Depreciation amortisation'!$D$9:$D$52,'3. Statement of pipeline assets'!C31,'3.3 Depreciation amortisation'!$I$9:$I$52) -> 11631428 | E33: 10746703
B34: 2.4 | C34: Capitalised maintenance or improvements | D34: =SUMIF('3.3 Depreciation amortisation'!$D$9:$D$52,'3. Statement of pipeline assets'!C31,'3.3 Depreciation amortisation'!$J$9:$J$52) -> 0 | E34: 0
B35: 2.4 | C35: Depreciation and impairment | D35: =SUMIF('3.3 Depreciation amortisation'!$D$9:$D$52,'3. Statement of pipeline assets'!C31,'3.3 Depreciation amortisation'!$M$9:$M$52)+SUMIF('3.3 Depreciation amortisation'!$D$9:$D$52,'3. Statement of pipeline assets'!C31,'3.3 Depreciation amortisation'!$N$9:$N$52) -> -11781804 | E35: -10897078
B36: 2.4 | C36: Disposal or early termination (at cost) | D36: =SUMIF('3.3 Depreciation amortisation'!$D$9:$D$52,'3. Statement of pipeline assets'!C31,'3.3 Depreciation amortisation'!$K$9:$K$52) -> -238602.89 | E36: -238602.89
C37: Closing Metering | D37: =SUM(D32:D36) -> -0.0044262292 | E37: =SUM(E32:E36) -> 3.783498e-10
C38: Odorant plants
B39: 2.4 | C39: Initial construction or acquisition costs | D39: =SUMIF('3.3 Depreciation amortisation'!$D$9:$D$52,'3. Statement of pipeline assets'!C38,'3.3 Depreciation amortisation'!$H$9:$H$52) -> 19917.874 | E39: 19917.874
B40: 2.4 | C40: Additions | D40: =SUMIF('3.3 Depreciation amortisation'!$D$9:$D$52,'3. Statement of pipeline assets'!C38,'3.3 Depreciation amortisation'!$I$9:$I$52) -> 994392.62 | E40: 994392.62
B41: 2.4 | C41: Capitalised maintenance or improvements | D41: =SUMIF('3.3 Depreciation amortisation'!$D$9:$D$52,'3. Statement of pipeline assets'!C38,'3.3 Depreciation amortisation'!$J$9:$J$52) -> 0 | E41: 0
B42: 2.4 | C42: Depreciation and impairment | D42: =SUMIF('3.3 Depreciation amortisation'!$D$9:$D$52,'3. Statement of pipeline assets'!C38,'3.3 Depreciation amortisation'!$M$9:$M$52)+SUMIF('3.3 Depreciation amortisation'!$D$9:$D$52,'3. Statement of pipeline assets'!C38,'3.3 Depreciation amortisation'!$N$9:$N$52) -> -993328.78 | E42: -993328.78
...

Sheet 3.3 Depreciation amortisation
B1: Depreciation and amortisation
B2: =Tradingname -> APT PARMELIA PTY LTD
B3: Reporting Period | C3: =TEXT(Yearstart,"dd/mm/yyyy")&" to "&TEXT(Yearending,"dd/mm/yyyy") -> 01/07/2024 to 30/06/2025
B5: Table 3.3.1: Pipeline assets at cost | I5: Additions, capitalised maintenance and disposals must be reported on a cumulative basis
B7: Basis of Preparation reference | C7: Description | D7: Category | E7: Acquisition date | F7: Useful life | G7: Estimated residual value | H7: Initial construction or acquisition cost | I7: Additions | J7: Capitalised maintenance or improvements | K7: Disposals or Early termination | L7: Cost base | M7: Prior years' accumulated depreciation | N7: Current year depreciation | O7: Written down value
F8: Years | G8: $ nominal | H8: $ nominal | I8: $ nominal | J8: $ nominal | K8: $ nominal | L8: $ nominal | M8: $ nominal | N8: $ nominal | O8: $ nominal
B9: 2.4 | D9: Pipelines | E9: ='3.1 Asset useful life'!D9 -> 17/8/2004 to 30/6/2025 | F9: 80 | G9: 0 | H9: 10314985 | I9: 54134950 | J9: 4302266 | K9: -2419745.3 | L9: =SUM(H9:K9) -> 66332456 | M9: -93359570 | N9: 27027114 | O9: =SUM(L9:N9) -> -0.00098804384
B10: 2.4 | D10: Compressors | E10: ='3.1 Asset useful life'!D10 -> 17/8/2004 to 30/6/2025 | F10: 35 | G10: 0 | H10: 582242.42 | I10: 1360366.4 | J10: 0 | K10: -413451.13 | L10: =SUM(H10:K10) -> 1529157.6 | M10: -1529157.6 | N10: 0 | O10: =SUM(L10:N10) -> 0.0019672131
B11: 2.4 | D11: City Gates, supply regulators and valve stations | E11: ='3.1 Asset useful life'!D11 -> 17/8/2004 to 30/6/2025 | F11: 50 | G11: 0 | H11: 232221.87 | I11: 2476519.6 | J11: 0 | K11: -141397.86 | L11: =SUM(H11:K11) -> 2567343.6 | M11: -872808.51 | N11: -1694535.1 | O11: =SUM(L11:N11) -> 0.00032786909
B12: 2.4 | D12: Metering | E12: ='3.1 Asset useful life'!D12 -> 17/8/2004 to 30/6/2025 | F12: 50 | G12: 0 | H12: 388978.41 | I12: 11631428 | J12: 0 | K12: -238602.89 | L12: =SUM(H12:K12) -> 11781804 | M12: -10897078 | N12: -884725.4 | O12: =SUM(L12:N12) -> -0.0044262294
B13: 2.4 | D13: Odorant plants | E13: ='3.1 Asset useful life'!D13 -> 17/8/2004 to 30/6/2025 | F13: 80 | G13: 0 | H13: 19917.874 | I13: 994392.62 | J13: 0 | K13: -20981.71 | L13: =SUM(H13:K13) -> 993328.78 | M13: -993328.78 | N13: 0 | O13: =SUM(L13:N13) -> 0.0032786885
B14: 2.4 | D14: SCADA (Communications) | E14: ='3.1 Asset useful life'!D14 -> 17/8/2004 to 30/6/2025 | F14: 15 | G14: 0 | H14: 9937.0772 | I14: 1981760.8 | J14: 0 | K14: -178091 | L14: =SUM(H14:K14) -> 1813606.9 | M14: -1682451.2 | N14: -131155.61 | O14: =SUM(L14:N14) -> 0
B15: 2.4 | D15: Buildings | E15: ='3.1 Asset useful life'!D15 -> 17/8/2004 to 30/6/2025 | F15: 80 | G15: 0 | H15: 59530.884 | I15: 2061578.5 | J15: 0 | K15: -204748.63 | L15: =SUM(H15:K15) -> 1916360.8 | M15: -702497.79 | N15: -1213863 | O15: =SUM(L15:N15) -> 0.0027868855
B16: 2.4 | D16: Other depreciable pipeline assets | E16: ='3.1 Asset useful life'!D16 -> 17/8/2004 to 30/6/2025 | F16: 5-80 | G16: 0 | H16: 537034.43 | I16: 17683587 | J16: 0 | K16: -2606197.1 | L16: =SUM(H16:K16) -> 15614424 | M16: -3394585.1 | N16: -12219839 | O16: =SUM(L16:N16) -> 0.024046687
B17: 2.4 | D17: Land and easements | E17: ='3.1 Asset useful life'!D17 -> 17/8/2004 to 30/6/2025 | F17: N/A | G17: 0 | H17: 499349.66 | I17: 250867.05 | J17: 0 | K17: -22638.78 | L17: =SUM(H17:K17) -> 727577.93 | M17: -727577.93 | N17: 0 | O17: =SUM(L17:N17) -> 0
B18: 2.4.6 | D18: Leased assets | E18: ='3.1 Asset useful life'!D21 -> 1/7/2019 to 30/6/2025 | F18: Various | G18: 0 | H18: 627279.98 | I18: 1766734.5 | J18: 0 | K18: 0 | L18: =SUM(H18:K18) -> 2394014.5 | M18: -2339423.7 | N18: -54590.8 | O18: =SUM(L18:N18) -> -1.7462298e-10
L19: =SUM(H19:K19) -> 0 | O19: =SUM(L19:N19) -> 0
L20: =SUM(H20:K20) -> 0 | O20: =SUM(L20:N20) -> 0
L21: =SUM(H21:K21) -> 0 | O21: =SUM(L21:N21) -> 0
L22: =SUM(H22:K22) -> 0 | O22: =SUM(L22:N22) -> 0
L23: =SUM(H23:K23) -> 0 | O23: =SUM(L23:N23) -> 0
L24: =SUM(H24:K24) -> 0 | O24: =SUM(L24:N24) -> 0
L25: =SUM(H25:K25) -> 0 | O25: =SUM(L25:N25) -> 0
L26: =SUM(H26:K26) -> 0 | O26: =SUM(L26:N26) -> 0
L27: =SUM(H27:K27) -> 0 | O27: =SUM(L27:N27) -> 0
L28: =SUM(H28:K28) -> 0 | O28: =SUM(L28:N28) -> 0
L29: =SUM(H29:K29) -> 0 | O29: =SUM(L29:N29) -> 0
L30: =SUM(H30:K30) -> 0 | O30: =SUM(L30:N30) -> 0
... L52: =SUM(H52:K52) -> 0 | O52: =SUM(L52:N52) -> 0
D53: Total pipeline assets | G53: =SUM(G9:G52) -> 0 | H53: =SUM(H9:H52) -> 13271478 | I53: =SUM(I9:I52) -> 94342185 | J53: =SUM(J9:J52) -> 4302266 | K53: =SUM(K9:K52) -> -6245854.4 | L53: =SUM(L9:L52) -> 1.0567007e+08 | M53: =SUM(M9:M52) -> -1.1649848e+08 | N53: =SUM(N9:N52) -> 10828405 | O53: =SUM(O9:O52) -> 0.02699307
B56: Table 3.3.2: Shared assets at cost
B58: Basis of Preparation reference | C58: Description | D58: Category | E58: Acquisition date | F58: Useful life | G58: Initial construction or acquisition cost | H58: Additions | I58: Capitalised maintenance or improvements | J58: Disposals or Early termination | K58: Cost base | L58: Prior years' accumulated depreciation | M58: Current year depreciation | N58: Written down value
F59: Years | G59: $ nominal | H59: $ nominal | I59: $ nominal | J59: $ nominal | K59: $ nominal | L59: $ nominal | M59: $ nominal | N59: $ nominal
B60: 2.4.5 | C60: Information Technology | D60: Shared property, plant and equipment | E60: During FY03 | F60: ='3.1 Asset useful life'!$E$27 -> 5 | G60: 0 | H60: 0 | I60: 0 | J60: 0 | K60: =SUM(G60:J60) -> 0 | L60: 0 | M60: =IF(SUM(K60:L60)>0,-K60/F60,0) -> 0 | N60: =SUM(K60:M60) -> 0
B61: 2.4.5 | C61: Information Technology | D61: Shared property, plant and equipment | E61: During FY04 | F61: ='3.1 Asset useful life'!$E$27 -> 5 | G61: 0 | H61: 0 | I61: 0 | J61: 0 | K61: =SUM(G61:J61) -> 0 | L61: 0 | M61: =IF(SUM(K61:L61)>0,-K61/F61,0) -> 0 | N61: =SUM(K61:M61) -> 0
B62: 2.4.5 | C62: Information Technology | D62: Shared property, plant and equipment | E62: During FY05 | F62: ='3.1 Asset useful life'!$E$27 -> 5 | G62: 0 | H62: 0 | I62: 0 | J62: 0 | K62: =SUM(G62:J62) -> 0 | L62: 0 | M62: =IF(SUM(K62:L62)>0,-K62/F62,0) -> 0 | N62: =SUM(K62:M62) -> 0
B63: 2.4.5 | C63: Information Technology | D63: Shared property, plant and equipment | E63: During FY06 | F63: ='3.1 Asset useful life'!$E$27 -> 5 | G63: 11660.332 | H63: 0 | I63: 0 | J63: 0 | K63: =SUM(G63:J63) -> 11660.332 | L63: -11660.332 | N63: =SUM(K63:M63) -> 0
B64: 2.4.5 | C64: Information Technology | D64: Shared property, plant and equipment | E64: During FY07 | F64: ='3.1 Asset useful life'!$E$27 -> 5 | G64: 44180.583 | H64: 0 | I64: 0 | J64: 0 | K64: =SUM(G64:J64) -> 44180.583 | L64: -44180.583 | N64: =SUM(K64:M64) -> 0
B65: 2.4.5 | C65: Information Technology | D65: Shared property, plant and equipment | E65: During FY08 | F65: ='3.1 Asset useful life'!$E$27 -> 5 | G65: 112502.63 | H65: 0 | I65: 0 | J65: -3476.9962 | K65: =SUM(G65:J65) -> 109025.63 | L65: -109025.63 | N65: =SUM(K65:M65) -> 0
B66: 2.4.5 | C66: Information Technology | D66: Shared property, plant and equipment | E66: During FY09 | F66: ='3.1 Asset useful life'!$E$27 -> 5 | G66: 68479.729 | H66: 0 | I66: 0 | J66: -13948.533 | K66: =SUM(G66:J66) -> 54531.196 | L66: -54531.196 | N66: =SUM(K66:M66) -> 0
...

Sheet 3.4 Shared supporting assets
B1: Shared supporting assets
B2: =Tradingname -> APT PARMELIA PTY LTD | E2: Please ensure allocation methodologies are explained in sufficient detail in the Basis of Preparation as required under section 3.2.4 of the Guideline
B3: Reporting Period | C3: =TEXT(Yearstart,"dd/mm/yyyy")&" to "&TEXT(Yearending,"dd/mm/yyyy") -> 01/07/2024 to 30/06/2025
B5: Table 3.4.1: Shared supporting asset allocation
B7: Basis of Preparation reference | C7: Description (list each individual shared asset category greater than 5%) | D7: Category of shared assets | E7: Total amount | F7: % allocated to pipeline | G7: Total allocated to pipeline
E8: $ nominal | G8: $ nominal
B9: 2.4.5 | C9: Information Technology | D9: Shared property, plant and equipment | E9: 5.0112527e+08 | F9: 0.0084028282 | G9: =E9*F9 -> 4210869.5
B10: 2.4.5 | C10: Shared leased assets | D10: Shared leased assets | E10: 86146035 | F10: 0.007227864 | G10: =E10*F10 -> 622651.82
G11: =E11*F11 -> 0
G12: =E12*F12 -> 0
G13: =E13*F13 -> 0
G14: =E14*F14 -> 0
G15: =E15*F15 -> 0
G16: =E16*F16 -> 0
G17: =E17*F17 -> 0
G18: =E18*F18 -> 0
G19: =E19*F19 -> 0
G20: =E20*F20 -> 0
G21: =E21*F21 -> 0
G22: =E22*F22 -> 0
... G35: =E35*F35 -> 0
C36: Total | E36: =SUM(E9:E35) -> 5.8727131e+08 | G36: =SUM(G9:G35) -> 4833521.4

Sheet Auditor's Report Statements

Sheet 4. Recovered capital
B1: Recovered capital method (rule 569(4))
B2: =Tradingname -> APT PARMELIA PTY LTD
B3: Reporting Period | C3: =TEXT(Yearstart,"dd/mm/yyyy")&" to "&TEXT(Yearending,"dd/mm/yyyy") -> 01/07/2024 to 30/06/2025
B5: Table 4.1: Recovered capital method - pipeline assets
B7: Basis of Preparation reference | C7: Asset description | E7: Total | F7: Year | BI7: Drag and drop columns if required
F8: =RIGHT(TEXT(C38,"dd/mm/yyyy"),4) -> 1971 | G8: =F8+1 -> 1972 | H8: =G8+1 -> 1973 | I8: =H8+1 -> 1974 | J8: =I8+1 -> 1975 | K8: =J8+1 -> 1976 | L8: =K8+1 -> 1977 | M8: =L8+1 -> 1978 | N8: =M8+1 -> 1979 | ... BH8: =BG8+1 -> 2025
B9: 3 | C9: Pipeline assets
D10: Construction cost | E10: =SUM(F10:BH10) -> 62500000 | F10: 0 | G10: 0 | H10: 0 | I10: 0 | J10: 0 | K10: 0 | L10: 0 | M10: 0 | N10: 0 | O10: 0 | P10: 0 | Q10: 0 | R10: 0 | S10: 0 | T10: 0 | U10: 0 | V10: 0 | W10: 0 | X10: 0 | Y10: 0 | Z10: 0 | AA10: 0 | AB10: 0 | AC10: 0 | AD10: 0 | AE10: 0 | AF10: 0 | AG10: 0 | AH10: 0 | AI10: 62500000 | AJ10: 0 | AK10: 0 | AL10: 0 | AM10: 0 | AN10: 0 | AO10: 0 | AP10: 0 | AQ10: 0 | AR10: 0 | AS10: 0 | AT10: 0 | AU10: 0 | AV10: 0 | AW10: 0 | AX10: 0 | AY10: 0 | AZ10: 0 | BA10: 0 | BB10: 0 | BC10: 0 | BD10: 0 | BE10: 0 | BF10: 0 | BG10: 0
D11: Negative residual value | E11: =SUM(F11:BH11) -> 20350549 | F11: 0 | G11: 0 | H11: 0 | I11: 0 | J11: 0 | K11: 0 | L11: 0 | M11: 0 | N11: 0 | O11: 0 | P11: 0 | Q11: 0 | R11: 0 | S11: 0 | T11: 0 | U11: 0 | V11: 0 | W11: 0 | X11: 0 | Y11: 0 | Z11: 0 | AA11: 0 | AB11: 0 | AC11: 0 | AD11: 0 | AE11: 0 | AF11: 0 | AG11: 0 | AH11: 0 | AI11: 2426064.4 | AJ11: 148605.08 | AK11: 72574.576 | AL11: 69118.644 | AM11: 69118.644 | AN11: 69118.644 | AO11: 71365 | AP11: 73149.125 | AQ11: 74977.853 | AR11: 76852.299 | AS11: 78773.607 | AT11: 80742.947 | AU11: 82761.521 | AV11: 84830.559 | AW11: 86951.323 | AX11: 89125.106 | AY11: 91353.233 | AZ11: 93637.064 | BA11: 95977.991 | BB11: 98377.441 | BC11: 100836.88 | BD11: 103357.8 | BE11: 260395.53 | BF11: 271096.72 | BG11: 58115483 | BH11: -42534096
D12: Additions | E12: =SUM(F12:BH12) -> 1.0185741e+08 | F12: 0 | G12: 0 | H12: 0 | I12: 0 | J12: 0 | K12: 0 | L12: 0 | M12: 0 | N12: 0 | O12: 0 | P12: 0 | Q12: 0 | R12: 0 | S12: 0 | T12: 0 | U12: 0 | V12: 0 | W12: 0 | X12: 0 | Y12: 0 | Z12: 0 | AA12: 0 | AB12: 0 | AC12: 0 | AD12: 0 | AE12: 0 | AF12: 0 | AG12: 0 | AH12: 0 | AI12: 295232.51 | AJ12: 4374445.7 | AK12: 137272.05 | AL12: 699725.38 | AM12: 578635.71 | AN12: 2148835.1 | AO12: 266347.9 | AP12: 4875903.2 | AQ12: 7603786.4 | AR12: 1590503.6 | AS12: 2353010.9 | AT12: 971404.68 | AU12: 2689590.8 | AV12: 3296276.6 | AW12: 3076449.4 | AX12: 389521.35 | AY12: 3130359.7 | AZ12: 4326860.2 | BA12: 2817492.2 | BB12: 6389339 | BC12: 3514279 | BD12: 3474037.5 | BE12: 18847387 | BF12: 9620953.3 | BG12: 8823311.9 | BH12: 5566451.1
D13: Maintenance capitalised | E13: =SUM(F13:BH13) -> 6891627.2 | F13: 0 | G13: 0 | H13: 0 | I13: 0 | J13: 0 | K13: 0 | L13: 0 | M13: 0 | N13: 0 | O13: 0 | P13: 0 | Q13: 0 | R13: 0 | S13: 0 | T13: 0 | U13: 0 | V13: 0 | W13: 0 | X13: 0 | Y13: 0 | Z13: 0 | AA13: 0 | AB13: 0 | AC13: 0 | AD13: 0 | AE13: 0 | AF13: 0 | AG13: 0 | AH13: 0 | AI13: 365336.96 | AJ13: 0 | AK13: 0 | AL13: 0 | AM13: 0 | AN13: 0 | AO13: 0 | AP13: 0 | AQ13: 0 | AR13: 0 | AS13: 0 | AT13: 0 | AU13: 677164.42 | AV13: 0 | AW13: 0 | AX13: 0 | AY13: 0 | AZ13: 1772600.4 | BA13: 132066.62 | BB13: 97013.843 | BC13: 759786.17 | BD13: 0 | BE13: 433325.74 | BF13: 1219137.1 | BG13: 807655.08 | BH13: 627540.89
D14: Disposal (at cost) | E14: =SUM(F14:BH14) -> -4703554.1 | F14: 0 | G14: 0 | H14: 0 | I14: 0 | J14: 0 | K14: 0 | L14: 0 | M14: 0 | N14: 0 | O14: 0 | P14: 0 | Q14: 0 | R14: 0 | S14: 0 | T14: 0 | U14: 0 | V14: 0 | W14: 0 | X14: 0 | Y14: 0 | Z14: 0 | AA14: 0 | AB14: 0 | AC14: 0 | AD14: 0 | AE14: 0 | AF14: 0 | AG14: 0 | AH14: 0 | AI14: 0 | AJ14: 0 | AK14: 0 | AL14: 0 | AM14: 0 | AN14: 0 | AO14: 0 | AP14: 0 | AQ14: 0 | AR14: 0 | AS14: -2123.9538 | AT14: -1448793.6 | AU14: -121241.44 | AV14: -561083.15 | AW14: -93270.051 | AX14: -812704.19 | AY14: -1017184.9 | AZ14: -46262.211 | BA14: -26513.843 | BB14: -54051.805 | BC14: 0 | BD14: -136069.02 | BE14: -42905.256 | BF14: 0 | BG14: -317870.58 | BH14: -23480.144
D15: Leased Asset | E15: =SUM(F15:BH15) -> 2425839.7 | F15: 0 | G15: 0 | H15: 0 | I15: 0 | J15: 0 | K15: 0 | L15: 0 | M15: 0 | N15: 0 | O15: 0 | P15: 0 | Q15: 0 | R15: 0 | S15: 0 | T15: 0 | U15: 0 | V15: 0 | W15: 0 | X15: 0 | Y15: 0 | Z15: 0 | AA15: 0 | AB15: 0 | AC15: 0 | AD15: 0 | AE15: 0 | AF15: 0 | AG15: 0 | AH15: 0 | AI15: 0 | AJ15: 0 | AK15: 0 | AL15: 0 | AM15: 0 | AN15: 0 | AO15: 0 | AP15: 0 | AQ15: 0 | AR15: 0 | AS15: 0 | AT15: 0 | AU15: 0 | AV15: 0 | AW15: 0 | AX15: 0 | AY15: 0 | AZ15: 0 | BA15: 0 | BB15: 0 | BC15: 648876.41 | BD15: -67863.393 | BE15: 420378.78 | BF15: 1276842.3 | BG15: 147605.61 | BH15: 0
D16: Cost base | E16: =SUM(F16:BH16) -> 1.8932187e+08 | F16: =SUM(F9:F15) -> 0 | G16: =SUM(G9:G15) -> 0 | H16: =SUM(H9:H15) -> 0 | I16: =SUM(I9:I15) -> 0 | J16: =SUM(J9:J15) -> 0 | K16: =SUM(K9:K15) -> 0 | L16: =SUM(L9:L15) -> 0 | M16: =SUM(M9:M15) -> 0 | ... BH16: =SUM(BH9:BH15) -> -36363585
