Workbook
Name ______UAG99: #REF!
Name _____cpi1: #REF!
Name _____CPI2: #REF!
Name _____IRR1: #REF!
Name _____LUT1: #REF!
Name _____NPV1: #REF!
Name _____UAG99: #REF!
Name ____cpi1: #REF!
Name ____CPI2: #REF!
Name ____IRR1: #REF!
Name ____IZS2: #REF!
Name ____LUT1: #REF!
Name ____NPV1: #REF!
Name ____NPV2: #REF!
Name ____UAG99: #REF!
Name ___cpi1: #REF!
Name ___CPI2: #REF!
Name ___IRR1: #REF!
Name ___IZS2: #REF!
Name ___LUT1: #REF!
Name ___May08: #REF!
Name ___NPV1: #REF!
Name ___NPV2: #REF!
Name ___Tot220: #REF!
Name ___Tot237: #REF!
Name ___Tot257: #REF!
Name ___Tot258: #REF!
Name ___UAG99: #REF!
Name __cpi1: #REF!
Name __CPI2: #REF!
Name __DAT1: #REF!
Name __DAT14: #REF!
Name __DAT5: #REF!
Name __DAT6: #REF!
Name __DataSet1__: #REF!
Name __DataSet2__: #REF!
Name __DataSet3__: #REF!
Name __DataSet4__: #REF!
Name __int997: #REF!
Name __IRR1: #REF!
Name __IZS2: #REF!
Name __JUN09: #REF!
Name __LUT1: #REF!
Name __MAIN__: #REF!
Name __May08: #REF!
Name __NPV1: #REF!
Name __NPV2: #REF!
Name __PL1: #REF!
Name __TableData__: #REF!
Name __TB1: #REF!
Name __Tot220: #REF!
Name __Tot221: #REF!
Name __Tot232: #REF!
Name __Tot237: #REF!
Name __Tot257: #REF!
Name __Tot258: #REF!
Name __UAG99: #REF!
Name _0020: #REF!
Name _0030: #REF!
Name _0270: #REF!

Sheet Cover
A1: Gas Pipeline Operator
A2: Reporting template
A4: This template is to be uploaded by a Gas Pipeline Operator to its website to fulfil its annual reporting obligations.
A6: Colour coding of input sheets:
A7: Dark cyan = ERA instructions/headings
A8: Yellow = Input cells
A9: Grey - Not applicable/No inputs required
A11: Leave coloured cells blank if no information exists - PLEASE DO NOT ENTER TEXT unless specifically requested to do so.
A12: All dollar amounts are to be unrounded, and in nominal terms.
A15: Service provider: | C15: EII GAS TRANSMISSION SERVICES WA (OPERATIONS) PTY LIMITED
A17: Australian business number: | C17: 15 106 043 332
A19: Pipeline name: | C19: Telfer Gas Pipeline
A21: Reporting period start date: | C21: 44927
A23: Reporting period end date: | C23: 45291
A25: Publication date of this report: | C25: 45412
A27: Reported information is current at: | C27: 45291
A29: Has any information in this template been amended since last published within this current reporting period? | C29: No | F29: Amendment reference | I29: N/a
A33: Business address | B33: Address | D33: Level 25, 580 George Street
B34: Suburb | D34: Sydney
C35: State | D35: NSW | E35: Postcode | F35: 2000
A37: Postal address | B37: Address | D37: PO Box R41
B38: Suburb | D38: Royal Exchange
C39: State | D39: NSW | E39: Postcode | F39: 1225
A42: Contact name/s | B42: Kynwynn Strong (General Manager Investor Relations & Capital Markets)
A43: Contact phone/s | B43: +61 (03) 9463 8408
A44: Contact email address/s | B44: APARegReporting@apa.com.au

Sheet Contents
F3: Table of contents

Sheet Summary
B1: Summary
B2: =Tradingname -> EII GAS TRANSMISSION SERVICES WA (OPERATIONS) PTY LIMITED
B3: Year ending | C3: =TEXT(Yearstart,"dd/mm/yyyy")&" to "&TEXT(Yearending,"dd/mm/yyyy") -> 01/01/2023 to 31/12/2023
B4: All numbers are expressed in $nominal
B8: Revenues and expenses (Table 2.1) | C8: Amounts excluding related party transactions | D8: Related party transactions | E8: Total
B9: Direct revenue | C9: ='2. Revenues and expenses'!D16 -> 4906032.7 | D9: ='2. Revenues and expenses'!E16 -> 0 | E9: ='2. Revenues and expenses'!F16 -> 4906032.7
B10: Indirect revenue allocated | C10: ='2. Revenues and expenses'!D19 -> 0 | D10: ='2. Revenues and expenses'!E19 -> 0 | E10: ='2. Revenues and expenses'!F19 -> 0
B11: Total revenue | C11: ='2. Revenues and expenses'!D20 -> 4906032.7 | D11: ='2. Revenues and expenses'!E20 -> 0 | E11: ='2. Revenues and expenses'!F20 -> 4906032.7
B12: Direct costs | C12: ='2. Revenues and expenses'!D30 -> -4915680.9 | D12: ='2. Revenues and expenses'!E30 -> 0 | E12: ='2. Revenues and expenses'!F30 -> -4915680.9
B13: Shared costs allocated | C13: ='2. Revenues and expenses'!D41 -> 0 | D13: ='2. Revenues and expenses'!E41 -> 0 | E13: ='2. Revenues and expenses'!F41 -> 0
B14: Total costs | C14: ='2. Revenues and expenses'!D42 -> -4915680.9 | D14: ='2. Revenues and expenses'!E42 -> 0 | E14: ='2. Revenues and expenses'!F42 -> -4915680.9
B15: Earnings before interest and tax (EBIT) | C15: ='2. Revenues and expenses'!D43 -> -9648.2935 | D15: ='2. Revenues and expenses'!E43 -> 0 | E15: ='2. Revenues and expenses'!F43 -> -9648.2935
B18: Statement of pipeline assets (Table 3.1) | C18: Cumulative value as at current reporting period | D18: Cumulative value as at previous reporting period
B19: Pipelines | C19: ='3. Statement of pipeline assets'!D16 -> -1.4901161e-08 | D19: ='3. Statement of pipeline assets'!E16 -> 325653.48
B20: Compressors | C20: ='3. Statement of pipeline assets'!D23 -> 1.8626451e-09 | D20: ='3. Statement of pipeline assets'!E23 -> 27105.03
B21: City Gates, supply regulators and valve stations | C21: ='3. Statement of pipeline assets'!D30 -> 3.6379788e-12 | D21: ='3. Statement of pipeline assets'!E30 -> 214.89664
B22: Metering | C22: ='3. Statement of pipeline assets'!D37 -> 0 | D22: ='3. Statement of pipeline assets'!E37 -> 11576.135
B23: Odourant plants | C23: ='3. Statement of pipeline assets'!D44 -> 0 | D23: ='3. Statement of pipeline assets'!E44 -> 0
B24: SCADA (Communications) | C24: ='3. Statement of pipeline assets'!D51 -> 0 | D24: ='3. Statement of pipeline assets'!E51 -> 5363.7776
B25: Buildings | C25: ='3. Statement of pipeline assets'!D58 -> 0 | D25: ='3. Statement of pipeline assets'!E58 -> 0
B26: Land and easements | C26: ='3. Statement of pipeline assets'!D65 -> 0 | D26: ='3. Statement of pipeline assets'!E65 -> 0
B27: Other depreciable pipeline assets | C27: ='3. Statement of pipeline assets'!D72 -> 0.13533744 | D27: ='3. Statement of pipeline assets'!E72 -> 11792.998
B28: Leased Assets | C28: ='3. Statement of pipeline assets'!D79 -> 0 | D28: ='3. Statement of pipeline assets'!E79 -> 0
B29: Other non-depreciable pipeline assets | C29: ='3. Statement of pipeline assets'!D80 -> 186368.15 | D29: ='3. Statement of pipeline assets'!E80 -> 2552936.9
B30: Total pipeline assets | C30: ='3. Statement of pipeline assets'!D81 -> 186368.29 | D30: ='3. Statement of pipeline assets'!E81 -> 2934643.2
B31: Shared property, plant and equipment | C31: ='3. Statement of pipeline assets'!D89 -> 0 | D31: ='3. Statement of pipeline assets'!E89 -> 0
B32: Shared leased assets | C32: ='3. Statement of pipeline assets'!D96 -> 0 | D32: ='3. Statement of pipeline assets'!E96 -> 0
B33: Inventories | C33: ='3. Statement of pipeline assets'!D97 -> 0 | D33: ='3. Statement of pipeline assets'!E97 -> 0
B34: Deferred tax assets | C34: ='3. Statement of pipeline assets'!D98 -> 3447962.1 | D34: ='3. Statement of pipeline assets'!E98 -> 3940974.4
B35: Other shared assets | C35: ='3. Statement of pipeline assets'!D99 -> 0 | D35: ='3. Statement of pipeline assets'!E99 -> 0
B36: Total shared assets allocated | C36: ='3. Statement of pipeline assets'!D100 -> 3447962.1 | D36: ='3. Statement of pipeline assets'!E100 -> 3940974.4
B37: Total assets | C37: ='3. Statement of pipeline assets'!D101 -> 3634330.3 | D37: ='3. Statement of pipeline assets'!E101 -> 6875617.7
B38: Return on assets (EBIT/Total assets value) (Table 1.1.1) | C38: ='1.1 Financial performance'!C10 -> -0.0026547651
B41: Recovered capital value (Table 4.1) | C41: Cumulative value as at current reporting period | D41: =VALUE(RIGHT(TEXT(Yearending,"dd/mm/yyyy"),4)) -> 2023
B42: Pipeline assets cost base | C42: ='4. Recovered capital'!E16 -> 1.298938e+08
B43: Shared assets allocated cost base | C43: ='4. Recovered capital'!E23 -> 0
B44: Total assets | C44: ='4. Recovered capital'!E24 -> 1.298938e+08
B45: Return of capital
B46: Revenue | C46: ='4. Recovered capital'!E26 -> 3.2999144e+08 | D46: =IFERROR(INDEX('4. Recovered capital'!$F$8:$BH$34,MATCH($B46,'4. Recovered capital'!$D$8:$D$34,0),MATCH(D$41,'4. Recovered capital'!$F$8:$BH$8,0)),) -> 5706571.2
B47: Operating expenses | C47: ='4. Recovered capital'!E27 -> -75457025 | D47: =IFERROR(INDEX('4. Recovered capital'!$F$8:$BH$34,MATCH($B47,'4. Recovered capital'!$D$8:$D$34,0),MATCH(D$41,'4. Recovered capital'!$F$8:$BH$8,0)),) -> -4533974.8
...

Sheet 1. Pipeline information
B1: Pipeline information
B2: =Tradingname -> EII GAS TRANSMISSION SERVICES WA (OPERATIONS) PTY LIMITED
B3: Reporting Period | C3: =TEXT(Yearstart,"dd/mm/yyyy")&" to "&TEXT(Yearending,"dd/mm/yyyy") -> 01/01/2023 to 31/12/2023
B5: Table 1.1: Pipeline details
B7: Pipeline location | C7: Western Australia
B8: Pipeline length (km) | C8: 443
B9: Number of customers | C9: 2
B10: Service type | C10: Transmission
B12: Table 1.2: Pipeline services provided
B14: Service description | C14: Provided to non related parties | D14: Provided to related parties
B15: Transportation services
B16: Firm forward haul transportation service | C16: Yes | D16: No
B17: Interruptible or as available transportation service | C17: Yes | D17: No
B18: Backhaul services | C18: No | D18: No
B19: Stand-alone compression services
B20: Firm stand-alone compression service | C20: No | D20: No
B21: Interruptible or as available stand-alone compression service | C21: No | D21: No
B22: Storage services
B23: Park services | C23: Yes | D23: No
B24: Park and loan services | C24: No | D24: No
B25: Trading services
B26: Capacity trading service | C26: No | D26: No
B27: In pipe trading service | C27: No | D27: No
B28: Other (please specify)
B29: other service (insert description)
B30: other service (insert description)
B31: other service (insert description)
B32: other service (insert description)
B33: other service (insert description)
B34: other service (insert description)
B35: other service (insert description)
B36: other service (insert description)

Sheet 1.1 Financial performance
B1: Financial performance measures
B2: =Tradingname -> EII GAS TRANSMISSION SERVICES WA (OPERATIONS) PTY LIMITED
B3: Reporting Period | C3: =TEXT(Yearstart,"dd/mm/yyyy")&" to "&TEXT(Yearending,"dd/mm/yyyy") -> 01/01/2023 to 31/12/2023
B5: Table 1.1.1: Return on assets
C7: Pipeline
B8: Earnings before interest and tax | C8: ='2. Revenues and expenses'!F43 -> -9648.2935
B9: Total assets | C9: ='3. Statement of pipeline assets'!$D$101 -> 3634330.3
B10: Return on assets | C10: =IFERROR(C8/C9,0) -> -0.0026547651

Sheet 2. Revenues and expenses
B1: Statement of pipeline revenues and expenses
B2: =Tradingname -> EII GAS TRANSMISSION SERVICES WA (OPERATIONS) PTY LIMITED
B3: Reporting Period | C3: =TEXT(Yearstart,"dd/mm/yyyy")&" to "&TEXT(Yearending,"dd/mm/yyyy") -> 01/01/2023 to 31/12/2023
B5: Table 2.1: Statement of pipeline revenues and expenses
D7: Reporting period | G7: Previous reporting period
B8: Basis of Preparation reference | C8: Description | D8: Amounts excluding related party transactions | E8: Related party transactions | F8: Total | G8: Amounts excluding related party transactions | H8: Related party transactions | I8: Total
D9: $ nominal | E9: $ nominal | F9: $ nominal | G9: $ nominal | H9: $ nominal | I9: $ nominal
C10: Direct revenue
B11: 2.3.1 & 2.3.1.1 | C11: Total service revenue | D11: ='2.1 Revenue by service'!D21 -> 5706571.2 | E11: ='2.1 Revenue by service'!E21 -> 0 | F11: =SUM(D11:E11) -> 5706571.2 | G11: ='2.1 Revenue by service'!G21 -> 5370747.7 | H11: ='2.1 Revenue by service'!H21 -> 0 | I11: =SUM(G11:H11) -> 5370747.7
C12: Customer contribution revenue | D12: ='2.2 Revenue contributions '!C15 -> 0 | E12: ='2.2 Revenue contributions '!D15 -> 0 | F12: =SUM(D12:E12) -> 0 | G12: 0 | H12: 0 | I12: =SUM(G12:H12) -> 0
C13: Government contribution revenue | D13: ='2.2 Revenue contributions '!D27 -> 0 | F13: =SUM(D13:E13) -> 0 | G13: 0 | H13: 0 | I13: =SUM(G13:H13) -> 0
C14: Profit from sale of fixed assets | D14: 0 | E14: 0 | F14: =SUM(D14:E14) -> 0 | G14: 0 | H14: 0 | I14: =SUM(G14:H14) -> 0
B15: 2.3.1 | C15: Other direct revenue | D15: -800538.58 | E15: 0 | F15: =SUM(D15:E15) -> -800538.58 | G15: -1070317.1 | H15: 0 | I15: =SUM(G15:H15) -> -1070317.1
C16: Total direct revenue | D16: =SUM(D11:D15) -> 4906032.7 | E16: =SUM(E11:E15) -> 0 | F16: =SUM(D16:E16) -> 4906032.7 | G16: =SUM(G11:G15) -> 4300430.5 | H16: =SUM(H11:H15) -> 0 | I16: =SUM(I11:I15) -> 4300430.5
C17: Indirect revenue allocated
B18: 2.3.1 & 4.3.4 | C18: Other revenue | D18: ='2.3 Indirect revenue'!G36 -> 0 | E18: ='2.3 Indirect revenue'!H36 -> 0 | F18: =SUM(D18:E18) -> 0 | G18: 0 | H18: 0 | I18: =SUM(G18:H18) -> 0
C19: Total indirect revenue allocated | D19: =SUM(D18:D18) -> 0 | E19: =SUM(E18:E18) -> 0 | F19: =SUM(F18:F18) -> 0 | G19: =SUM(G18:G18) -> 0 | H19: =SUM(H18:H18) -> 0 | I19: =SUM(I18:I18) -> 0
C20: Total revenue | D20: =D16+D19 -> 4906032.7 | E20: =E16+E19 -> 0 | F20: =F16+F19 -> 4906032.7 | G20: =G16+G19 -> 4300430.5 | H20: =H16+H19 -> 0 | I20: =I16+I19 -> 4300430.5
C21: Direct costs
B22: 2.3.2 | C22: Repairs and maintenance | D22: 0 | E22: 0 | F22: =SUM(D22:E22) -> 0 | G22: 0 | H22: 0 | I22: =SUM(G22:H22) -> 0
B23: 2.3.2 | C23: Wages | D23: 0 | E23: 0 | F23: =SUM(D23:E23) -> 0 | G23: 0 | H23: 0 | I23: =SUM(G23:H23) -> 0
B24: 2.3.2.1 | C24: Depreciation | D24: -381706.18 | E24: 0 | F24: =SUM(D24:E24) -> -381706.18 | G24: -404887 | H24: 0 | I24: =SUM(G24:H24) -> -404887
B25: 2.3.2 | C25: Insurance | D25: -297819.06 | E25: 0 | F25: =SUM(D25:E25) -> -297819.06 | G25: -268799.99 | H25: 0 | I25: =SUM(G25:H25) -> -268799.99
B26: 2.3.2 | C26: Licence and regulatory costs | D26: -139648.68 | E26: 0 | F26: =SUM(D26:E26) -> -139648.68 | G26: -125185.65 | H26: 0 | I26: =SUM(G26:H26) -> -125185.65
B27: 2.3.2 | C27: Directly attributable finance charges | D27: 0 | E27: 0 | F27: =SUM(D27:E27) -> 0 | G27: 0 | H27: 0 | I27: =SUM(G27:H27) -> 0
B28: 2.3.2 | C28: Leasing and rental costs | D28: 0 | E28: 0 | F28: =SUM(D28:E28) -> 0 | G28: 0 | H28: 0 | I28: =SUM(G28:H28) -> 0
B29: 2.3.2 & 2.3.2.2 | C29: Other direct costs | D29: -4096507 | E29: 0 | F29: =SUM(D29:E29) -> -4096507 | G29: -4503821.5 | H29: 0 | I29: =SUM(G29:H29) -> -4503821.5
C30: Total direct costs | D30: =SUM(D22:D29) -> -4915680.9 | E30: =SUM(E22:E29) -> 0 | F30: =SUM(F22:F29) -> -4915680.9 | G30: =SUM(G22:G29) -> -5302694.1 | H30: =SUM(H22:H29) -> 0 | I30: =SUM(I22:I29) -> -5302694.1
C31: Shared costs
C32: Employee costs | D32: =SUMIF('2.4 Shared costs'!$C$9:$C$35,'2. Revenues and expenses'!$C32,'2.4 Shared costs'!$H$9:$H$35) -> 0 | E32: =SUMIF('2.4 Shared costs'!$C$9:$C$35,'2. Revenues and expenses'!$C32,'2.4 Shared costs'!$I$9:$I$35) -> 0 | F32: =SUM(D32:E32) -> 0 | G32: 0 | H32: 0 | I32: =SUM(G32:H32) -> 0
C33: Information technology and communication costs | D33: =SUMIF('2.4 Shared costs'!$C$9:$C$35,'2. Revenues and expenses'!$C33,'2.4 Shared costs'!$H$9:$H$35) -> 0 | E33: =SUMIF('2.4 Shared costs'!$C$9:$C$35,'2. Revenues and expenses'!$C33,'2.4 Shared costs'!$I$9:$I$35) -> 0 | F33: =SUM(D33:E33) -> 0 | G33: 0 | H33: 0 | I33: =SUM(G33:H33) -> 0
C34: Indirect operating expenses | D34: =SUMIF('2.4 Shared costs'!$C$9:$C$35,'2. Revenues and expenses'!$C34,'2.4 Shared costs'!$H$9:$H$35) -> 0 | E34: =SUMIF('2.4 Shared costs'!$C$9:$C$35,'2. Revenues and expenses'!$C34,'2.4 Shared costs'!$I$9:$I$35) -> 0 | F34: =SUM(D34:E34) -> 0 | G34: 0 | H34: 0 | I34: =SUM(G34:H34) -> 0
C35: Shared asset depreciation | D35: =SUMIF('2.4 Shared costs'!$C$9:$C$35,'2. Revenues and expenses'!$C35,'2.4 Shared costs'!$H$9:$H$35) -> 0 | E35: =SUMIF('2.4 Shared costs'!$C$9:$C$35,'2. Revenues and expenses'!$C35,'2.4 Shared costs'!$I$9:$I$35) -> 0 | F35: =SUM(D35:E35) -> 0 | G35: 0 | H35: 0 | I35: =SUM(G35:H35) -> 0
C36: Rental and leasing costs | D36: =SUMIF('2.4 Shared costs'!$C$9:$C$35,'2. Revenues and expenses'!$C36,'2.4 Shared costs'!$H$9:$H$35) -> 0 | E36: =SUMIF('2.4 Shared costs'!$C$9:$C$35,'2. Revenues and expenses'!$C36,'2.4 Shared costs'!$I$9:$I$35) -> 0 | F36: =SUM(D36:E36) -> 0 | G36: 0 | H36: 0 | I36: =SUM(G36:H36) -> 0
C37: Borrowing costs | D37: =SUMIF('2.4 Shared costs'!$C$9:$C$35,'2. Revenues and expenses'!$C37,'2.4 Shared costs'!$H$9:$H$35) -> 0 | E37: =SUMIF('2.4 Shared costs'!$C$9:$C$35,'2. Revenues and expenses'!$C37,'2.4 Shared costs'!$I$9:$I$35) -> 0 | F37: =SUM(D37:E37) -> 0 | G37: 0 | H37: 0 | I37: =SUM(G37:H37) -> 0
C38: Loss from sale of shared fixed assets | D38: =SUMIF('2.4 Shared costs'!$C$9:$C$35,'2. Revenues and expenses'!$C38,'2.4 Shared costs'!$H$9:$H$35) -> 0 | E38: =SUMIF('2.4 Shared costs'!$C$9:$C$35,'2. Revenues and expenses'!$C38,'2.4 Shared costs'!$I$9:$I$35) -> 0 | F38: =SUM(D38:E38) -> 0 | G38: 0 | H38: 0 | I38: =SUM(G38:H38) -> 0
B39: 2.4.5 | C39: Impairment losses (nature of the impairment loss) | D39: =SUMIF('2.4 Shared costs'!$C$9:$C$35,'2. Revenues and expenses'!$C39,'2.4 Shared costs'!$H$9:$H$35) -> 0 | E39: =SUMIF('2.4 Shared costs'!$C$9:$C$35,'2. Revenues and expenses'!$C39,'2.4 Shared costs'!$I$9:$I$35) -> 0 | F39: =SUM(D39:E39) -> 0 | G39: 0 | H39: 0 | I39: =SUM(G39:H39) -> 0
C40: Other shared costs | D40: =SUMIF('2.4 Shared costs'!$C$9:$C$35,'2. Revenues and expenses'!$C40,'2.4 Shared costs'!$H$9:$H$35) -> 0 | E40: =SUMIF('2.4 Shared costs'!$C$9:$C$35,'2. Revenues and expenses'!$C40,'2.4 Shared costs'!$I$9:$I$35) -> 0 | F40: =SUM(D40:E40) -> 0 | G40: 0 | H40: 0 | I40: =SUM(G40:H40) -> 0
C41: Total shared costs allocated | D41: =SUM(D32:D40) -> 0 | E41: =SUM(E32:E40) -> 0 | F41: =SUM(F32:F40) -> 0 | G41: 0 | H41: 0 | I41: =SUM(I32:I40) -> 0
C42: Total costs | D42: =D30+D41 -> -4915680.9 | E42: =E30+E41 -> 0 | F42: =F30+F41 -> -4915680.9 | G42: -5302694.1 | H42: 0 | I42: =I30+I41 -> -5302694.1
...

Sheet 2.1 Revenue by service
B1: Revenue by service
B2: =Tradingname -> EII GAS TRANSMISSION SERVICES WA (OPERATIONS) PTY LIMITED
B3: Reporting Period | C3: =TEXT(Yearstart,"dd/mm/yyyy")&" to "&TEXT(Yearending,"dd/mm/yyyy") -> 01/01/2023 to 31/12/2023
B5: Table 2.1.1: Revenue by service
D7: Reporting period | G7: Previous reporting period
B8: Basis of Preparation reference | C8: Description | D8: Amounts excluding related party transactions | E8: Related party transactions | F8: Total | G8: Amounts excluding related party transactions | H8: Related party transactions | I8: Total
D9: $ nominal | E9: $ nominal | F9: $ nominal | G9: $ nominal | H9: $ nominal | I9: $ nominal
C10: Revenue by service
B11: 2.3.1 & 2.3.1.1 | C11: Firm forward haul transportation services | D11: 5365742.1 | E11: 0 | F11: =SUM(D11:E11) -> 5365742.1 | G11: 5255747.7 | H11: 0 | I11: =SUM(G11:H11) -> 5255747.7
B12: 2.3.1 | C12: Interruptible or as available transportation services | D12: 99999.96 | E12: 0 | F12: =SUM(D12:E12) -> 99999.96 | G12: 99999.96 | H12: 0 | I12: =SUM(G12:H12) -> 99999.96
B13: 2.3.1 | C13: Backhaul services | D13: 0 | E13: 0 | F13: =SUM(D13:E13) -> 0 | G13: 0 | H13: 0 | I13: =SUM(G13:H13) -> 0
B14: 2.3.1 | C14: Firm stand-alone compression service | D14: 0 | E14: 0 | F14: =SUM(D14:E14) -> 0 | G14: 0 | H14: 0 | I14: =SUM(G14:H14) -> 0
B15: 2.3.1 | C15: Interruptible or as available stand-alone compression service | D15: 0 | E15: 0 | F15: =SUM(D15:E15) -> 0 | G15: 0 | H15: 0 | I15: =SUM(G15:H15) -> 0
B16: 2.3.1 | C16: Park services | D16: 0 | E16: 0 | F16: =SUM(D16:E16) -> 0 | G16: 0 | H16: 0 | I16: =SUM(G16:H16) -> 0
B17: 2.3.1 | C17: Park and loan services | D17: 0 | E17: 0 | F17: =SUM(D17:E17) -> 0 | G17: 0 | H17: 0 | I17: =SUM(G17:H17) -> 0
B18: 2.3.1 | C18: Capacity trading service | D18: 0 | E18: 0 | F18: =SUM(D18:E18) -> 0 | G18: 0 | H18: 0 | I18: =SUM(G18:H18) -> 0
B19: 2.3.1 | C19: In pipe trading service | D19: 0 | E19: 0 | F19: =SUM(D19:E19) -> 0 | G19: 0 | H19: 0 | I19: =SUM(G19:H19) -> 0
B20: 2.3.1 | C20: Other pipeline revenue (if relevant) | D20: 240829.18 | E20: 0 | F20: =SUM(D20:E20) -> 240829.18 | G20: 15000 | H20: 0 | I20: =SUM(G20:H20) -> 15000
C21: Total service revenue | D21: =SUM(D11:D20) -> 5706571.2 | E21: =SUM(E11:E20) -> 0 | F21: =SUM(F11:F20) -> 5706571.2 | G21: =SUM(G11:G20) -> 5370747.7 | H21: =SUM(H11:H20) -> 0 | I21: =SUM(I11:I20) -> 5370747.7

Sheet 2.2 Revenue contributions 
B1: Revenue - contributions
B2: =Tradingname -> EII GAS TRANSMISSION SERVICES WA (OPERATIONS) PTY LIMITED
B3: Reporting Period | C3: =TEXT(Yearstart,"dd/mm/yyyy")&" to "&TEXT(Yearending,"dd/mm/yyyy") -> 01/01/2023 to 31/12/2023
B5: Table 2.2.1: Customer contributions received
B7: Description | C7: Amounts excluding related party transactions | D7: Related party transactions | E7: Total
C8: $ nominal | D8: $ nominal | E8: $ nominal
E9: =SUM(C9:D9) -> 0
E10: =SUM(C10:D10) -> 0
E11: =SUM(C11:D11) -> 0
E12: =SUM(C12:D12) -> 0
E13: =SUM(C13:D13) -> 0
E14: =SUM(C14:D14) -> 0
B15: Total | C15: =SUM(C9:C14) -> 0 | D15: =SUM(D9:D14) -> 0 | E15: =SUM(E9:E14) -> 0
B17: Table 2.2.2: Government contributions received
B19: Source | C19: Description | D19: Total
D20: $ nominal
B27: Total | D27: =SUM(D21:D26) -> 0

Sheet 2.3 Indirect revenue
B1: Indirect revenue
B2: =Tradingname -> EII GAS TRANSMISSION SERVICES WA (OPERATIONS) PTY LIMITED | E2: Please ensure allocation methodologies are explained in sufficient detail in the Basis of Preparation as required under section 3.2.4 of the Guideline
B3: Reporting Period | C3: =TEXT(Yearstart,"dd/mm/yyyy")&" to "&TEXT(Yearending,"dd/mm/yyyy") -> 01/01/2023 to 31/12/2023
B5: Table 2.3.1: Indirect revenue allocation
B7: Basis of Preparation reference | C7: Description | D7: Indirect revenue excluding related parties | E7: Indirect revenue from related parties | F7: % allocated to pipeline | G7: Total allocated to pipeline excluding related parties | H7: Total related party amounts allocated to pipeline
C8: (list each individual revenue item) | D8: $ nominal | E8: $ nominal | G8: $ nominal | H8: $ nominal
G9: =D9*F9 -> 0 | H9: =E9*F9 -> 0
G10: =D10*F10 -> 0 | H10: =E10*F10 -> 0
G11: =D11*F11 -> 0 | H11: =E11*F11 -> 0
G12: =D12*F12 -> 0 | H12: =E12*F12 -> 0
G13: =D13*F13 -> 0 | H13: =E13*F13 -> 0
G14: =D14*F14 -> 0 | H14: =E14*F14 -> 0
G15: =D15*F15 -> 0 | H15: =E15*F15 -> 0
G16: =D16*F16 -> 0 | H16: =E16*F16 -> 0
G17: =D17*F17 -> 0 | H17: =E17*F17 -> 0
G18: =D18*F18 -> 0 | H18: =E18*F18 -> 0
G19: =D19*F19 -> 0 | H19: =E19*F19 -> 0
G20: =D20*F20 -> 0 | H20: =E20*F20 -> 0
... G35: =D35*F35 -> 0 | H35: =E35*F35 -> 0
C36: Total | D36: =SUM(D9:D35) -> 0 | E36: =SUM(E9:E35) -> 0 | G36: =SUM(G9:G35) -> 0 | H36: =SUM(H9:H35) -> 0

Sheet 2.4 Shared costs
B1: Shared costs
B2: =Tradingname -> EII GAS TRANSMISSION SERVICES WA (OPERATIONS) PTY LIMITED | E2: Please ensure allocation methodologies are explained in sufficient detail in the Basis of Preparation as required under section 3.2.4 of the Guideline
B3: Reporting Period | C3: =TEXT(Yearstart,"dd/mm/yyyy")&" to "&TEXT(Yearending,"dd/mm/yyyy") -> 01/01/2023 to 31/12/2023
B5: Table 2.4.1: Shared cost allocation
B7: Basis of Preparation reference | C7: Description | D7: Income statement account applied to | E7: Shared costs excluding related parties | F7: Shared costs paid to related parties | G7: % allocated to pipeline | H7: Total allocated to pipeline excluding related parties | I7: Total related party amounts allocated to pipeline
C8: (list each individual cost) | E8: $ nominal | F8: $ nominal | H8: $ nominal | I8: $ nominal
C9: Employee costs | H9: =E9*G9 -> 0 | I9: =F9*G9 -> 0
C10: Information technology and communication costs | H10: =E10*G10 -> 0 | I10: =F10*G10 -> 0
C11: Indirect operating expenses | H11: =E11*G11 -> 0 | I11: =F11*G11 -> 0
C12: Shared asset depreciation | H12: =E12*G12 -> 0 | I12: =F12*G12 -> 0
C13: Rental and leasing costs | H13: =E13*G13 -> 0 | I13: =F13*G13 -> 0
C14: Borrowing costs | H14: =E14*G14 -> 0 | I14: =F14*G14 -> 0
C15: Loss from sale of shared fixed assets | H15: =E15*G15 -> 0 | I15: =F15*G15 -> 0
B16: 2.4.5 | C16: Impairment losses (nature of the impairment loss) | E16: 0 | G16: 1 | H16: =E16*G16 -> 0 | I16: =F16*G16 -> 0
C17: Other shared costs | E17: =SUM(E18:E35) -> 0 | F17: =SUM(F18:F35) -> 0 | H17: =SUM(H18:H35) -> 0 | I17: =SUM(I18:I35) -> 0
H18: =E18*G18 -> 0 | I18: =F18*G18 -> 0
H19: =E19*G19 -> 0 | I19: =F19*G19 -> 0
H20: =E20*G20 -> 0 | I20: =F20*G20 -> 0
H21: =E21*G21 -> 0 | I21: =F21*G21 -> 0
H22: =E22*G22 -> 0 | I22: =F22*G22 -> 0
H23: =E23*G23 -> 0 | I23: =F23*G23 -> 0
H24: =E24*G24 -> 0 | I24: =F24*G24 -> 0
H25: =E25*G25 -> 0 | I25: =F25*G25 -> 0
H26: =E26*G26 -> 0 | I26: =F26*G26 -> 0
H27: =E27*G27 -> 0 | I27: =F27*G27 -> 0
H28: =E28*G28 -> 0 | I28: =F28*G28 -> 0
H29: =E29*G29 -> 0 | I29: =F29*G29 -> 0
... H35: =E35*G35 -> 0 | I35: =F35*G35 -> 0
C36: Total | E36: =SUM(E9:E17) -> 0 | F36: =SUM(F9:F17) -> 0 | H36: =SUM(H9:H17) -> 0 | I36: =SUM(I9:I17) -> 0

Sheet 3. Statement of pipeline assets
B1: Statement of pipeline assets
B2: =Tradingname -> EII GAS TRANSMISSION SERVICES WA (OPERATIONS) PTY LIMITED
B3: Reporting Period | C3: =TEXT(Yearstart,"dd/mm/yyyy")&" to "&TEXT(Yearending,"dd/mm/yyyy") -> 01/01/2023 to 31/12/2023
B5: Table 3.1: Pipeline assets
B7: Basis of Preparation reference | C7: Description | D7: Reporting period | E7: Previous reporting period
C8: Pipeline Assets
C9: Pipelines | D9: $ nominal | E9: $ nominal
B10: 2.4 | C10: Initial construction or acquisition costs | D10: =SUMIF('3.3 Depreciation amortisation'!$D$9:$D$52,'3. Statement of pipeline assets'!C9,'3.3 Depreciation amortisation'!$H$9:$H$52) -> 95802870 | E10: 95802870
B11: 2.4 | C11: Additions | D11: =SUMIF('3.3 Depreciation amortisation'!$D$9:$D$52,'3. Statement of pipeline assets'!C9,'3.3 Depreciation amortisation'!$I$9:$I$52) -> 920543.44 | E11: 920543.44
B12: 2.4 | C12: Capitalised maintenance or improvements | D12: =SUMIF('3.3 Depreciation amortisation'!$D$9:$D$52,'3. Statement of pipeline assets'!C9,'3.3 Depreciation amortisation'!$J$9:$J$52) -> 614316.53 | E12: 614316.53
C13: Total capitalised pipeline construction costs | D13: =SUM(D10:D12) -> 97337730 | E13: =SUM(E10:E12) -> 97337730
B14: 2.4 | C14: Depreciation and impairment | D14: =SUMIF('3.3 Depreciation amortisation'!$D$9:$D$52,'3. Statement of pipeline assets'!C9,'3.3 Depreciation amortisation'!$M$9:$M$52)+SUMIF('3.3 Depreciation amortisation'!$D$9:$D$52,'3. Statement of pipeline assets'!C9,'3.3 Depreciation amortisation'!$N$9:$N$52) -> -97337730 | E14: -97012077
B15: 2.4 | C15: Disposals or early termination (at cost) | D15: =SUMIF('3.3 Depreciation amortisation'!$D$9:$D$52,'3. Statement of pipeline assets'!C9,'3.3 Depreciation amortisation'!$K$9:$K$52) -> 0 | E15: 0
C16: Closing pipeline carrying value | D16: =SUM(D13:D15) -> -1.4901161e-08 | E16: =SUM(E13:E15) -> 325653.48
C17: Compressors
B18: 2.4 | C18: Initial construction or acquisition costs | D18: =SUMIF('3.3 Depreciation amortisation'!$D$9:$D$52,'3. Statement of pipeline assets'!C17,'3.3 Depreciation amortisation'!$H$9:$H$52) -> 14687043 | E18: 14687043
B19: 2.4 | C19: Additions | D19: =SUMIF('3.3 Depreciation amortisation'!$D$9:$D$52,'3. Statement of pipeline assets'!C17,'3.3 Depreciation amortisation'!$I$9:$I$52) -> 792413.48 | E19: 792413.48
B20: 2.4 | C20: Capitalised maintenance or improvements | D20: =SUMIF('3.3 Depreciation amortisation'!$D$9:$D$52,'3. Statement of pipeline assets'!C17,'3.3 Depreciation amortisation'!$J$9:$J$52) -> 0 | E20: 0
B21: 2.4 | C21: Depreciation and impairment | D21: =SUMIF('3.3 Depreciation amortisation'!$D$9:$D$52,'3. Statement of pipeline assets'!C17,'3.3 Depreciation amortisation'!$M$9:$M$52)+SUMIF('3.3 Depreciation amortisation'!$D$9:$D$52,'3. Statement of pipeline assets'!C17,'3.3 Depreciation amortisation'!$N$9:$N$52) -> -15479457 | E21: -15452352
B22: 2.4 | C22: Disposal or early termination (at cost) | D22: =SUMIF('3.3 Depreciation amortisation'!$D$9:$D$52,'3. Statement of pipeline assets'!C17,'3.3 Depreciation amortisation'!$K$9:$K$52) -> 0 | E22: 0
C23: Closing compressors carrying value | D23: =SUM(D18:D22) -> 1.8626451e-09 | E23: =SUM(E18:E22) -> 27105.03
C24: City Gates, supply regulators and valve stations
B25: 2.4 | C25: Initial construction or acquisition costs | D25: =SUMIF('3.3 Depreciation amortisation'!$D$9:$D$52,'3. Statement of pipeline assets'!C24,'3.3 Depreciation amortisation'!$H$9:$H$52) -> 0 | E25: 0
B26: 2.4 | C26: Additions | D26: =SUMIF('3.3 Depreciation amortisation'!$D$9:$D$52,'3. Statement of pipeline assets'!C24,'3.3 Depreciation amortisation'!$I$9:$I$52) -> 32440.1 | E26: 32440.1
B27: 2.4 | C27: Capitalised maintenance or improvements | D27: =SUMIF('3.3 Depreciation amortisation'!$D$9:$D$52,'3. Statement of pipeline assets'!C24,'3.3 Depreciation amortisation'!$J$9:$J$52) -> 0 | E27: 0
B28: 2.4 | C28: Depreciation and impairment | D28: =SUMIF('3.3 Depreciation amortisation'!$D$9:$D$52,'3. Statement of pipeline assets'!C24,'3.3 Depreciation amortisation'!$M$9:$M$52)+SUMIF('3.3 Depreciation amortisation'!$D$9:$D$52,'3. Statement of pipeline assets'!C24,'3.3 Depreciation amortisation'!$N$9:$N$52) -> -32440.1 | E28: -32225.203
B29: 2.4 | C29: Disposal or early termination (at cost) | D29: =SUMIF('3.3 Depreciation amortisation'!$D$9:$D$52,'3. Statement of pipeline assets'!C24,'3.3 Depreciation amortisation'!$K$9:$K$52) -> 0 | E29: 0
C30: Closing city gates, supply regulators and valve stations carrying value | D30: =SUM(D25:D29) -> 3.6379788e-12 | E30: =SUM(E25:E29) -> 214.89664
C31: Metering
B32: 2.4 | C32: Initial construction or acquisition costs | D32: =SUMIF('3.3 Depreciation amortisation'!$D$9:$D$52,'3. Statement of pipeline assets'!C31,'3.3 Depreciation amortisation'!$H$9:$H$52) -> 3391813 | E32: 3391813
B33: 2.4 | C33: Additions | D33: =SUMIF('3.3 Depreciation amortisation'!$D$9:$D$52,'3. Statement of pipeline assets'!C31,'3.3 Depreciation amortisation'!$I$9:$I$52) -> 11174.35 | E33: 11174.35
B34: 2.4 | C34: Capitalised maintenance or improvements | D34: =SUMIF('3.3 Depreciation amortisation'!$D$9:$D$52,'3. Statement of pipeline assets'!C31,'3.3 Depreciation amortisation'!$J$9:$J$52) -> 0 | E34: 0
B35: 2.4 | C35: Depreciation and impairment | D35: =SUMIF('3.3 Depreciation amortisation'!$D$9:$D$52,'3. Statement of pipeline assets'!C31,'3.3 Depreciation amortisation'!$M$9:$M$52)+SUMIF('3.3 Depreciation amortisation'!$D$9:$D$52,'3. Statement of pipeline assets'!C31,'3.3 Depreciation amortisation'!$N$9:$N$52) -> -3402987.4 | E35: -3391411.2
B36: 2.4 | C36: Disposal or early termination (at cost) | D36: =SUMIF('3.3 Depreciation amortisation'!$D$9:$D$52,'3. Statement of pipeline assets'!C31,'3.3 Depreciation amortisation'!$K$9:$K$52) -> 0 | E36: 0
C37: Closing Metering | D37: =SUM(D32:D36) -> 0 | E37: =SUM(E32:E36) -> 11576.135
C38: Odorant plants
B39: 2.4 | C39: Initial construction or acquisition costs | D39: =SUMIF('3.3 Depreciation amortisation'!$D$9:$D$52,'3. Statement of pipeline assets'!C38,'3.3 Depreciation amortisation'!$H$9:$H$52) -> 0 | E39: 0
B40: 2.4 | C40: Additions | D40: =SUMIF('3.3 Depreciation amortisation'!$D$9:$D$52,'3. Statement of pipeline assets'!C38,'3.3 Depreciation amortisation'!$I$9:$I$52) -> 0 | E40: 0
B41: 2.4 | C41: Capitalised maintenance or improvements | D41: =SUMIF('3.3 Depreciation amortisation'!$D$9:$D$52,'3. Statement of pipeline assets'!C38,'3.3 Depreciation amortisation'!$J$9:$J$52) -> 0 | E41: 0
B42: 2.4 | C42: Depreciation and impairment | D42: =SUMIF('3.3 Depreciation amortisation'!$D$9:$D$52,'3. Statement of pipeline assets'!C38,'3.3 Depreciation amortisation'!$M$9:$M$52)+SUMIF('3.3 Depreciation amortisation'!$D$9:$D$52,'3. Statement of pipeline assets'!C38,'3.3 Depreciation amortisation'!$N$9:$N$52) -> 0 | E42: 0
...

Sheet 3.1 Asset useful life
B1: Asset useful life
B2: =Tradingname -> EII GAS TRANSMISSION SERVICES WA (OPERATIONS) PTY LIMITED
B3: Reporting Period | C3: =TEXT(Yearstart,"dd/mm/yyyy")&" to "&TEXT(Yearending,"dd/mm/yyyy") -> 01/01/2023 to 31/12/2023
B5: Table 3.1.1: Asset useful life
B7: Basis of Preparation reference | C7: Description (list each individual balance sheet item) | D7: Acquisition date | E7: Useful life | F7: Reason for choosing this useful life
E8: years
B9: 2.4 | C9: ='3. Statement of pipeline assets'!C9 -> Pipelines | D9: 39793 | E9: 14.803559 | F9: Service provider's economic useful life
B10: 2.4 | C10: ='3. Statement of pipeline assets'!C17 -> Compressors | D10: 39793 | E10: 14.803559 | F10: Service provider's economic useful life
B11: 2.4 | C11: ='3. Statement of pipeline assets'!C24 -> City Gates, supply regulators and valve stations | D11: 39793 | E11: 14.803559 | F11: Service provider's economic useful life
B12: 2.4 | C12: ='3. Statement of pipeline assets'!C31 -> Metering | D12: 39793 | E12: 14.803559 | F12: Service provider's economic useful life
B13: 2.4 | C13: ='3. Statement of pipeline assets'!C38 -> Odorant plants | D13: 39793 | E13: 14.803559 | F13: Service provider's economic useful life
B14: 2.4 | C14: ='3. Statement of pipeline assets'!C45 -> SCADA (Communications) | D14: 39793 | E14: 14.803559 | F14: Service provider's economic useful life
B15: 2.4 | C15: ='3. Statement of pipeline assets'!C52 -> Buildings | D15: 39793 | E15: 14.803559 | F15: Service provider's economic useful life
B16: 2.4 | C16: ='3. Statement of pipeline assets'!C66 -> Other depreciable pipeline assets | D16: 39793 | E16: 5 to 14.8 years | F16: Service provider's economic useful life
B17: 2.4 | C17: Land and easements | D17: 39793 | E17: N/A | F17: Indefinite
C18: insert asset description
C19: insert asset description
C20: insert asset description
B21: N/A | C21: ='3. Statement of pipeline assets'!C73 -> Leased Assets
C22: insert asset description
C23: insert asset description
C24: insert asset description
C25: insert asset description
C26: insert asset description
B27: 2.4.4 | C27: ='3. Statement of pipeline assets'!C83 -> Shared property, plant and equipment
C28: insert asset description
C29: insert asset description
C30: insert asset description
C31: insert asset description
C32: insert asset description
B33: 2.4.4 | C33: ='3. Statement of pipeline assets'!C90 -> Shared leased assets
C34: insert asset description
C35: insert asset description
C36: insert asset description
C37: insert asset description
C38: insert asset description

Sheet 3.2 Asset impairment
B1: Asset impairment
B2: =Tradingname -> EII GAS TRANSMISSION SERVICES WA (OPERATIONS) PTY LIMITED
B3: Reporting Period | C3: =TEXT(Yearstart,"dd/mm/yyyy")&" to "&TEXT(Yearending,"dd/mm/yyyy") -> 01/01/2023 to 31/12/2023
B5: Table 3.2.1: Assets impaired
B7: Asset description | C7: Impairment amount $ nominal | D7: Impairment date | E7: Basis for impairment
B8: Telfer Gas Pipeline | C8: 7293136 | D8: 43830 | E8: Part 23 Book value exceeds the part 23 Carrying value.
B25: Table 3.2.2: Asset impairment reversals
B27: Asset description | C27: Prior Impairment amount $ nominal | D27: Impairment date | E27: Basis for impairment | F27: Reversal amount $nominal | G27: Reversal date | H27: Basis for Reversal

Sheet 3.3 Depreciation amortisation
B1: Depreciation and amortisation
B2: =Tradingname -> EII GAS TRANSMISSION SERVICES WA (OPERATIONS) PTY LIMITED
B3: Reporting Period | C3: =TEXT(Yearstart,"dd/mm/yyyy")&" to "&TEXT(Yearending,"dd/mm/yyyy") -> 01/01/2023 to 31/12/2023
B5: Table 3.3.1: Pipeline assets at cost | I5: Additions, capitalised maintenance and disposals must be reported on a cumulative basis
B7: Basis of Preparation reference | C7: Description | D7: Category | E7: Acquisition date | F7: Useful life | G7: Estimated residual value | H7: Initial construction or acquisition cost | I7: Additions | J7: Capitalised maintenance or improvements | K7: Disposals or Early termination | L7: Cost base | M7: Prior years' accumulated depreciation | N7: Current year depreciation | O7: Written down value
F8: Years | G8: $ nominal | H8: $ nominal | I8: $ nominal | J8: $ nominal | K8: $ nominal | L8: $ nominal | M8: $ nominal | N8: $ nominal | O8: $ nominal
B9: 2.4 | D9: Pipelines | E9: ='3.1 Asset useful life'!D9 -> 39793 | F9: ='3.1 Asset useful life'!E9 -> 14.803559 | G9: 0 | H9: 95802870 | I9: 920543.44 | J9: 614316.53 | K9: 0 | L9: =SUM(H9:K9) -> 97337730 | M9: -97012077 | N9: -325653.48 | O9: =SUM(L9:N9) -> -1.2631062e-08
B10: 2.4 | D10: Compressors | E10: ='3.1 Asset useful life'!D10 -> 39793 | F10: ='3.1 Asset useful life'!E10 -> 14.803559 | G10: 0 | H10: 14687043 | I10: 792413.48 | J10: 0 | K10: 0 | L10: =SUM(H10:K10) -> 15479457 | M10: -15452352 | N10: -27105.03 | O10: =SUM(L10:N10) -> 2.408342e-09
B11: 2.4 | D11: City Gates, supply regulators and valve stations | E11: ='3.1 Asset useful life'!D11 -> 39793 | F11: ='3.1 Asset useful life'!E11 -> 14.803559 | G11: 0 | H11: 0 | I11: 32440.1 | J11: 0 | K11: 0 | L11: =SUM(H11:K11) -> 32440.1 | M11: -32225.203 | N11: -214.89664 | O11: =SUM(L11:N11) -> 2.7853275e-12
B12: 2.4 | D12: Metering | E12: ='3.1 Asset useful life'!D12 -> 39793 | F12: ='3.1 Asset useful life'!E12 -> 14.803559 | G12: 0 | H12: 3391813 | I12: 11174.35 | J12: 0 | K12: 0 | L12: =SUM(H12:K12) -> 3402987.4 | M12: -3391411.2 | N12: -11576.135 | O12: =SUM(L12:N12) -> -3.8198777e-11
B13: 2.4 | D13: SCADA (Communications) | E13: ='3.1 Asset useful life'!D14 -> 39793 | F13: ='3.1 Asset useful life'!E14 -> 14.803559 | G13: 0 | H13: 858600.29 | I13: 896708.51 | J13: 0 | K13: 0 | L13: =SUM(H13:K13) -> 1755308.8 | M13: -1749945 | N13: -5363.7776 | O13: =SUM(L13:N13) -> -2.8194336e-11
B14: 2.4 | D14: Buildings | E14: ='3.1 Asset useful life'!D15 -> 39793 | F14: ='3.1 Asset useful life'!E15 -> 14.803559 | G14: 0 | H14: 0 | I14: 0 | J14: 0 | K14: 0 | L14: =SUM(H14:K14) -> 0 | M14: 0 | N14: 0 | O14: =SUM(L14:N14) -> 0
B15: 2.4 | D15: Other depreciable pipeline assets | E15: ='3.1 Asset useful life'!D16 -> 39793 | F15: ='3.1 Asset useful life'!E16 -> 5 to 14.8 years | G15: 0 | H15: 20482.081 | I15: 620167.94 | J15: 0 | K15: -15034 | L15: =SUM(H15:K15) -> 625616.02 | M15: -613823.02 | N15: -11792.862 | O15: =SUM(L15:N15) -> 0.13533744
B16: 2.4 | D16: Land and easements | F16: ='3.1 Asset useful life'!E17 -> N/A | G16: 0 | H16: 0 | I16: 167529.08 | J16: 0 | K16: 0 | L16: =SUM(H16:K16) -> 167529.08 | M16: -167529.08 | N16: 0 | O16: =SUM(L16:N16) -> 0
L17: =SUM(H17:K17) -> 0 | O17: =SUM(L17:N17) -> 0
L18: =SUM(H18:K18) -> 0 | O18: =SUM(L18:N18) -> 0
L19: =SUM(H19:K19) -> 0 | O19: =SUM(L19:N19) -> 0
L20: =SUM(H20:K20) -> 0 | O20: =SUM(L20:N20) -> 0
L21: =SUM(H21:K21) -> 0 | O21: =SUM(L21:N21) -> 0
L22: =SUM(H22:K22) -> 0 | O22: =SUM(L22:N22) -> 0
L23: =SUM(H23:K23) -> 0 | O23: =SUM(L23:N23) -> 0
L24: =SUM(H24:K24) -> 0 | O24: =SUM(L24:N24) -> 0
L25: =SUM(H25:K25) -> 0 | O25: =SUM(L25:N25) -> 0
L26: =SUM(H26:K26) -> 0 | O26: =SUM(L26:N26) -> 0
L27: =SUM(H27:K27) -> 0 | O27: =SUM(L27:N27) -> 0
L28: =SUM(H28:K28) -> 0 | O28: =SUM(L28:N28) -> 0
... L52: =SUM(H52:K52) -> 0 | O52: =SUM(L52:N52) -> 0
D53: Total pipeline assets | G53: =SUM(G9:G52) -> 0 | H53: =SUM(H9:H52) -> 1.1476081e+08 | I53: =SUM(I9:I52) -> 3440976.9 | J53: =SUM(J9:J52) -> 614316.53 | K53: =SUM(K9:K52) -> -15034 | L53: =SUM(L9:L52) -> 1.1880107e+08 | M53: =SUM(M9:M52) -> -1.1841936e+08 | N53: =SUM(N9:N52) -> -381706.18 | O53: =SUM(O9:O52) -> 0.13533743
B56: Table 3.3.2: Shared assets at cost
B58: Basis of Preparation reference | C58: Description | D58: Category | E58: Acquisition date | F58: Useful life | G58: Initial construction or acquisition cost | H58: Additions | I58: Capitalised maintenance or improvements | J58: Disposals or Early termination | K58: Cost base | L58: Prior years' accumulated depreciation | M58: Current year depreciation | N58: Written down value
F59: Years | G59: $ nominal | H59: $ nominal | I59: $ nominal | J59: $ nominal | K59: $ nominal | L59: $ nominal | M59: $ nominal | N59: $ nominal
K60: =SUM(G60:J60) -> 0 | N60: =SUM(K60:M60) -> 0
K61: =SUM(G61:J61) -> 0 | N61: =SUM(K61:M61) -> 0
K62: =SUM(G62:J62) -> 0 | N62: =SUM(K62:M62) -> 0
K63: =SUM(G63:J63) -> 0 | N63: =SUM(K63:M63) -> 0
K64: =SUM(G64:J64) -> 0 | N64: =SUM(K64:M64) -> 0
K65: =SUM(G65:J65) -> 0 | N65: =SUM(K65:M65) -> 0
K66: =SUM(G66:J66) -> 0 | N66: =SUM(K66:M66) -> 0
K67: =SUM(G67:J67) -> 0 | N67: =SUM(K67:M67) -> 0
K68: =SUM(G68:J68) -> 0 | N68: =SUM(K68:M68) -> 0
...

Sheet 3.4 Shared supporting assets
B1: Shared supporting assets
B2: =Tradingname -> EII GAS TRANSMISSION SERVICES WA (OPERATIONS) PTY LIMITED | E2: Please ensure allocation methodologies are explained in sufficient detail in the Basis of Preparation as required under section 3.2.4 of the Guideline
B3: Reporting Period | C3: =TEXT(Yearstart,"dd/mm/yyyy")&" to "&TEXT(Yearending,"dd/mm/yyyy") -> 01/01/2023 to 31/12/2023
B5: Table 3.4.1: Shared supporting asset allocation
B7: Basis of Preparation reference | C7: Description (list each individual shared asset category greater than 5%) | D7: Category of shared assets | E7: Total amount | F7: % allocated to pipeline | G7: Total allocated to pipeline
E8: $ nominal | G8: $ nominal
B9: 2.4.4 | C9: Deferred tax asset | D9: Deferred tax asset | E9: ='3. Statement of pipeline assets'!D98 -> 3447962.1 | F9: 1 | G9: =E9*F9 -> 3447962.1
G10: =E10*F10 -> 0
G11: =E11*F11 -> 0
G12: =E12*F12 -> 0
G13: =E13*F13 -> 0
G14: =E14*F14 -> 0
G15: =E15*F15 -> 0
G16: =E16*F16 -> 0
G17: =E17*F17 -> 0
G18: =E18*F18 -> 0
G19: =E19*F19 -> 0
G20: =E20*F20 -> 0
G21: =E21*F21 -> 0
... G35: =E35*F35 -> 0
C36: Total | E36: =SUM(E9:E35) -> 3447962.1 | G36: =SUM(G9:G35) -> 3447962.1

Sheet Auditor's Report Statements

Sheet 4. Recovered capital
B1: Recovered capital method (rule 569(4))
B2: =Tradingname -> EII GAS TRANSMISSION SERVICES WA (OPERATIONS) PTY LIMITED
B3: Reporting Period | C3: =TEXT(Yearstart,"dd/mm/yyyy")&" to "&TEXT(Yearending,"dd/mm/yyyy") -> 01/01/2023 to 31/12/2023
B5: Table 4.1: Recovered capital method - pipeline assets
B7: Basis of Preparation reference | C7: Asset description | E7: Total | F7: Year | BI7: Drag and drop columns if required
F8: =RIGHT(TEXT(C38,"dd/mm/yyyy"),4) -> 2003 | G8: =F8+1 -> 2004 | H8: =G8+1 -> 2005 | I8: =H8+1 -> 2006 | J8: =I8+1 -> 2007 | K8: =J8+1 -> 2008 | L8: =K8+1 -> 2009 | M8: =L8+1 -> 2010 | N8: =M8+1 -> 2011 | ... BH8: =BG8+1 -> 2057
B9: 3 | C9: Pipeline assets
D10: Construction cost | E10: =SUM(F10:BH10) -> 1.2058593e+08 | F10: 0 | G10: 1.2058593e+08 | H10: 0 | I10: 0 | J10: 0 | K10: 0 | L10: 0 | M10: 0 | N10: 0 | O10: 0 | P10: 0 | Q10: 0 | R10: 0 | S10: 0 | T10: 0 | U10: 0 | V10: 0 | W10: 0 | X10: 0 | Y10: 0 | Z10: 0
D11: Negative residual value | E11: =SUM(F11:BH11) -> 0 | F11: 0 | G11: 0 | H11: 0 | I11: 0 | J11: 0 | K11: 0 | L11: 0 | M11: 0 | N11: 0 | O11: 0 | P11: 0 | Q11: 0 | R11: 0 | S11: 0 | T11: 0 | U11: 0 | V11: 0 | W11: 0 | X11: 0 | Y11: 0 | Z11: 0
D12: Additions | E12: =SUM(F12:BH12) -> 9378747 | F12: 0 | G12: 0 | H12: 70944.46 | I12: 0 | J12: 0 | K12: 30834.371 | L12: 50171.15 | M12: 152718.72 | N12: 399496.59 | O12: 572897.22 | P12: 727196.7 | Q12: 408704.65 | R12: 89202.766 | S12: 730501.59 | T12: 615963.71 | U12: 0 | V12: 5487282.4 | W12: 0 | X12: 42832.687 | Y12: 0 | Z12: 0
D13: Maintenance capitalised | E13: =SUM(F13:BH13) -> 0 | F13: 0 | G13: 0 | H13: 0 | I13: 0 | J13: 0 | K13: 0 | L13: 0 | M13: 0 | N13: 0 | O13: 0 | P13: 0 | Q13: 0 | R13: 0 | S13: 0 | T13: 0 | U13: 0 | V13: 0 | W13: 0 | X13: 0 | Y13: 0 | Z13: 0
D14: Disposal (at cost) | E14: =SUM(F14:BH14) -> -70870.542 | F14: 0 | G14: 0 | H14: 0 | I14: 0 | J14: 0 | K14: 0 | L14: 0 | M14: 0 | N14: -70870.542 | O14: 0 | P14: 0 | Q14: 0 | R14: 0 | S14: 0 | T14: 0 | U14: 0 | V14: 0 | W14: 0 | X14: 0 | Y14: 0 | Z14: 0
D15: Leased Asset | E15: =SUM(F15:BH15) -> 0
D16: Cost base | E16: =SUM(F16:BH16) -> 1.298938e+08 | F16: =SUM(F9:F15) -> 0 | G16: =SUM(G9:G15) -> 1.2058593e+08 | H16: =SUM(H9:H15) -> 70944.46 | I16: =SUM(I9:I15) -> 0 | J16: =SUM(J9:J15) -> 0 | K16: =SUM(K9:K15) -> 30834.371 | L16: =SUM(L9:L15) -> 50171.15 | M16: =SUM(M9:M15) -> 152718.72 | ... BH16: =SUM(BH9:BH15) -> 0
B17: 3.2.3 | C17: Shared assets
D18: Construction cost or acquisition cost (where allowed) apportioned | E18: =SUM(F18:BH18) -> 0 | F18: 0 | G18: 0 | H18: 0 | I18: 0 | J18: 0 | K18: 0 | L18: 0 | M18: 0 | N18: 0 | O18: 0 | P18: 0 | Q18: 0 | R18: 0 | S18: 0 | T18: 0 | U18: 0 | V18: 0 | W18: 0 | X18: 0 | Y18: 0 | Z18: 0
D19: Additions | E19: =SUM(F19:BH19) -> 0 | F19: 0 | G19: 0 | H19: 0 | I19: 0 | J19: 0 | K19: 0 | L19: 0 | M19: 0 | N19: 0 | O19: 0 | P19: 0 | Q19: 0 | R19: 0 | S19: 0 | T19: 0 | U19: 0 | V19: 0 | W19: 0 | X19: 0 | Y19: 0 | Z19: 0
D20: Maintenance capitalised | E20: =SUM(F20:BH20) -> 0 | F20: 0 | G20: 0 | H20: 0 | I20: 0 | J20: 0 | K20: 0 | L20: 0 | M20: 0 | N20: 0 | O20: 0 | P20: 0 | Q20: 0 | R20: 0 | S20: 0 | T20: 0 | U20: 0 | V20: 0 | W20: 0 | X20: 0 | Y20: 0 | Z20: 0
D21: Disposal (at cost) | E21: =SUM(F21:BH21) -> 0 | F21: 0 | G21: 0 | H21: 0 | I21: 0 | J21: 0 | K21: 0 | L21: 0 | M21: 0 | N21: 0 | O21: 0 | P21: 0 | Q21: 0 | R21: 0 | S21: 0 | T21: 0 | U21: 0 | V21: 0 | W21: 0 | X21: 0 | Y21: 0 | Z21: 0
D22: Leased Asset | E22: =SUM(F22:BH22) -> 0 | X22: 0 | Y22: 0 | Z22: 0
D23: Cost base | E23: =SUM(F23:BH23) -> 0 | F23: =SUM(F18:F22) -> 0 | G23: =SUM(G18:G22) -> 0 | H23: =SUM(H18:H22) -> 0 | I23: =SUM(I18:I22) -> 0 | J23: =SUM(J18:J22) -> 0 | K23: =SUM(K18:K22) -> 0 | L23: =SUM(L18:L22) -> 0 | M23: =SUM(M18:M22) -> 0 | ... BH23: =SUM(BH18:BH22) -> 0
D24: Total assets | E24: =E16+E23 -> 1.298938e+08 | F24: =F16+F23 -> 0 | G24: =G16+G23 -> 1.2058593e+08 | H24: =H16+H23 -> 70944.46 | I24: =I16+I23 -> 0 | J24: =J16+J23 -> 0 | K24: =K16+K23 -> 30834.371 | L24: =L16+L23 -> 50171.15 | ... BH24: =BH16+BH23 -> 0
C25: Return of capital
B26: 3.2.2 | D26: Revenue | E26: =SUM(F26:BH26) -> 3.2999144e+08 | F26: 0 | G26: 5434000 | H26: 17218840 | I26: 20020667 | J26: 20431742 | K26: 20947350 | L26: 18445359 | M26: 18639034 | N26: 19053444 | O26: 19550283 | P26: 19969227 | Q26: 20477022 | R26: 20979878 | S26: 21412532 | T26: 21895846 | U26: 22390037 | V26: 21682054 | W26: 5134619 | X26: 5232186 | Y26: 5370747.7 | Z26: 5706571.2
B27: 3.2.2 | D27: Operating expenses | E27: =SUM(F27:BH27) -> -75457025 | F27: 0 | G27: -273000 | H27: -2954496.9 | I27: -3672000 | J27: -4251289.3 | K27: -6602817.1 | L27: -8375055.7 | M27: -2835368 | N27: -2855915.6 | O27: -2891752.4 | P27: -3198230.9 | Q27: -3154347.5 | R27: -2988488.4 | S27: -2940296.9 | T27: -2789985 | U27: -2841100.3 | V27: -3883713.5 | W27: -4876876.4 | X27: -4640509.3 | Y27: -4897807.1 | Z27: -4533974.8
B28: 3.2.5 | D28: Net tax liabilities | E28: =SUM(F28:BH28) -> -28621253 | F28: 0 | G28: -643905.54 | H28: -809493.86 | I28: -1509167.6 | J28: -1498496.7 | K28: -943372.92 | L28: 0 | M28: -1003909.7 | N28: -1531040.6 | O28: -1767471.4 | P28: -1896333.8 | Q28: -2169932 | R28: -2486838.1 | S28: -2768729.7 | T28: -3110676.7 | U28: -3421225 | V28: -3060659.4 | W28: 0 | X28: 0 | Y28: 0 | Z28: 0
D29: Leased Asset Interest/Financing Charge | E29: =SUM(F29:BH29) -> 0 | X29: 0 | Y29: 0 | Z29: 0
B30: 3.2.4 | D30: Return on capital | E30: =SUM(F30:BH30) -> -1.2411298e+08 | F30: 0 | G30: 0 | H30: -10966982 | I30: -10922399 | J30: -10771042 | K30: -9610945.6 | L30: -10163162 | M30: -10181488 | N30: -9022869.7 | O30: -8308621.9 | P30: -8056134 | Q30: -6948727.3 | R30: -6278273.1 | S30: -5425235.8 | T30: -4503190.7 | U30: -3468711 | V30: -2176779.5 | W30: -1556349.9 | X30: -1638049.8 | Y30: -1947126.1 | Z30: -2166893.6
D31: Total Return of Capital | E31: =SUM(F31:BH31) -> 1.0180018e+08 | F31: =SUM(F26:F30) -> 0 | G31: =SUM(G26:G30) -> 4517094.5 | H31: =SUM(H26:H30) -> 2487867.6 | I31: =SUM(I26:I30) -> 3917099.8 | J31: =SUM(J26:J30) -> 3910913.7 | K31: =SUM(K26:K30) -> 3790214.3 | L31: =SUM(L26:L30) -> -92858.376 | M31: =SUM(M26:M30) -> 4618269.3 | ... BH31: =SUM(BH26:BH30) -> 0
D32: Recovered capital method total asset value | E32: =SUM(F32:BH32) -> 28093623 | F32: =F16+F23-F31 -> 0 | G32: =G16+G23-G31 -> 1.1606883e+08 | H32: =H16+H23-H31 -> -2416923.1 | I32: =I16+I23-I31 -> -3917099.8 | J32: =J16+J23-J31 -> -3910913.7 | K32: =K16+K23-K31 -> -3759379.9 | L32: =L16+L23-L31 -> 143029.53 | M32: =M16+M23-M31 -> -4465550.5 | ... BH32: =BH16+BH23-BH31 -> 0
C33: For information | D33: Opening asset value | G33: =F24+F33-F31 -> 0 | H33: =G24+G33-G31 -> 1.1606883e+08 | I33: =H24+H33-H31 -> 1.1365191e+08 | J33: =I24+I33-I31 -> 1.0973481e+08 | K33: =J24+J33-J31 -> 1.058239e+08 | L33: =K24+K33-K31 -> 1.0206452e+08 | M33: =L24+L33-L31 -> 1.0220755e+08 | N33: =M24+M33-M31 -> 97741996 | ... BH33: =BG24+BG33-BG31 -> 28093623
C34: For information | D34: Rate of return (WACC) | F34: N/A | G34: N/A | H34: 0.094486882 | I34: 0.096103966 | J34: 0.098155196 | K34: 0.090820183 | L34: 0.099575859 | M34: 0.09961581 | N34: 0.092313132 | O34: 0.089893879 | P34: 0.09322345 | Q34: 0.086506436 | R34: 0.086560072 | S34: 0.085579985 | T34: 0.083630958 | U34: 0.080724116 | V34: 0.07181496 | W34: 0.066976287 | X34: 0.066761255 | Y34: 0.075984991 | Z34: 0.079961162
B36: Table 4.2: Pipeline details
B38: Construction date | C38: 37622
B39: Negative residual value | C39: =E11 -> 0

Sheet 4.1 Pipelines capex
B1: Capital expenditure
B2: =Tradingname -> EII GAS TRANSMISSION SERVICES WA (OPERATIONS) PTY LIMITED
B3: Reporting Period | C3: =TEXT(Yearstart,"dd/mm/yyyy")&" to "&TEXT(Yearending,"dd/mm/yyyy") -> 01/01/2023 to 31/12/2023
B5: Table 4.1.1: Capital expenditure greater than 5% of construction cost
B7: Basis of Preparation reference | C7: Description of works | D7: Date recognised | E7: Expenditure ($ nominal)

Sheet Auditor's Review Report RCM

Sheet 5. Weighted average price
B1: Weighted average prices
B2: =Tradingname -> EII GAS TRANSMISSION SERVICES WA (OPERATIONS) PTY LIMITED
B3: Reporting Period | C3: =TEXT(Yearstart,"dd/mm/yyyy")&" to "&TEXT(Yearending,"dd/mm/yyyy") -> 01/01/2023 to 31/12/2023
B5: Table 5.1: Weighted average prices
B7: Basis of preparation reference | C7: Service description | E7: Has there been any use of estimates to allocate revenue to each transportation service? | F7: Other Services | L7: Postage Stamp Transportation Services | S7: Zonal Based Transportation Services | AL7: Distance Based Transportation Services (to major delivery points)
T8: Zone 1 | Z8: Zone 2 | AF8: Zone 3 | AM8: Major Delivery Point 1 | AS8: Major Delivery Point 2 | AY8: Major Delivery Point 3 | BE8: Other Delivery Points
D9: Total revenue | F9: Capacity based charges | I9: Volumetric based charges | L9: Total Postage Stamp Revenue | M9: Capacity based | P9: Volumetric based | S9: Total Zonal Revenue | T9: Capacity based | W9: Volumetric based | Z9: Capacity based | AC9: Volumetric based | AF9: Capacity based | AI9: Volumetric based | AL9: Total Distance Based Revenue | AM9: Capacity based | AP9: Volumetric based | AS9: Capacity based | AV9: Volumetric based | AY9: Capacity based | BB9: Volumetric based | BE9: Capacity based | BH9: Volumetric based
D10: $'000 | F10: Revenue $'000 | G10: MDQ Total TJ* | H10: WAP $/GJ | I10: Revenue $'000 | J10: Total TJ | K10: WAP $/GJ | L10: $ '000 | M10: Revenue $'000 | N10: MDQ Total TJ* | O10: WAP $/GJ | P10: Revenue $'000 | Q10: Total TJ | R10: WAP $/GJ | S10: $'000 | T10: Revenue $'000 | U10: MDQ Total TJ* | V10: WAP $/GJ | W10: Revenue $'000 | X10: Total TJ | Y10: WAP $/GJ | Z10: Revenue $'000 | AA10: MDQ Total TJ* | AB10: WAP $/GJ | AC10: Revenue $'000 | AD10: Total TJ | AE10: WAP $/GJ | AF10: Revenue $'000 | AG10: MDQ Total TJ* | AH10: WAP $/GJ | AI10: Revenue $'000 | AJ10: Total TJ | AK10: WAP $/GJ | AL10: $'000 | AM10: Revenue $'000 | AN10: MDQ Total TJ* | AO10: WAP $/GJ | AP10: Revenue $'000 | AQ10: Total TJ | AR10: WAP $/GJ | AS10: Revenue $'000 | AT10: MDQ Total TJ* | AU10: WAP $/GJ | AV10: Revenue $'000 | AW10: Total TJ | AX10: WAP $/GJ | AY10: Revenue $'000 | AZ10: MDQ Total TJ* | BA10: WAP $/GJ | BB10: Revenue $'000 | BC10: Total TJ | BD10: WAP $/GJ | BE10: Revenue $'000 | BF10: MDQ Total TJ* | BG10: WAP $/GJ | BH10: Revenue $'000 | BI10: Total TJ | BJ10: WAP $/GJ
C11: Transportation services
B12: 4.3.1 | C12: Firm forward haul transportation services | D12: =L12+S12+AL12 -> 0 | L12: =M12+P12 -> 0 | O12: =IFERROR(M12/N12,0) -> 0 | R12: =IFERROR(P12/Q12,0) -> 0 | S12: =T12+W12+Z12+AC12+AF12+AI12 -> 0 | V12: =IFERROR(T12/U12,0) -> 0 | Y12: =IFERROR(W12/X12,0) -> 0 | AB12: =IFERROR(Z12/AA12,0) -> 0 | AE12: =IFERROR(AC12/AD12,0) -> 0 | AH12: =IFERROR(AF12/AG12,0) -> 0 | AK12: =IFERROR(AI12/AJ12,0) -> 0 | AL12: =AM12+AP12+AS12+AV12+AY12+BB12+BE12+BH12 -> 0 | AO12: =IFERROR(AM12/AN12,0) -> 0 | AR12: =IFERROR(AP12/AQ12,0) -> 0 | AU12: =IFERROR(AS12/AT12,0) -> 0 | AX12: =IFERROR(AV12/AW12,0) -> 0 | BA12: =IFERROR(AY12/AZ12,0) -> 0 | BD12: =IFERROR(BB12/BC12,0) -> 0 | BG12: =IFERROR(BE12/BF12,0) -> 0 | BJ12: =IFERROR(BH12/BI12,0) -> 0
B13: 4.3.1 | C13: Interruptible or as available transportation services | D13: =L13+S13+AL13 -> 0 | L13: =M13+P13 -> 0 | O13: =IFERROR(M13/N13,0) -> 0 | R13: =IFERROR(P13/Q13,0) -> 0 | S13: =T13+W13+Z13+AC13+AF13+AI13 -> 0 | V13: =IFERROR(T13/U13,0) -> 0 | Y13: =IFERROR(W13/X13,0) -> 0 | AB13: =IFERROR(Z13/AA13,0) -> 0 | AE13: =IFERROR(AC13/AD13,0) -> 0 | AH13: =IFERROR(AF13/AG13,0) -> 0 | AK13: =IFERROR(AI13/AJ13,0) -> 0 | AL13: =AM13+AP13+AS13+AV13+AY13+BB13+BE13+BH13 -> 0 | AO13: =IFERROR(AM13/AN13,0) -> 0 | AR13: =IFERROR(AP13/AQ13,0) -> 0 | AU13: =IFERROR(AS13/AT13,0) -> 0 | AX13: =IFERROR(AV13/AW13,0) -> 0 | BA13: =IFERROR(AY13/AZ13,0) -> 0 | BD13: =IFERROR(BB13/BC13,0) -> 0 | BG13: =IFERROR(BE13/BF13,0) -> 0 | BJ13: =IFERROR(BH13/BI13,0) -> 0
B14: 4.3.1 | C14: Backhaul services | D14: =L14+S14+AL14 -> 0 | L14: =M14+P14 -> 0 | O14: =IFERROR(M14/N14,0) -> 0 | R14: =IFERROR(P14/Q14,0) -> 0 | S14: =T14+W14+Z14+AC14+AF14+AI14 -> 0 | V14: =IFERROR(T14/U14,0) -> 0 | Y14: =IFERROR(W14/X14,0) -> 0 | AB14: =IFERROR(Z14/AA14,0) -> 0 | AE14: =IFERROR(AC14/AD14,0) -> 0 | AH14: =IFERROR(AF14/AG14,0) -> 0 | AK14: =IFERROR(AI14/AJ14,0) -> 0 | AL14: =AM14+AP14+AS14+AV14+AY14+BB14+BE14+BH14 -> 0 | AO14: =IFERROR(AM14/AN14,0) -> 0 | AR14: =IFERROR(AP14/AQ14,0) -> 0 | AU14: =IFERROR(AS14/AT14,0) -> 0 | AX14: =IFERROR(AV14/AW14,0) -> 0 | BA14: =IFERROR(AY14/AZ14,0) -> 0 | BD14: =IFERROR(BB14/BC14,0) -> 0 | BG14: =IFERROR(BE14/BF14,0) -> 0 | BJ14: =IFERROR(BH14/BI14,0) -> 0
C15: Stand alone compression services
B16: 4.3.2 | C16: Firm stand alone compression services | D16: =F16+I16 -> 0 | H16: =IFERROR(F16/G16,0) -> 0 | I16: 0 | J16: 0 | K16: =IFERROR(I16/J16,0) -> 0
C17: Storage services
B18: 4.3.3 | C18: Firm park/park and loan services | D18: =F18+I18 -> 0 | H18: =IFERROR(F18/G18,0) -> 0 | I18: 0 | J18: 0 | K18: =IFERROR(I18/J18,0) -> 0
B19: 4.4 | C19: Total exempt services | D19: =F19+I19 -> 5465.742 | F19: 5465.742
C20: Total | D20: =SUM(D12:D19) -> 5465.742 | F20: =SUM(F12:F19) -> 5465.742 | G20: =SUM(G12:G19) -> 0 | I20: =SUM(I12:I19) -> 0 | J20: =SUM(J12:J19) -> 0 | L20: =SUM(L12:L19) -> 0 | M20: =SUM(M12:M19) -> 0 | N20: =SUM(N12:N19) -> 0 | P20: =SUM(P12:P19) -> 0 | Q20: =SUM(Q12:Q19) -> 0 | S20: =SUM(S12:S19) -> 0 | T20: =SUM(T12:T19) -> 0 | U20: =SUM(U12:U19) -> 0 | W20: =SUM(W12:W19) -> 0 | X20: =SUM(X12:X19) -> 0 | Z20: =SUM(Z12:Z19) -> 0 | AA20: =SUM(AA12:AA19) -> 0 | AC20: =SUM(AC12:AC19) -> 0 | AD20: =SUM(AD12:AD19) -> 0 | AF20: =SUM(AF12:AF19) -> 0 | AG20: =SUM(AG12:AG19) -> 0 | AI20: =SUM(AI12:AI19) -> 0 | AJ20: =SUM(AJ12:AJ19) -> 0 | AL20: =SUM(AL12:AL19) -> 0 | AM20: =SUM(AM12:AM19) -> 0 | AN20: =SUM(AN12:AN19) -> 0 | AP20: =SUM(AP12:AP19) -> 0 | AQ20: =SUM(AQ12:AQ19) -> 0 | AS20: =SUM(AS12:AS19) -> 0 | AT20: =SUM(AT12:AT19) -> 0 | AV20: =SUM(AV12:AV19) -> 0 | AW20: =SUM(AW12:AW19) -> 0 | AY20: =SUM(AY12:AY19) -> 0 | AZ20: =SUM(AZ12:AZ19) -> 0 | BB20: =SUM(BB12:BB19) -> 0 | BC20: =SUM(BC12:BC19) -> 0 | BE20: =SUM(BE12:BE19) -> 0 | BF20: =SUM(BF12:BF19) -> 0 | BH20: =SUM(BH12:BH19) -> 0 | BI20: =SUM(BI12:BI19) -> 0
B22: * MDQ (Total TJ) = sum of MDQ’s over the reporting period in TJs

Sheet 5.1 Exempt WAP services
B1: Services exemption granted from ERA for Weighted Average Price disclosure
B2: =Tradingname -> EII GAS TRANSMISSION SERVICES WA (OPERATIONS) PTY LIMITED
B3: Reporting Period | C3: =TEXT(Yearstart,"dd/mm/yyyy")&" to "&TEXT(Yearending,"dd/mm/yyyy") -> 01/01/2023 to 31/12/2023
B5: Table 5.1.1: ERA exemptions
B7: Service category
B8: Firm forward haul transportation service
B9: Interruptible or As Available transportation service

Sheet 6. Notes
B1: Additional (optional) notes and information
B2: =Tradingname -> EII GAS TRANSMISSION SERVICES WA (OPERATIONS) PTY LIMITED
B3: Year ending | C3: =Yearending -> 45291
B5: Table reference
B7: General | C7: Numbers may not add due to rounding.
B8: General | C8: For financial accounting purposes EII Gas Transmission Services WA (Operations) Pty Limited reports on a calendar year basis.
B9: Cover | C9: The financial reporting under non scheme is an annual reporting requirement for EII's non scheme pipelines, requiring annual publishing by 30 April 2024. This information was published on Tuesday 30th April 2024.
B10: 1.1 | C10: EII Gas Transmission Services WA (Operations) Pty Limited has counted each contracting entity as a separate customer to determine customer numbers for each pipeline.
B11: 1.2 | C11: Pipeline Services listed are those contracted to customers within the reporting period for the pipeline. Some services, in particular non-firm services, may be contracted but not used.
B12: 2, 1, 3.1 & 4 | C12: An upfront payment of $4.9 million was made in 2019 to a customer, securing future revenues until 1 October 2023.
C13: Treatment in Statement of Pipeline Assets and Statement of Pipeline Revenue and Expenses
C14: The payment created an asset which was capitalised as part of other non-depreciable assets in the Statement of Pipeline Assets. Amortisation of the asset of $800,539 is included as a reduction of total service revenue within the 2023 Statement of Revenue and Expenses ($1,070,317 in 2022). It is important to note that the asset was fully amortised by 1 October 2023.
C15: Treatment in RCM
C16: This transaction is treated as a future benefit in the RCM and has been included in the capex additions for 2019 in line with section 4 of the Guideline. The revenue reported in the RCM during 2019 to 2023 is reflective of actual revenue earned by EII Gas Transmission Services WA (Operations) Pty Limited from the provision of all services by the pipeline in the year (i.e. is exclusive of the amortisation of this customer payment), and thus is higher than total revenue reported in table 2.1 for 2019 to 2023. The amortisation of this customer payment of $800,539 in 2023 is excluded in the revenue reported in the RCM in 2023, and thus revenue reported in the RCM is higher than total revenue reported in table 2.1 for 2023.
B17: 3.1 | C17: Other non-depreciable pipeline assets include all other assets used in the pipeline’s operations and/or attributable to a pipeline that is not of capital nature (e.g. debtors, capital work in progress, contract intangibles, prepayments etc.).
C18: Table 3.1 reflects the impairments reflected in Table 3.2.1 adjusted in each asset class.
B19: 3.1.1 | C19: Other depreciable pipeline assets include items such as information technology systems, motor vehicles, office and pipeline related costs which have different useful lives ranging from 5 to 14.8 years. EII Gas Transmission Services WA (Operations) Pty Limited has reported the information by asset categories in a summary line reflective of all assets acquired at inception to 31 December 2023.
B20: 3.2.1 | C20: Carrying value review
