Workbook
Name ABN: Cover!$C$17
Name Tradingname: Cover!$C$15
Name YEAR: [1]Outcomes!$B$3
Name Yearending: Cover!$C$23
Name Yearstart: Cover!$C$21

Sheet Cover
A1: Gas Pipeline Operator
A2: Reporting template
A4: This template is to be uploaded by a Gas Pipeline Operator to its website to fulfil its annual reporting obligations.
A6: Colour coding of input sheets:
A7: Dark blue = AER insructions/headings
A8: Yellow = Input cells
A9: Grey - Not applicable/No inputs required
A11: Leave coloured cells blank if no information exists - PLEASE DO NOT ENTER TEXT unless specifically requested to do so.
A12: All dollar amounts are to be unrounded, and in nominal terms.
A15: Service provider: | C15: APT Pipelines (NSW) Pty Limited
A17: Australian business number: | C17: 37 080 842 360
A19: Pipeline name: | C19: Central West Pipeline
A21: Reporting period start date: | C21: 44743
A23: Reporting period end date: | C23: 45107
A25: Date opening RAB established | C25: 36342
A29: Business address | B29: Address | D29: Level 25, 580 George Street
B30: Suburb | D30: Sydney
C31: State | D31: NSW | E31: Postcode | F31: 2000
A33: Postal address | B33: Address | D33: PO Box R41
B34: Suburb | D34: Royal Exchange
C35: State | D35: NSW | E35: Postcode | F35: 1225
A38: Contact name/s | B38: Rebecca Culbertson (Head of Investor Relations)
A39: Contact phone/s | B39: +61 (07) 3565 3270
A40: Contact email address/s | B40: APARegReporting@apa.com.au

Sheet Contents
D3: Table of contents

Sheet 1. Pipeline information
B1: Pipeline information
B2: =Tradingname -> APT Pipelines (NSW) Pty Limited
B3: Year ending | C3: =Yearending -> 45107
B5: Table 1.1: Pipeline details
B7: Pipeline location | C7: New South Wales
B8: Pipeline length (km) | C8: 255
B9: Number of customers | C9: 7
B10: Service type | C10: Transmission
B12: Table 1.2: Pipeline services provided
B14: Service description | C14: Provided to non related parties | D14: Provided to related parties
B15: Transportation services
B16: Firm transportation service | C16: Yes | D16: No
B17: Interruptible or as available transportation service | C17: Yes | D17: No
B18: Backhaul services | C18: No | D18: No
B19: Stand-alone compression services
B20: Firm compression service | C20: No | D20: No
B21: Interruptible compression service | C21: No | D21: No
B22: Storage services
B23: Park services | C23: No | D23: No
B24: Park and loan services | C24: No | D24: No
B25: Trading services
B26: Capacity trading service | C26: Yes | D26: No
B27: In pipe trading service | C27: No | D27: No
B28: Other (please specify)
B29: other service (insert description)
B30: other service (insert description)
B31: other service (insert description)
B32: other service (insert description)
B33: other service (insert description)
B34: other service (insert description)
B35: other service (insert description)
B36: other service (insert description)

Sheet 1.1 Financial summary
B4: Table 1.1.1 Financial Summary
D5: Year
D6: =YEAR(Cover!$C$25)-1&"-"&RIGHT(YEAR(Cover!$C$25),2) -> 1998-99 | E6: =YEAR(Cover!$C$25)&"-"&RIGHT(YEAR(Cover!$C$25)+1,2) -> 1999-00 | F6: =YEAR(Cover!$C$25)+1&"-"&RIGHT(YEAR(Cover!$C$25)+2,2) -> 2000-01 | G6: =YEAR(Cover!$C$25)+2&"-"&RIGHT(YEAR(Cover!$C$25)+3,2) -> 2001-02 | H6: =YEAR(Cover!$C$25)+3&"-"&RIGHT(YEAR(Cover!$C$25)+4,2) -> 2002-03 | I6: =YEAR(Cover!$C$25)+4&"-"&RIGHT(YEAR(Cover!$C$25)+5,2) -> 2003-04 | J6: =YEAR(Cover!$C$25)+5&"-"&RIGHT(YEAR(Cover!$C$25)+6,2) -> 2004-05 | K6: =YEAR(Cover!$C$25)+6&"-"&RIGHT(YEAR(Cover!$C$25)+7,2) -> 2005-06 | L6: =YEAR(Cover!$C$25)+7&"-"&RIGHT(YEAR(Cover!$C$25)+8,2) -> 2006-07 | M6: =YEAR(Cover!$C$25)+8&"-"&RIGHT(YEAR(Cover!$C$25)+9,2) -> 2007-08 | N6: =YEAR(Cover!$C$25)+9&"-"&RIGHT(YEAR(Cover!$C$25)+10,2) -> 2008-09 | O6: =YEAR(Cover!$C$25)+10&"-"&RIGHT(YEAR(Cover!$C$25)+11,2) -> 2009-10 | P6: =YEAR(Cover!$C$25)+11&"-"&RIGHT(YEAR(Cover!$C$25)+12,2) -> 2010-11 | Q6: =YEAR(Cover!$C$25)+12&"-"&RIGHT(YEAR(Cover!$C$25)+13,2) -> 2011-12 | R6: =YEAR(Cover!$C$25)+13&"-"&RIGHT(YEAR(Cover!$C$25)+14,2) -> 2012-13 | S6: =YEAR(Cover!$C$25)+14&"-"&RIGHT(YEAR(Cover!$C$25)+15,2) -> 2013-14 | T6: =YEAR(Cover!$C$25)+15&"-"&RIGHT(YEAR(Cover!$C$25)+16,2) -> 2014-15 | U6: =YEAR(Cover!$C$25)+16&"-"&RIGHT(YEAR(Cover!$C$25)+17,2) -> 2015-16 | V6: =YEAR(Cover!$C$25)+17&"-"&RIGHT(YEAR(Cover!$C$25)+18,2) -> 2016-17 | W6: =YEAR(Cover!$C$25)+18&"-"&RIGHT(YEAR(Cover!$C$25)+19,2) -> 2017-18 | X6: =YEAR(Cover!$C$25)+19&"-"&RIGHT(YEAR(Cover!$C$25)+20,2) -> 2018-19 | Y6: =YEAR(Cover!$C$25)+20&"-"&RIGHT(YEAR(Cover!$C$25)+21,2) -> 2019-20 | Z6: =YEAR(Cover!$C$25)+21&"-"&RIGHT(YEAR(Cover!$C$25)+22,2) -> 2020-21 | AA6: =YEAR(Cover!$C$25)+22&"-"&RIGHT(YEAR(Cover!$C$25)+23,2) -> 2021-22 | AB6: =YEAR(Cover!$C$21)&"-"&RIGHT(YEAR(Cover!$C$23),2) -> 2022-23
B7: Inputs | C7: Guideline Reference
B8: CPI | C8: Section 1.5.2 | E8: ='3. Statement of pipeline assets'!E90 -> 0.031888798 | F8: ='3. Statement of pipeline assets'!F90 -> 0.06022187 | G8: ='3. Statement of pipeline assets'!G90 -> 0.028400598 | H8: ='3. Statement of pipeline assets'!H90 -> 0.026889535 | I8: ='3. Statement of pipeline assets'!I90 -> 0.024769993 | J8: ='3. Statement of pipeline assets'!J90 -> 0.024861878 | K8: ='3. Statement of pipeline assets'!K90 -> 0.039757412 | L8: ='3. Statement of pipeline assets'!L90 -> 0.02073882 | ... AB8: ='3. Statement of pipeline assets'!AB90 -> 0.060269627
B9: Nominal WACC | C9: Section 6 | E9: 0.1055 | F9: 0.1055 | G9: 0.1055 | H9: 0.1055 | I9: 0.1055 | J9: 0.1055 | K9: 0.1055 | L9: 0.1055 | M9: 0.1055 | N9: 0.1055 | O9: 0.1055 | P9: 0.0958625 | Q9: 0.09355 | R9: 0.07354 | S9: 0.0753125 | T9: 0.077025 | U9: 0.0698775 | V9: 0.0571875 | W9: 0.055494416 | X9: 0.05716995 | Y9: 0.04577 | Z9: 0.035444 | AA9: 0.047310774 | AB9: 0.054609329
B10: Opening Asset Base ($m, Nominal) - RAB value | C10: Section 4 | D10: =('3. Statement of pipeline assets'!D12+'3. Statement of pipeline assets'!D19+'3. Statement of pipeline assets'!D25+'3. Statement of pipeline assets'!D31+'3. Statement of pipeline assets'!D37+'3. Statement of pipeline assets'!D43+'3. Statement of pipeline assets'!D49+'3. Statement of pipeline assets'!D55+'3. Statement of pipeline assets'!D61+'3. Statement of pipeline assets'!D74+'3. Statement of pipeline assets'!D85)/1000000 -> 0 | E10: =('3. Statement of pipeline assets'!E12+'3. Statement of pipeline assets'!E19+'3. Statement of pipeline assets'!E25+'3. Statement of pipeline assets'!E31+'3. Statement of pipeline assets'!E37+'3. Statement of pipeline assets'!E43+'3. Statement of pipeline assets'!E49+'3. Statement of pipeline assets'!E55+'3. Statement of pipeline assets'!E61+'3. Statement of pipeline assets'!E74+'3. Statement of pipeline assets'!E85)/1000000 -> 28.48 | F10: =('3. Statement of pipeline assets'!F12+'3. Statement of pipeline assets'!F19+'3. Statement of pipeline assets'!F25+'3. Statement of pipeline assets'!F31+'3. Statement of pipeline assets'!F37+'3. Statement of pipeline assets'!F43+'3. Statement of pipeline assets'!F49+'3. Statement of pipeline assets'!F55+'3. Statement of pipeline assets'!F61+'3. Statement of pipeline assets'!F74+'3. Statement of pipeline assets'!F85)/1000000 -> 28.48 | G10: =('3. Statement of pipeline assets'!G12+'3. Statement of pipeline assets'!G19+'3. Statement of pipeline assets'!G25+'3. Statement of pipeline assets'!G31+'3. Statement of pipeline assets'!G37+'3. Statement of pipeline assets'!G43+'3. Statement of pipeline assets'!G49+'3. Statement of pipeline assets'!G55+'3. Statement of pipeline assets'!G61+'3. Statement of pipeline assets'!G74+'3. Statement of pipeline assets'!G85)/1000000 -> 29.827766 | H10: =('3. Statement of pipeline assets'!H12+'3. Statement of pipeline assets'!H19+'3. Statement of pipeline assets'!H25+'3. Statement of pipeline assets'!H31+'3. Statement of pipeline assets'!H37+'3. Statement of pipeline assets'!H43+'3. Statement of pipeline assets'!H49+'3. Statement of pipeline assets'!H55+'3. Statement of pipeline assets'!H61+'3. Statement of pipeline assets'!H74+'3. Statement of pipeline assets'!H85)/1000000 -> 30.285418 | I10: =('3. Statement of pipeline assets'!I12+'3. Statement of pipeline assets'!I19+'3. Statement of pipeline assets'!I25+'3. Statement of pipeline assets'!I31+'3. Statement of pipeline assets'!I37+'3. Statement of pipeline assets'!I43+'3. Statement of pipeline assets'!I49+'3. Statement of pipeline assets'!I55+'3. Statement of pipeline assets'!I61+'3. Statement of pipeline assets'!I74+'3. Statement of pipeline assets'!I85)/1000000 -> 30.710561 | J10: =('3. Statement of pipeline assets'!J12+'3. Statement of pipeline assets'!J19+'3. Statement of pipeline assets'!J25+'3. Statement of pipeline assets'!J31+'3. Statement of pipeline assets'!J37+'3. Statement of pipeline assets'!J43+'3. Statement of pipeline assets'!J49+'3. Statement of pipeline assets'!J55+'3. Statement of pipeline assets'!J61+'3. Statement of pipeline assets'!J74+'3. Statement of pipeline assets'!J85)/1000000 -> 31.059869 | K10: =('3. Statement of pipeline assets'!K12+'3. Statement of pipeline assets'!K19+'3. Statement of pipeline assets'!K25+'3. Statement of pipeline assets'!K31+'3. Statement of pipeline assets'!K37+'3. Statement of pipeline assets'!K43+'3. Statement of pipeline assets'!K49+'3. Statement of pipeline assets'!K55+'3. Statement of pipeline assets'!K61+'3. Statement of pipeline assets'!K74+'3. Statement of pipeline assets'!K85)/1000000 -> 31.432247 | ... AB10: =('3. Statement of pipeline assets'!AB12+'3. Statement of pipeline assets'!AB19+'3. Statement of pipeline assets'!AB25+'3. Statement of pipeline assets'!AB31+'3. Statement of pipeline assets'!AB37+'3. Statement of pipeline assets'!AB43+'3. Statement of pipeline assets'!AB49+'3. Statement of pipeline assets'!AB55+'3. Statement of pipeline assets'!AB61+'3. Statement of pipeline assets'!AB74+'3. Statement of pipeline assets'!AB85)/1000000 -> 40.170346
B11: Capex ($m, Nominal) | C11: Section 3 | D11: =('3. Statement of pipeline assets'!D13+'3. Statement of pipeline assets'!D20+'3. Statement of pipeline assets'!D26+'3. Statement of pipeline assets'!D32+'3. Statement of pipeline assets'!D38+'3. Statement of pipeline assets'!D44+'3. Statement of pipeline assets'!D50+'3. Statement of pipeline assets'!D56+'3. Statement of pipeline assets'!D75+'3. Statement of pipeline assets'!D86)/1000000 -> 0 | E11: =('3. Statement of pipeline assets'!E13+'3. Statement of pipeline assets'!E20+'3. Statement of pipeline assets'!E26+'3. Statement of pipeline assets'!E32+'3. Statement of pipeline assets'!E38+'3. Statement of pipeline assets'!E44+'3. Statement of pipeline assets'!E50+'3. Statement of pipeline assets'!E56+'3. Statement of pipeline assets'!E62+'3. Statement of pipeline assets'!E68+'3. Statement of pipeline assets'!E75+'3. Statement of pipeline assets'!E81+'3. Statement of pipeline assets'!E86)/1000000 -> 0 | F11: =('3. Statement of pipeline assets'!F13+'3. Statement of pipeline assets'!F20+'3. Statement of pipeline assets'!F26+'3. Statement of pipeline assets'!F32+'3. Statement of pipeline assets'!F38+'3. Statement of pipeline assets'!F44+'3. Statement of pipeline assets'!F50+'3. Statement of pipeline assets'!F56+'3. Statement of pipeline assets'!F62+'3. Statement of pipeline assets'!F68+'3. Statement of pipeline assets'!F75+'3. Statement of pipeline assets'!F81+'3. Statement of pipeline assets'!F86)/1000000 -> 0 | G11: =('3. Statement of pipeline assets'!G13+'3. Statement of pipeline assets'!G20+'3. Statement of pipeline assets'!G26+'3. Statement of pipeline assets'!G32+'3. Statement of pipeline assets'!G38+'3. Statement of pipeline assets'!G44+'3. Statement of pipeline assets'!G50+'3. Statement of pipeline assets'!G56+'3. Statement of pipeline assets'!G62+'3. Statement of pipeline assets'!G68+'3. Statement of pipeline assets'!G75+'3. Statement of pipeline assets'!G81+'3. Statement of pipeline assets'!G86)/1000000 -> 0 | H11: =('3. Statement of pipeline assets'!H13+'3. Statement of pipeline assets'!H20+'3. Statement of pipeline assets'!H26+'3. Statement of pipeline assets'!H32+'3. Statement of pipeline assets'!H38+'3. Statement of pipeline assets'!H44+'3. Statement of pipeline assets'!H50+'3. Statement of pipeline assets'!H56+'3. Statement of pipeline assets'!H62+'3. Statement of pipeline assets'!H68+'3. Statement of pipeline assets'!H75+'3. Statement of pipeline assets'!H81+'3. Statement of pipeline assets'!H86)/1000000 -> 0.011318708 | I11: =('3. Statement of pipeline assets'!I13+'3. Statement of pipeline assets'!I20+'3. Statement of pipeline assets'!I26+'3. Statement of pipeline assets'!I32+'3. Statement of pipeline assets'!I38+'3. Statement of pipeline assets'!I44+'3. Statement of pipeline assets'!I50+'3. Statement of pipeline assets'!I56+'3. Statement of pipeline assets'!I62+'3. Statement of pipeline assets'!I68+'3. Statement of pipeline assets'!I75+'3. Statement of pipeline assets'!I81+'3. Statement of pipeline assets'!I86)/1000000 -> 0.00068940692 | J11: =('3. Statement of pipeline assets'!J13+'3. Statement of pipeline assets'!J20+'3. Statement of pipeline assets'!J26+'3. Statement of pipeline assets'!J32+'3. Statement of pipeline assets'!J38+'3. Statement of pipeline assets'!J44+'3. Statement of pipeline assets'!J50+'3. Statement of pipeline assets'!J56+'3. Statement of pipeline assets'!J62+'3. Statement of pipeline assets'!J68+'3. Statement of pipeline assets'!J75+'3. Statement of pipeline assets'!J81+'3. Statement of pipeline assets'!J86)/1000000 -> 0.022600994 | K11: =('3. Statement of pipeline assets'!K13+'3. Statement of pipeline assets'!K20+'3. Statement of pipeline assets'!K26+'3. Statement of pipeline assets'!K32+'3. Statement of pipeline assets'!K38+'3. Statement of pipeline assets'!K44+'3. Statement of pipeline assets'!K50+'3. Statement of pipeline assets'!K56+'3. Statement of pipeline assets'!K62+'3. Statement of pipeline assets'!K68+'3. Statement of pipeline assets'!K75+'3. Statement of pipeline assets'!K81+'3. Statement of pipeline assets'!K86)/1000000 -> 0.35887951 | L11: =('3. Statement of pipeline assets'!L13+'3. Statement of pipeline assets'!L20+'3. Statement of pipeline assets'!L26+'3. Statement of pipeline assets'!L32+'3. Statement of pipeline assets'!L38+'3. Statement of pipeline assets'!L44+'3. Statement of pipeline assets'!L50+'3. Statement of pipeline assets'!L56+'3. Statement of pipeline assets'!L62+'3. Statement of pipeline assets'!L68+'3. Statement of pipeline assets'!L75+'3. Statement of pipeline assets'!L81+'3. Statement of pipeline assets'!L86)/1000000 -> 0.080338558 | ... AB11: =('3. Statement of pipeline assets'!AB13+'3. Statement of pipeline assets'!AB20+'3. Statement of pipeline assets'!AB26+'3. Statement of pipeline assets'!AB32+'3. Statement of pipeline assets'!AB38+'3. Statement of pipeline assets'!AB44+'3. Statement of pipeline assets'!AB50+'3. Statement of pipeline assets'!AB56+'3. Statement of pipeline assets'!AB62+'3. Statement of pipeline assets'!AB68+'3. Statement of pipeline assets'!AB75+'3. Statement of pipeline assets'!AB81+'3. Statement of pipeline assets'!AB86)/1000000 -> 1.4730195
B12: Total Contribution ($m, Nominal) | C12: Section 3 | E12: 0 | F12: 0 | G12: 0 | H12: 0 | I12: 0 | J12: 0 | K12: 0 | L12: 0 | M12: 0 | N12: 0 | O12: 0 | P12: 0 | Q12: 0 | R12: 0 | S12: 0 | T12: 0 | U12: 0 | V12: 0 | W12: 0 | X12: 0 | Y12: 0 | Z12: 0 | AA12: 0 | AB12: ='2.2 Revenue contributions '!E15+'2.2 Revenue contributions '!E27 -> 0
B13: Disposal (at proceeds) ($m, Nominal) | C13: Section 3 | D13: =('3. Statement of pipeline assets'!D15+'3. Statement of pipeline assets'!D22+'3. Statement of pipeline assets'!D28+'3. Statement of pipeline assets'!D34+'3. Statement of pipeline assets'!D40+'3. Statement of pipeline assets'!D46+'3. Statement of pipeline assets'!D52+'3. Statement of pipeline assets'!D58+'3. Statement of pipeline assets'!D64+'3. Statement of pipeline assets'!D77)/1000000 -> 0 | E13: =-('3. Statement of pipeline assets'!E15+'3. Statement of pipeline assets'!E22+'3. Statement of pipeline assets'!E28+'3. Statement of pipeline assets'!E34+'3. Statement of pipeline assets'!E40+'3. Statement of pipeline assets'!E46+'3. Statement of pipeline assets'!E52+'3. Statement of pipeline assets'!E58+'3. Statement of pipeline assets'!E64+'3. Statement of pipeline assets'!E77)/1000000 -> 0 | F13: =-('3. Statement of pipeline assets'!F15+'3. Statement of pipeline assets'!F22+'3. Statement of pipeline assets'!F28+'3. Statement of pipeline assets'!F34+'3. Statement of pipeline assets'!F40+'3. Statement of pipeline assets'!F46+'3. Statement of pipeline assets'!F52+'3. Statement of pipeline assets'!F58+'3. Statement of pipeline assets'!F64+'3. Statement of pipeline assets'!F77)/1000000 -> 0 | G13: =-('3. Statement of pipeline assets'!G15+'3. Statement of pipeline assets'!G22+'3. Statement of pipeline assets'!G28+'3. Statement of pipeline assets'!G34+'3. Statement of pipeline assets'!G40+'3. Statement of pipeline assets'!G46+'3. Statement of pipeline assets'!G52+'3. Statement of pipeline assets'!G58+'3. Statement of pipeline assets'!G64+'3. Statement of pipeline assets'!G77)/1000000 -> 0 | H13: =-('3. Statement of pipeline assets'!H15+'3. Statement of pipeline assets'!H22+'3. Statement of pipeline assets'!H28+'3. Statement of pipeline assets'!H34+'3. Statement of pipeline assets'!H40+'3. Statement of pipeline assets'!H46+'3. Statement of pipeline assets'!H52+'3. Statement of pipeline assets'!H58+'3. Statement of pipeline assets'!H64+'3. Statement of pipeline assets'!H77)/1000000 -> 0 | I13: =-('3. Statement of pipeline assets'!I15+'3. Statement of pipeline assets'!I22+'3. Statement of pipeline assets'!I28+'3. Statement of pipeline assets'!I34+'3. Statement of pipeline assets'!I40+'3. Statement of pipeline assets'!I46+'3. Statement of pipeline assets'!I52+'3. Statement of pipeline assets'!I58+'3. Statement of pipeline assets'!I64+'3. Statement of pipeline assets'!I77)/1000000 -> 0 | J13: =-('3. Statement of pipeline assets'!J15+'3. Statement of pipeline assets'!J22+'3. Statement of pipeline assets'!J28+'3. Statement of pipeline assets'!J34+'3. Statement of pipeline assets'!J40+'3. Statement of pipeline assets'!J46+'3. Statement of pipeline assets'!J52+'3. Statement of pipeline assets'!J58+'3. Statement of pipeline assets'!J64+'3. Statement of pipeline assets'!J77)/1000000 -> 0 | K13: =-('3. Statement of pipeline assets'!K15+'3. Statement of pipeline assets'!K22+'3. Statement of pipeline assets'!K28+'3. Statement of pipeline assets'!K34+'3. Statement of pipeline assets'!K40+'3. Statement of pipeline assets'!K46+'3. Statement of pipeline assets'!K52+'3. Statement of pipeline assets'!K58+'3. Statement of pipeline assets'!K64+'3. Statement of pipeline assets'!K77)/1000000 -> 0 | L13: =-('3. Statement of pipeline assets'!L15+'3. Statement of pipeline assets'!L22+'3. Statement of pipeline assets'!L28+'3. Statement of pipeline assets'!L34+'3. Statement of pipeline assets'!L40+'3. Statement of pipeline assets'!L46+'3. Statement of pipeline assets'!L52+'3. Statement of pipeline assets'!L58+'3. Statement of pipeline assets'!L64+'3. Statement of pipeline assets'!L77)/1000000 -> 3.3497234e-06 | ... AB13: =-('3. Statement of pipeline assets'!AB15+'3. Statement of pipeline assets'!AB22+'3. Statement of pipeline assets'!AB28+'3. Statement of pipeline assets'!AB34+'3. Statement of pipeline assets'!AB40+'3. Statement of pipeline assets'!AB46+'3. Statement of pipeline assets'!AB52+'3. Statement of pipeline assets'!AB58+'3. Statement of pipeline assets'!AB64+'3. Statement of pipeline assets'!AB77)/1000000 -> 8.7282562e-05
B14: Opex ($m, Nominal) | C14: Section 3 | E14: 0.746652 | F14: 0.79145112 | G14: 0.81361175 | H14: 0.80385775 | I14: 0.98538941 | J14: 0.84684796 | K14: 0.99990759 | L14: 1.1933947 | M14: 0.67755508 | N14: 0.54447018 | O14: 0.67062144 | P14: 0.74112794 | Q14: 0.67821704 | R14: 0.51597196 | S14: 0.38200843 | T14: 0.38650335 | U14: 0.54949422 | V14: 0.5936944 | W14: 0.50161544 | X14: 0.72764402 | Y14: 0.69090221 | Z14: 0.85129929 | AA14: =-SUM('2. Revenues and expenses'!I19:I20,'2. Revenues and expenses'!I22:I26,'2. Revenues and expenses'!I34,'2. Revenues and expenses'!I37)/1000000 -> 0.9478726 | AB14: =-SUM('2. Revenues and expenses'!F19:F20,'2. Revenues and expenses'!F22:F26,'2. Revenues and expenses'!F34,'2. Revenues and expenses'!F37)/1000000 -> 1.2798089
B15: Net Tax Liabilities ($m, Nominal) | C15: Section 3 | E15: 0.30919228 | F15: 0 | G15: 0 | H15: 0.0044707924 | I15: 0.020403093 | J15: 0.023967854 | K15: 0 | L15: 0.060799898 | M15: 0 | N15: 0.085074047 | O15: 0 | P15: 0 | Q15: 0 | R15: 0 | S15: 0 | T15: 0.034045558 | U15: 0.058970923 | V15: 0 | W15: 0 | X15: 0 | Y15: 0.049123665 | Z15: 0 | AA15: 0 | AB15: 0
B18: Building Block Revenue ($m, Nominal) - RAB value | C18: Source
B19: Return on Capital | C19: Formula | D19: =(D10-D12-D13)*D9 -> 0 | E19: =(E10-E12-E13)*E9 -> 3.00464 | F19: =(F10-F12-F13)*F9 -> 3.00464 | G19: =(G10-G12-G13)*G9 -> 3.1468294 | H19: =(H10-H12-H13)*H9 -> 3.1951116 | I19: =(I10-I12-I13)*I9 -> 3.2399642 | J19: =(J10-J12-J13)*J9 -> 3.2768162 | K19: =(K10-K12-K13)*K9 -> 3.316102 | ... AB19: =(AB10-AB12-AB13)*AB9 -> 2.1936709
B20: Return of Capital | C20: RFM output | D20: =-('3. Statement of pipeline assets'!D16+'3. Statement of pipeline assets'!D21+'3. Statement of pipeline assets'!D27+'3. Statement of pipeline assets'!D33+'3. Statement of pipeline assets'!D39+'3. Statement of pipeline assets'!D45+'3. Statement of pipeline assets'!D51+'3. Statement of pipeline assets'!D57+'3. Statement of pipeline assets'!D63+'3. Statement of pipeline assets'!D69+'3. Statement of pipeline assets'!D76+'3. Statement of pipeline assets'!D82) -> 0 | E20: =-('3. Statement of pipeline assets'!E16+'3. Statement of pipeline assets'!E21+'3. Statement of pipeline assets'!E27+'3. Statement of pipeline assets'!E33+'3. Statement of pipeline assets'!E39+'3. Statement of pipeline assets'!E45+'3. Statement of pipeline assets'!E51+'3. Statement of pipeline assets'!E57+'3. Statement of pipeline assets'!E63+'3. Statement of pipeline assets'!E69+'3. Statement of pipeline assets'!E76+'3. Statement of pipeline assets'!E82)/1000000 -> 0 | F20: =-('3. Statement of pipeline assets'!F16+'3. Statement of pipeline assets'!F21+'3. Statement of pipeline assets'!F27+'3. Statement of pipeline assets'!F33+'3. Statement of pipeline assets'!F39+'3. Statement of pipeline assets'!F45+'3. Statement of pipeline assets'!F51+'3. Statement of pipeline assets'!F57+'3. Statement of pipeline assets'!F63+'3. Statement of pipeline assets'!F69+'3. Statement of pipeline assets'!F76+'3. Statement of pipeline assets'!F82)/1000000 -> -1.3477664 | G20: =-('3. Statement of pipeline assets'!G16+'3. Statement of pipeline assets'!G21+'3. Statement of pipeline assets'!G27+'3. Statement of pipeline assets'!G33+'3. Statement of pipeline assets'!G39+'3. Statement of pipeline assets'!G45+'3. Statement of pipeline assets'!G51+'3. Statement of pipeline assets'!G57+'3. Statement of pipeline assets'!G63+'3. Statement of pipeline assets'!G69+'3. Statement of pipeline assets'!G76+'3. Statement of pipeline assets'!G82)/1000000 -> -0.45765134 | H20: =-('3. Statement of pipeline assets'!H16+'3. Statement of pipeline assets'!H21+'3. Statement of pipeline assets'!H27+'3. Statement of pipeline assets'!H33+'3. Statement of pipeline assets'!H39+'3. Statement of pipeline assets'!H45+'3. Statement of pipeline assets'!H51+'3. Statement of pipeline assets'!H57+'3. Statement of pipeline assets'!H63+'3. Statement of pipeline assets'!H69+'3. Statement of pipeline assets'!H76+'3. Statement of pipeline assets'!H82)/1000000 -> -0.41382441 | I20: =-('3. Statement of pipeline assets'!I16+'3. Statement of pipeline assets'!I21+'3. Statement of pipeline assets'!I27+'3. Statement of pipeline assets'!I33+'3. Statement of pipeline assets'!I39+'3. Statement of pipeline assets'!I45+'3. Statement of pipeline assets'!I51+'3. Statement of pipeline assets'!I57+'3. Statement of pipeline assets'!I63+'3. Statement of pipeline assets'!I69+'3. Statement of pipeline assets'!I76+'3. Statement of pipeline assets'!I82)/1000000 -> -0.34861888 | J20: =-('3. Statement of pipeline assets'!J16+'3. Statement of pipeline assets'!J21+'3. Statement of pipeline assets'!J27+'3. Statement of pipeline assets'!J33+'3. Statement of pipeline assets'!J39+'3. Statement of pipeline assets'!J45+'3. Statement of pipeline assets'!J51+'3. Statement of pipeline assets'!J57+'3. Statement of pipeline assets'!J63+'3. Statement of pipeline assets'!J69+'3. Statement of pipeline assets'!J76+'3. Statement of pipeline assets'!J82)/1000000 -> -0.34977665 | K20: =-('3. Statement of pipeline assets'!K16+'3. Statement of pipeline assets'!K21+'3. Statement of pipeline assets'!K27+'3. Statement of pipeline assets'!K33+'3. Statement of pipeline assets'!K39+'3. Statement of pipeline assets'!K45+'3. Statement of pipeline assets'!K51+'3. Statement of pipeline assets'!K57+'3. Statement of pipeline assets'!K63+'3. Statement of pipeline assets'!K69+'3. Statement of pipeline assets'!K76+'3. Statement of pipeline assets'!K82)/1000000 -> -0.81623999 | L20: =-('3. Statement of pipeline assets'!L16+'3. Statement of pipeline assets'!L21+'3. Statement of pipeline assets'!L27+'3. Statement of pipeline assets'!L33+'3. Statement of pipeline assets'!L39+'3. Statement of pipeline assets'!L45+'3. Statement of pipeline assets'!L51+'3. Statement of pipeline assets'!L57+'3. Statement of pipeline assets'!L63+'3. Statement of pipeline assets'!L69+'3. Statement of pipeline assets'!L76+'3. Statement of pipeline assets'!L82)/1000000 -> -0.21788945 | ... AB20: =-('3. Statement of pipeline assets'!AB16+'3. Statement of pipeline assets'!AB21+'3. Statement of pipeline assets'!AB27+'3. Statement of pipeline assets'!AB33+'3. Statement of pipeline assets'!AB39+'3. Statement of pipeline assets'!AB45+'3. Statement of pipeline assets'!AB51+'3. Statement of pipeline assets'!AB57+'3. Statement of pipeline assets'!AB63+'3. Statement of pipeline assets'!AB69+'3. Statement of pipeline assets'!AB76+'3. Statement of pipeline assets'!AB82)/1000000 -> -1.5386796
B21: Operating Expenditure | C21: As above | D21: =D14 -> 0 | E21: =E14 -> 0.746652 | F21: =F14 -> 0.79145112 | G21: =G14 -> 0.81361175 | H21: =H14 -> 0.80385775 | I21: =I14 -> 0.98538941 | J21: =J14 -> 0.84684796 | K21: =K14 -> 0.99990759 | ... AB21: =AB14 -> 1.2798089
B22: Net Tax Liabilities | C22: As above | D22: =D15 -> 0 | E22: =E15 -> 0.30919228 | F22: =F15 -> 0 | G22: =G15 -> 0 | H22: =H15 -> 0.0044707924 | I22: =I15 -> 0.020403093 | J22: =J15 -> 0.023967854 | K22: =K15 -> 0 | ... AB22: =AB15 -> 0
B23: Estimated Revenue (Based on RAB value) | D23: =SUM(D19:D22) -> 0 | E23: =SUM(E19:E22) -> 4.0604843 | F23: =SUM(F19:F22) -> 2.4483247 | G23: =SUM(G19:G22) -> 3.5027898 | H23: =SUM(H19:H22) -> 3.5896157 | I23: =SUM(I19:I22) -> 3.8971378 | J23: =SUM(J19:J22) -> 3.7978554 | K23: =SUM(K19:K22) -> 3.4997696 | ... AB23: =SUM(AB19:AB22) -> 1.9348001
B26: Actual Revenue | E26: 1.5113508 | F26: 1.6023672 | G26: 1.6478754 | H26: 1.692186 | I26: 1.6427452 | J26: 1.639071 | K26: 1.4898906 | L26: 2.6371815 | M26: 2.6729043 | N26: 2.6231253 | O26: 2.9598906 | P26: 3.2370563 | Q26: 3.3869982 | R26: 3.365424 | S26: 3.2192402 | T26: 3.4422468 | U26: 3.8029654 | V26: 3.7304629 | W26: 3.863571 | X26: 3.9318032 | Y26: 4.1818539 | Z26: 4.3197507 | AA26: ='2. Revenues and expenses'!I17/1000000 -> 4.4258416 | AB26: ='2. Revenues and expenses'!F17/1000000 -> 4.9236243
B29: Recovered Capital ($m, Nominal) - if applicable | C29: Source
B30: Operating Expenditure | C30: 4. Recovered Capital | E30: N/A | F30: N/A | G30: N/A | H30: N/A | I30: N/A | J30: N/A | K30: N/A | L30: N/A | M30: N/A | N30: N/A | O30: N/A | P30: N/A | Q30: N/A | R30: N/A | S30: N/A | T30: N/A | U30: N/A | V30: N/A | W30: N/A | X30: N/A | Y30: N/A | Z30: N/A | AA30: N/A | AB30: N/A
B31: Net Tax Liabilities | C31: 4. Recovered Capital | E31: N/A | F31: N/A | G31: N/A | H31: N/A | I31: N/A | J31: N/A | K31: N/A | L31: N/A | M31: N/A | N31: N/A | O31: N/A | P31: N/A | Q31: N/A | R31: N/A | S31: N/A | T31: N/A | U31: N/A | V31: N/A | W31: N/A | X31: N/A | Y31: N/A | Z31: N/A | AA31: N/A | AB31: N/A
B32: Return on Capital | C32: 4. Recovered Capital | E32: N/A | F32: N/A | G32: N/A | H32: N/A | I32: N/A | J32: N/A | K32: N/A | L32: N/A | M32: N/A | N32: N/A | O32: N/A | P32: N/A | Q32: N/A | R32: N/A | S32: N/A | T32: N/A | U32: N/A | V32: N/A | W32: N/A | X32: N/A | Y32: N/A | Z32: N/A | AA32: N/A | AB32: N/A
B33: Return of Capital | C33: 4. Recovered Capital | E33: N/A | F33: N/A | G33: N/A | H33: N/A | I33: N/A | J33: N/A | K33: N/A | L33: N/A | M33: N/A | N33: N/A | O33: N/A | P33: N/A | Q33: N/A | R33: N/A | S33: N/A | T33: N/A | U33: N/A | V33: N/A | W33: N/A | X33: N/A | Y33: N/A | Z33: N/A | AA33: N/A | AB33: N/A
B34: Opening Asset Base ($m, Nominal) - RCM value | C34: 4. Recovered Capital | E34: N/A | F34: N/A | G34: N/A | H34: N/A | I34: N/A | J34: N/A | K34: N/A | L34: N/A | M34: N/A | N34: N/A | O34: N/A | P34: N/A | Q34: N/A | R34: N/A | S34: N/A | T34: N/A | U34: N/A | V34: N/A | W34: N/A | X34: N/A | Y34: N/A | Z34: N/A | AA34: N/A | AB34: N/A

Sheet 2. Revenues and expenses
B1: Statement of pipeline revenues and expenses
B2: =Tradingname -> APT Pipelines (NSW) Pty Limited
B3: Year ending | C3: =Yearending -> 45107
B5: Table 2.1: Statement of pipeline revenues and expenses
D7: Reporting period | G7: Previous reporting period
B8: Basis of Preparation reference | C8: Description | D8: Amounts excluding related party transactions | E8: Related party transactions | F8: Total | G8: Amounts excluding related party transactions | H8: Related party transactions | I8: Total
D9: $ nominal | E9: $ nominal | F9: $ nominal | G9: $ nominal | H9: $ nominal | I9: $ nominal
C10: Direct revenue
B11: 3.3.1 | C11: Total service revenue | D11: ='2.1 Revenue by service'!D24-D12 -> 4923624.3 | E11: ='2.1 Revenue by service'!E24-E12 -> 0 | F11: ='2.1 Revenue by service'!F24 -> 4923624.3 | G11: 4425841.6 | H11: 0 | I11: =SUM(G11:H11) -> 4425841.6
B12: 3.3.1 | C12: Other direct revenue | D12: 0 | E12: ='2.1 Revenue by service'!E23 -> 0 | F12: =SUM(D12:E12) -> 0 | G12: 0 | H12: 0 | I12: =SUM(G12:H12) -> 0
C13: Total direct revenue | D13: =SUM(D11:D12) -> 4923624.3 | E13: =SUM(E11:E12) -> 0 | F13: =SUM(F11:F12) -> 4923624.3 | G13: =SUM(G11:G12) -> 4425841.6 | H13: =SUM(H11:H12) -> 0 | I13: =SUM(G13:H13) -> 4425841.6
C14: Indirect revenue allocated
B15: 3.3.1 | C15: Other revenue | D15: ='2.3 Indirect revenue'!G36 -> 0 | E15: ='2.3 Indirect revenue'!H36 -> 0 | F15: =SUM(D15:E15) -> 0 | G15: 0 | H15: 0 | I15: =SUM(G15:H15) -> 0
C16: Total indirect revenue allocated | D16: =SUM(D15:D15) -> 0 | E16: =SUM(E15:E15) -> 0 | F16: =SUM(F15:F15) -> 0 | G16: =SUM(G15:G15) -> 0 | H16: =SUM(H15:H15) -> 0 | I16: =SUM(I15:I15) -> 0
C17: Total revenue | D17: =D13+D16 -> 4923624.3 | E17: =E13+E16 -> 0 | F17: =F13+F16 -> 4923624.3 | G17: =G13+G16 -> 4425841.6 | H17: =H13+H16 -> 0 | I17: =I13+I16 -> 4425841.6
C18: Direct costs
B19: 3.3.2 | C19: Repairs and maintenance | D19: 0 | E19: 0 | F19: =SUM(D19:E19) -> 0 | G19: 0 | H19: 0 | I19: =SUM(G19:H19) -> 0
B20: 3.3.2 | C20: Wages | D20: -446511.85 | E20: 0 | F20: =SUM(D20:E20) -> -446511.85 | G20: -471217.56 | H20: 0 | I20: =SUM(G20:H20) -> -471217.56
B21: 3.3.2.1 | C21: Depreciation | D21: 1693469.4 | E21: 0 | F21: =SUM(D21:E21) -> 1693469.4 | G21: 1677565.4 | H21: 0 | I21: =SUM(G21:H21) -> 1677565.4
B22: 3.3.2 | C22: Insurance | D22: 0 | E22: 0 | F22: =SUM(D22:E22) -> 0 | G22: 0 | H22: 0 | I22: =SUM(G22:H22) -> 0
B23: 3.3.2 | C23: Licence and regulatory costs | D23: -21497 | E23: 0 | F23: =SUM(D23:E23) -> -21497 | G23: -32375.99 | H23: 0 | I23: =SUM(G23:H23) -> -32375.99
B24: 3.3.2 | C24: Directly attributable finance charges | D24: 0 | E24: 0 | F24: =SUM(D24:E24) -> 0 | G24: 0 | H24: 0 | I24: =SUM(G24:H24) -> 0
B25: 3.3.2 | C25: Leasing and rental costs | D25: 0 | E25: 0 | F25: =SUM(D25:E25) -> 0 | G25: 0 | H25: 0 | I25: =SUM(G25:H25) -> 0
B26: 3.3.2 | C26: Other direct costs | D26: -191132.17 | E26: 0 | F26: =SUM(D26:E26) -> -191132.17 | G26: -104124.69 | H26: 0 | I26: =SUM(G26:H26) -> -104124.69
C27: Total direct costs | D27: =SUM(D19:D26) -> 1034328.4 | E27: =SUM(E19:E26) -> 0 | F27: =SUM(F19:F26) -> 1034328.4 | G27: =SUM(G19:G26) -> 1069847.1 | H27: =SUM(H19:H26) -> 0 | I27: =SUM(I19:I26) -> 1069847.1
C28: Shared costs
C29: Employee costs | D29: =SUMIF('2.4 Shared costs'!$C$9:$C$35,'2. Revenues and expenses'!$C29,'2.4 Shared costs'!H$9:H$35) -> 0 | E29: =SUMIF('2.4 Shared costs'!$C$9:$C$35,'2. Revenues and expenses'!$C29,'2.4 Shared costs'!I$9:I$35) -> 0 | F29: =SUM(D29:E29) -> 0 | G29: 0 | H29: 0 | I29: =SUM(G29:H29) -> 0
C30: Information technology and communication costs | D30: =SUMIF('2.4 Shared costs'!$C$9:$C$35,'2. Revenues and expenses'!$C30,'2.4 Shared costs'!H$9:H$35) -> 0 | E30: =SUMIF('2.4 Shared costs'!$C$9:$C$35,'2. Revenues and expenses'!$C30,'2.4 Shared costs'!I$9:I$35) -> 0 | F30: =SUM(D30:E30) -> 0 | G30: 0 | H30: 0 | I30: =SUM(G30:H30) -> 0
C31: Indirect operating Expenses | D31: =SUMIF('2.4 Shared costs'!$C$9:$C$35,'2. Revenues and expenses'!$C31,'2.4 Shared costs'!H$9:H$35) -> 0 | E31: =SUMIF('2.4 Shared costs'!$C$9:$C$35,'2. Revenues and expenses'!$C31,'2.4 Shared costs'!I$9:I$35) -> 0 | F31: =SUM(D31:E31) -> 0 | G31: 0 | H31: 0 | I31: =SUM(G31:H31) -> 0
B32: 3.3.2.1 | C32: Shared asset depreciation | D32: =SUMIF('2.4 Shared costs'!$C$9:$C$35,'2. Revenues and expenses'!$C32,'2.4 Shared costs'!H$9:H$35) -> -154789.77 | E32: =SUMIF('2.4 Shared costs'!$C$9:$C$35,'2. Revenues and expenses'!$C32,'2.4 Shared costs'!I$9:I$35) -> 0 | F32: =SUM(D32:E32) -> -154789.77 | G32: -90631.153 | H32: 0 | I32: =SUM(G32:H32) -> -90631.153
C33: Rental and leasing costs | D33: =SUMIF('2.4 Shared costs'!$C$9:$C$35,'2. Revenues and expenses'!$C33,'2.4 Shared costs'!H$9:H$35) -> 0 | E33: =SUMIF('2.4 Shared costs'!$C$9:$C$35,'2. Revenues and expenses'!$C33,'2.4 Shared costs'!I$9:I$35) -> 0 | F33: =SUM(D33:E33) -> 0 | G33: 0 | H33: 0 | I33: =SUM(G33:H33) -> 0
B34: 3.3.2.3 | C34: Borrowing costs | D34: =SUMIF('2.4 Shared costs'!$C$9:$C$35,'2. Revenues and expenses'!$C34,'2.4 Shared costs'!H$9:H$35) -> -23841.583 | E34: =SUMIF('2.4 Shared costs'!$C$9:$C$35,'2. Revenues and expenses'!$C34,'2.4 Shared costs'!I$9:I$35) -> 0 | F34: =SUM(D34:E34) -> -23841.583 | G34: -22420.728 | H34: 0 | I34: =SUM(G34:H34) -> -22420.728
C35: Loss from sale of shared fixed assets | D35: =SUMIF('2.4 Shared costs'!$C$9:$C$35,'2. Revenues and expenses'!$C35,'2.4 Shared costs'!H$9:H$35) -> 0 | E35: =SUMIF('2.4 Shared costs'!$C$9:$C$35,'2. Revenues and expenses'!$C35,'2.4 Shared costs'!I$9:I$35) -> 0 | F35: =SUM(D35:E35) -> 0 | G35: 0 | H35: 0 | I35: =SUM(G35:H35) -> 0
C36: Impairment Losses (nature of the impairment loss) | D36: =SUMIF('2.4 Shared costs'!$C$9:$C$35,'2. Revenues and expenses'!$C36,'2.4 Shared costs'!H$9:H$35) -> 0 | E36: =SUMIF('2.4 Shared costs'!$C$9:$C$35,'2. Revenues and expenses'!$C36,'2.4 Shared costs'!I$9:I$35) -> 0 | F36: =SUM(D36:E36) -> 0 | G36: 0 | H36: 0 | I36: =SUM(G36:H36) -> 0
B37: 3.3.2.2 | C37: Other shared costs | D37: =SUMIF('2.4 Shared costs'!$C$9:$C$35,'2. Revenues and expenses'!$C37,'2.4 Shared costs'!H$9:H$35) -> -596826.28 | E37: =SUMIF('2.4 Shared costs'!$C$9:$C$35,'2. Revenues and expenses'!$C37,'2.4 Shared costs'!I$9:I$35) -> 0 | F37: =SUM(D37:E37) -> -596826.28 | G37: -317733.64 | H37: 0 | I37: =SUM(G37:H37) -> -317733.64
C38: Total shared costs allocated | D38: =SUM(D29:D37) -> -775457.63 | E38: =SUM(E29:E37) -> 0 | F38: =SUM(F29:F37) -> -775457.63 | G38: =SUM(G29:G37) -> -430785.52 | H38: =SUM(H29:H37) -> 0 | I38: =SUM(I29:I37) -> -430785.52
C39: Total costs | D39: =D27+D38 -> 258870.76 | E39: =E27+E38 -> 0 | F39: =F27+F38 -> 258870.76 | G39: =G27+G38 -> 639061.62 | H39: =H27+H38 -> 0 | I39: =I27+I38 -> 639061.62
C40: Earnings before Interest and tax (EBIT) | D40: =D17+D39 -> 5182495.1 | E40: =E17+E39 -> 0 | F40: =F17+F39 -> 5182495.1 | G40: =G17+G39 -> 5064903.2 | H40: =H17+H39 -> 0 | I40: =I17+I39 -> 5064903.2

Sheet 2.1 Revenue by service
B1: Revenue by service
B2: =Tradingname -> APT Pipelines (NSW) Pty Limited
B3: Year ending | C3: =Yearending -> 45107
B5: Table 2.1.1: Revenue by service
D7: Reporting period | G7: Previous reporting period
B8: Basis of Preparation reference | C8: Description | D8: Amounts excluding related party transactions | E8: Related party transactions | F8: Total | G8: Amounts excluding related party transactions | H8: Related party transactions | I8: Total
D9: $ nominal | E9: $ nominal | F9: $ nominal | G9: $ nominal | H9: $ nominal | I9: $ nominal
C10: Direct revenue
B11: 3.3.1 | C11: Firm forward haul transportation services | D11: 4923624.3 | E11: 0 | F11: =SUM(D11:E11) -> 4923624.3 | G11: 4415553.9 | H11: 0 | I11: =SUM(G11:H11) -> 4415553.9
C12: Interruptible or as available transportation services | D12: 0 | E12: 0 | F12: =SUM(D12:E12) -> 0 | G12: 0 | H12: 0 | I12: =SUM(G12:H12) -> 0
C13: Backhaul services | D13: 0 | E13: 0 | F13: =SUM(D13:E13) -> 0 | G13: 0 | H13: 0 | I13: =SUM(G13:H13) -> 0
C14: Firm stand-alone compression service | D14: 0 | E14: 0 | F14: =SUM(D14:E14) -> 0 | G14: 0 | H14: 0 | I14: =SUM(G14:H14) -> 0
C15: Interruptible or as available stand-alone compression service | D15: 0 | E15: 0 | F15: =SUM(D15:E15) -> 0 | G15: 0 | H15: 0 | I15: =SUM(G15:H15) -> 0
C16: Park and park and loan services | D16: 0 | E16: 0 | F16: =SUM(D16:E16) -> 0 | G16: 0 | H16: 0 | I16: =SUM(G16:H16) -> 0
B17: 3.3.1 | C17: Capacity trading service | D17: 0 | E17: 0 | F17: =SUM(D17:E17) -> 0 | G17: 10287.7 | H17: 0 | I17: =SUM(G17:H17) -> 10287.7
C18: In pipe trading service | D18: 0 | E18: 0 | F18: =SUM(D18:E18) -> 0 | G18: 0 | H18: 0 | I18: =SUM(G18:H18) -> 0
C19: Distribution/transmission revenue | D19: 0 | E19: 0 | F19: =SUM(D19:E19) -> 0 | G19: 0 | H19: 0 | I19: =SUM(G19:H19) -> 0
C20: Customer contribution revenue | D20: ='2.2 Revenue contributions '!C15 -> 0 | E20: ='2.2 Revenue contributions '!D15 -> 0 | F20: ='2.2 Revenue contributions '!E15 -> 0 | G20: 0 | H20: 0 | I20: =SUM(G20:H20) -> 0
C21: Government contribution revenue | D21: ='2.2 Revenue contributions '!C27 -> 0 | E21: ='2.2 Revenue contributions '!D27 -> 0 | F21: ='2.2 Revenue contributions '!D27 -> 0 | G21: 0 | H21: 0 | I21: =SUM(G21:H21) -> 0
C22: Profit from sale of fixed assets | D22: 0 | E22: 0 | F22: =SUM(D22:E22) -> 0 | G22: 0 | H22: 0 | I22: =SUM(G22:H22) -> 0
C23: Other direct revenue | D23: 0 | E23: 0 | F23: =SUM(D23:E23) -> 0 | G23: 0 | H23: 0 | I23: =SUM(G23:H23) -> 0
C24: Total direct revenue | D24: =SUM(D11:D23) -> 4923624.3 | E24: =SUM(E11:E23) -> 0 | F24: =SUM(F11:F23) -> 4923624.3 | G24: =SUM(G11:G23) -> 4425841.6 | H24: =SUM(H11:H23) -> 0 | I24: =SUM(I11:I23) -> 4425841.6

Sheet 2.2 Revenue contributions 
B1: Revenue - contributions
B2: =Tradingname -> APT Pipelines (NSW) Pty Limited
B3: Year ending | C3: =Yearending -> 45107
B5: Table 2.2.1: Customer contributions received
B7: Description | C7: Amounts excluding related party transactions | D7: Related party transactions | E7: Total
C8: $ nominal | D8: $ nominal | E8: $ nominal
E9: =SUM(C9:D9) -> 0
E10: =SUM(C10:D10) -> 0
E11: =SUM(C11:D11) -> 0
E12: =SUM(C12:D12) -> 0
E13: =SUM(C13:D13) -> 0
E14: =SUM(C14:D14) -> 0
B15: Total | C15: =SUM(C9:C14) -> 0 | D15: =SUM(D9:D14) -> 0 | E15: =SUM(E9:E14) -> 0
B17: Table 2.2.2: Government contributions received
B19: Description | C19: Amounts excluding related party transactions | D19: Related party transactions | E19: Total
C20: $ nominal | D20: $ nominal | E20: $ nominal
E21: =SUM(C21:D21) -> 0
E22: =SUM(C22:D22) -> 0
E23: =SUM(C23:D23) -> 0
E24: =SUM(C24:D24) -> 0
E25: =SUM(C25:D25) -> 0
E26: =SUM(C26:D26) -> 0
B27: Total | C27: =SUM(C21:C26) -> 0 | D27: =SUM(D21:D26) -> 0 | E27: =SUM(E21:E26) -> 0

Sheet 2.3 Indirect revenue
B1: Indirect revenue
B2: =Tradingname -> APT Pipelines (NSW) Pty Limited
B3: Year ending | C3: =Yearending -> 45107
B5: Table 2.3.1: Indirect revenue allocation
B7: Basis of Preparation reference | C7: Description | D7: Indirect revenue excluding related parties | E7: Indirect revenue from related parties | F7: % allocated to pipeline | G7: Total allocated to pipeline excluding related parties | H7: Total related party amounts allocated to pipeline
C8: (list each individual revenue item) | D8: $ nominal | E8: $ nominal | G8: $ nominal | H8: $ nominal
G9: =D9*F9 -> 0 | H9: =E9*F9 -> 0
G10: =D10*F10 -> 0 | H10: =E10*F10 -> 0
G11: =D11*F11 -> 0 | H11: =E11*F11 -> 0
G12: =D12*F12 -> 0 | H12: =E12*F12 -> 0
G13: =D13*F13 -> 0 | H13: =E13*F13 -> 0
G14: =D14*F14 -> 0 | H14: =E14*F14 -> 0
G15: =D15*F15 -> 0 | H15: =E15*F15 -> 0
G16: =D16*F16 -> 0 | H16: =E16*F16 -> 0
G17: =D17*F17 -> 0 | H17: =E17*F17 -> 0
G18: =D18*F18 -> 0 | H18: =E18*F18 -> 0
G19: =D19*F19 -> 0 | H19: =E19*F19 -> 0
G20: =D20*F20 -> 0 | H20: =E20*F20 -> 0
... G35: =D35*F35 -> 0 | H35: =E35*F35 -> 0
C36: Total | D36: =SUM(D9:D35) -> 0 | E36: =SUM(E9:E35) -> 0 | G36: =SUM(G9:G35) -> 0 | H36: =SUM(H9:H35) -> 0

Sheet 2.4 Shared costs
B1: Shared costs
B2: =Tradingname -> APT Pipelines (NSW) Pty Limited
B3: Year ending | C3: =Yearending -> 45107
B5: Table 2.4.1: Shared cost allocation
B7: Basis of Preparation reference | C7: Description | D7: Income statement account applied to | E7: Shared costs excluding related parties | F7: Shared costs paid to related parties | G7: % allocated to pipeline | H7: Total allocated to pipeline excluding related parties | I7: Total related party amounts allocated to pipeline
C8: (list each individual cost) | E8: $ nominal | F8: $ nominal | H8: $ nominal | I8: $ nominal
C9: Employee costs | H9: =E9*G9 -> 0 | I9: =F9*G9 -> 0
C10: Information technology and communication costs | H10: =E10*G10 -> 0 | I10: =F10*G10 -> 0
C11: Indirect operating Expenses | H11: =E11*G11 -> 0 | I11: =F11*G11 -> 0
B12: 3.3.2.1 | C12: Shared asset depreciation | E12: -56165131 | G12: =('3. Statement of pipeline assets'!AB76+'3. Statement of pipeline assets'!AB82)/E12 -> 0.0027559764 | H12: =E12*G12 -> -154789.77 | I12: =F12*G12 -> 0
C13: Rental and leasing costs | H13: =E13*G13 -> 0 | I13: =F13*G13 -> 0
B14: 3.3.2.3 | C14: Borrowing costs | E14: -23841.583 | G14: 1 | H14: =E14*G14 -> -23841.583 | I14: =F14*G14 -> 0
C15: Loss from sale of shared fixed assets | H15: =E15*G15 -> 0 | I15: =F15*G15 -> 0
C16: Impairment Losses (nature of the impairment loss) | H16: =E16*G16 -> 0 | I16: =F16*G16 -> 0
C17: Other shared costs | E17: =SUM(E18:E35) -> -1.8844495e+08 | F17: =SUM(F18:F35) -> 0 | H17: =SUM(H18:H35) -> -596826.28 | I17: =SUM(I18:I35) -> 0
B18: 3.3.2.2 | C18: Corporate operating expenditure | E18: -1.8710374e+08 | G18: 0.0031671121 | H18: =E18*G18 -> -592578.51 | I18: =F18*G18 -> 0
B19: 3.3.2.2 | C19: Shared leased asset interest | E19: -1341212.8 | G19: 0.0031671121 | H19: =E19*G19 -> -4247.7714 | I19: =F19*G19 -> 0
H20: =E20*G20 -> 0 | I20: =F20*G20 -> 0
H21: =E21*G21 -> 0 | I21: =F21*G21 -> 0
H22: =E22*G22 -> 0 | I22: =F22*G22 -> 0
H23: =E23*G23 -> 0 | I23: =F23*G23 -> 0
H24: =E24*G24 -> 0 | I24: =F24*G24 -> 0
H25: =E25*G25 -> 0 | I25: =F25*G25 -> 0
H26: =E26*G26 -> 0 | I26: =F26*G26 -> 0
H27: =E27*G27 -> 0 | I27: =F27*G27 -> 0
H28: =E28*G28 -> 0 | I28: =F28*G28 -> 0
H29: =E29*G29 -> 0 | I29: =F29*G29 -> 0
H30: =E30*G30 -> 0 | I30: =F30*G30 -> 0
H31: =E31*G31 -> 0 | I31: =F31*G31 -> 0
... H35: =E35*G35 -> 0 | I35: =F35*G35 -> 0
C36: Total | E36: =SUM(E9:E17) -> -2.4463392e+08 | F36: =SUM(F9:F17) -> 0 | H36: =SUM(H9:H17) -> -775457.63 | I36: =SUM(I9:I17) -> 0

Sheet 3. Statement of pipeline assets
B1: Statement of pipeline assets
C2: =Tradingname -> APT Pipelines (NSW) Pty Limited
C3: Year ending | D3: =Yearending -> 45107
C4: Date RAB established | D4: =Cover!C25 -> 36342
C5: RAB at date established | D5: 28480000
B7: Table 3.1: Pipeline assets
D8: Year
B9: Basis of Preparation reference | C9: Description | D9: =YEAR(Cover!$C$25)-1&"-"&RIGHT(YEAR(Cover!$C$25),2) -> 1998-99 | E9: =YEAR(Cover!$C$25)&"-"&RIGHT(YEAR(Cover!$C$25)+1,2) -> 1999-00 | F9: =YEAR(Cover!$C$25)+1&"-"&RIGHT(YEAR(Cover!$C$25)+2,2) -> 2000-01 | G9: =YEAR(Cover!$C$25)+2&"-"&RIGHT(YEAR(Cover!$C$25)+3,2) -> 2001-02 | H9: =YEAR(Cover!$C$25)+3&"-"&RIGHT(YEAR(Cover!$C$25)+4,2) -> 2002-03 | I9: =YEAR(Cover!$C$25)+4&"-"&RIGHT(YEAR(Cover!$C$25)+5,2) -> 2003-04 | J9: =YEAR(Cover!$C$25)+5&"-"&RIGHT(YEAR(Cover!$C$25)+6,2) -> 2004-05 | K9: =YEAR(Cover!$C$25)+6&"-"&RIGHT(YEAR(Cover!$C$25)+7,2) -> 2005-06 | L9: =YEAR(Cover!$C$25)+7&"-"&RIGHT(YEAR(Cover!$C$25)+8,2) -> 2006-07 | M9: =YEAR(Cover!$C$25)+8&"-"&RIGHT(YEAR(Cover!$C$25)+9,2) -> 2007-08 | N9: =YEAR(Cover!$C$25)+9&"-"&RIGHT(YEAR(Cover!$C$25)+10,2) -> 2008-09 | O9: =YEAR(Cover!$C$25)+10&"-"&RIGHT(YEAR(Cover!$C$25)+11,2) -> 2009-10 | P9: =YEAR(Cover!$C$25)+11&"-"&RIGHT(YEAR(Cover!$C$25)+12,2) -> 2010-11 | Q9: =YEAR(Cover!$C$25)+12&"-"&RIGHT(YEAR(Cover!$C$25)+13,2) -> 2011-12 | R9: =YEAR(Cover!$C$25)+13&"-"&RIGHT(YEAR(Cover!$C$25)+14,2) -> 2012-13 | S9: =YEAR(Cover!$C$25)+14&"-"&RIGHT(YEAR(Cover!$C$25)+15,2) -> 2013-14 | T9: =YEAR(Cover!$C$25)+15&"-"&RIGHT(YEAR(Cover!$C$25)+16,2) -> 2014-15 | U9: =YEAR(Cover!$C$25)+16&"-"&RIGHT(YEAR(Cover!$C$25)+17,2) -> 2015-16 | V9: =YEAR(Cover!$C$25)+17&"-"&RIGHT(YEAR(Cover!$C$25)+18,2) -> 2016-17 | W9: =YEAR(Cover!$C$25)+18&"-"&RIGHT(YEAR(Cover!$C$25)+19,2) -> 2017-18 | X9: =YEAR(Cover!$C$25)+19&"-"&RIGHT(YEAR(Cover!$C$25)+20,2) -> 2018-19 | Y9: =YEAR(Cover!$C$25)+20&"-"&RIGHT(YEAR(Cover!$C$25)+21,2) -> 2019-20 | Z9: =YEAR(Cover!$C$25)+21&"-"&RIGHT(YEAR(Cover!$C$25)+22,2) -> 2020-21 | AA9: =YEAR(Cover!$C$25)+22&"-"&RIGHT(YEAR(Cover!$C$25)+23,2) -> 2021-22 | AB9: =YEAR(Cover!$C$21)&"-"&RIGHT(YEAR(Cover!$C$23),2) -> 2022-23
C11: Pipelines | D11: $ | E11: $ | F11: $ | G11: $ | H11: $ | I11: $ | J11: $ | K11: $ | L11: $ | M11: $ | N11: $ | O11: $ | P11: $ | Q11: $ | R11: $ | S11: $ | T11: $ | U11: $ | V11: $ | W11: $ | X11: $ | Y11: $ | Z11: $ | AA11: $ | AB11: $
B12: 3.4 | C12: Nominal Opening Regulatory Asset Base | E12: =D17 -> 28480000 | F12: =E17 -> 28480000 | G12: =F17 -> 29827766 | H12: =G17 -> 30285418 | I12: =H17 -> 30699242 | J12: =I17 -> 31048356 | K12: =J17 -> 31420327 | L12: =K17 -> 32237268 | ... AB12: =AA17 -> 38630853
B13: 3.4 | C13: Nominal Capex | E13: 0 | F13: 0 | G13: 0 | H13: 0 | I13: 0 | J13: 21545.496 | K13: 0 | L13: 0 | M13: 0 | N13: 0 | O13: 327294.91 | P13: 0 | Q13: 0 | R13: 344987.79 | S13: 0 | T13: 136955.52 | U13: 0 | V13: 0 | W13: 0 | X13: 0 | Y13: 0 | Z13: 625738.09 | AA13: 1469.1861 | AB13: 0
C14: Total capitalised pipeline construction costs | D14: =D5 -> 28480000 | E14: =E12+E13 -> 28480000 | F14: =F12+F13 -> 28480000 | G14: =G12+G13 -> 29827766 | H14: =H12+H13 -> 30285418 | I14: =I12+I13 -> 30699242 | J14: =J12+J13 -> 31069901 | K14: =K12+K13 -> 31420327 | L14: =L12+L13 -> 32237268 | ... AB14: =AB12+AB13 -> 38630853
B15: 3.4 | C15: Less Asset disposal (at cost) | E15: 0 | F15: 0 | G15: 0 | H15: 0 | I15: 0 | J15: 0 | K15: 0 | L15: 0 | M15: 0 | N15: 0 | O15: 0 | P15: 0 | Q15: 0 | R15: 0 | S15: 0 | T15: 0 | U15: 0 | V15: 0 | W15: 0 | X15: 0 | Y15: 0 | Z15: 0 | AA15: 0 | AB15: 0
B16: 3.4 | C16: Less Nominal Actual Regulatory Depreciation | E16: 0 | F16: 1347766.4 | G16: 457651.34 | H16: 413824.41 | I16: 349113.39 | J16: 350425.76 | K16: 816941.04 | L16: 219127.93 | M16: 1004358 | N16: 8448.4703 | O16: 535686.65 | P16: 732109.37 | Q16: -109926.26 | R16: 306493.69 | S16: 527585.86 | T16: -16674.949 | U16: -201869.96 | V16: 118435.31 | W16: 161615.23 | X16: -23408.053 | Y16: -738248.33 | Z16: 780067.03 | AA16: 1653339.2 | AB16: 1671468.5
C17: Closing pipeline carrying value | D17: =SUM(D14:D16) -> 28480000 | E17: =SUM(E14:E16) -> 28480000 | F17: =SUM(F14:F16) -> 29827766 | G17: =SUM(G14:G16) -> 30285418 | H17: =SUM(H14:H16) -> 30699242 | I17: =SUM(I14:I16) -> 31048356 | J17: =SUM(J14:J16) -> 31420327 | K17: =SUM(K14:K16) -> 32237268 | ... AB17: =SUM(AB14:AB16) -> 40302321
C18: Compressors
B19: 3.4 | C19: Nominal Opening Regulatory Asset Base | E19: =D23 -> 0 | F19: =E23 -> 0 | G19: =F23 -> 0 | H19: =G23 -> 0 | I19: =H23 -> 0 | J19: =I23 -> 0 | K19: =J23 -> 0 | L19: =K23 -> 0 | ... Z19: =Y23 -> 0 | AA19: =Y23 -> 0 | AB19: =Z23 -> 0
B20: 3.4 | C20: Additions and improvements capitalised | E20: 0 | F20: 0 | G20: 0 | H20: 0 | I20: 0 | J20: 0 | K20: 0 | L20: 0 | M20: 0 | N20: 0 | O20: 0 | P20: 0 | Q20: 0 | R20: 0 | S20: 0 | T20: 0 | U20: 0 | V20: 0 | W20: 0 | X20: 0 | Y20: 0 | Z20: 0 | AA20: 0 | AB20: 0
B21: 3.4 | C21: Less Depreciation of compressors | E21: 0 | F21: 0 | G21: 0 | H21: 0 | I21: 0 | J21: 0 | K21: 0 | L21: 0 | M21: 0 | N21: 0 | O21: 0 | P21: 0 | Q21: 0 | R21: 0 | S21: 0 | T21: 0 | U21: 0 | V21: 0 | W21: 0 | X21: 0 | Y21: 0 | Z21: 0 | AA21: 0 | AB21: 0
B22: 3.4 | C22: Less Disposal (at cost) | E22: 0 | F22: 0 | G22: 0 | H22: 0 | I22: 0 | J22: 0 | K22: 0 | L22: 0 | M22: 0 | N22: 0 | O22: 0 | P22: 0 | Q22: 0 | R22: 0 | S22: 0 | T22: 0 | U22: 0 | V22: 0 | W22: 0 | X22: 0 | Y22: 0 | Z22: 0 | AA22: 0 | AB22: 0
C23: Closing compressors carrying value | D23: =SUM(D19:D22) -> 0 | E23: =SUM(E19:E22) -> 0 | F23: =SUM(F19:F22) -> 0 | G23: =SUM(G19:G22) -> 0 | H23: =SUM(H19:H22) -> 0 | I23: =SUM(I19:I22) -> 0 | J23: =SUM(J19:J22) -> 0 | K23: =SUM(K19:K22) -> 0 | ... AB23: =SUM(AB19:AB22) -> 0
C24: City Gates, supply regulators and valve stations
B25: 3.4 | C25: Nominal Opening Regulatory Asset Base | E25: =D29 -> 0 | F25: =E29 -> 0 | G25: =F29 -> 0 | H25: =G29 -> 0 | I25: =H29 -> 0 | J25: =I29 -> 0 | K25: =J29 -> 0 | L25: =K29 -> 0 | ... Z25: =Y29 -> 0 | AA25: =Y29 -> 0 | AB25: =Z29 -> 0
B26: 3.4 | C26: Improvements capitalised | E26: 0 | F26: 0 | G26: 0 | H26: 0 | I26: 0 | J26: 0 | K26: 0 | L26: 0 | M26: 0 | N26: 0 | O26: 0 | P26: 0 | Q26: 0 | R26: 0 | S26: 0 | T26: 0 | U26: 0 | V26: 0 | W26: 0 | X26: 0 | Y26: 0 | Z26: 0 | AA26: 0 | AB26: 0
B27: 3.4 | C27: Less Depreciation of city gates, supply regulators and valve stations | E27: 0 | F27: 0 | G27: 0 | H27: 0 | I27: 0 | J27: 0 | K27: 0 | L27: 0 | M27: 0 | N27: 0 | O27: 0 | P27: 0 | Q27: 0 | R27: 0 | S27: 0 | T27: 0 | U27: 0 | V27: 0 | W27: 0 | X27: 0 | Y27: 0 | Z27: 0 | AA27: 0 | AB27: 0
B28: 3.4 | C28: Less Disposal (at cost) | E28: 0 | F28: 0 | G28: 0 | H28: 0 | I28: 0 | J28: 0 | K28: 0 | L28: 0 | M28: 0 | N28: 0 | O28: 0 | P28: 0 | Q28: 0 | R28: 0 | S28: 0 | T28: 0 | U28: 0 | V28: 0 | W28: 0 | X28: 0 | Y28: 0 | Z28: 0 | AA28: 0 | AB28: 0
C29: Closing city gates, supply regulators and valve stations carrying value | D29: =SUM(D25:D28) -> 0 | E29: =SUM(E25:E28) -> 0 | F29: =SUM(F25:F28) -> 0 | G29: =SUM(G25:G28) -> 0 | H29: =SUM(H25:H28) -> 0 | I29: =SUM(I25:I28) -> 0 | J29: =SUM(J25:J28) -> 0 | K29: =SUM(K25:K28) -> 0 | ... AB29: =SUM(AB25:AB28) -> 0
C30: Metering
B31: 3.4 | C31: Nominal Opening Regulatory Asset Base | E31: =D35 -> 0 | F31: =E35 -> 0 | G31: =F35 -> 0 | H31: =G35 -> 0 | I31: =H35 -> 0 | J31: =I35 -> 0 | K31: =J35 -> 0 | L31: =K35 -> 357654.57 | ... AB31: =AA35 -> 431649.38
B32: 3.4 | C32: Additions and improvements capitalised | E32: 0 | F32: 0 | G32: 0 | H32: 0 | I32: 0 | J32: 0 | K32: 357654.57 | L32: 74528.856 | M32: 0 | N32: 0 | O32: 0 | P32: 0 | Q32: 0 | R32: 0 | S32: 0 | T32: 0 | U32: 0 | V32: 0 | W32: 0 | X32: 0 | Y32: 0 | Z32: 0 | AA32: 0 | AB32: 0
B33: 3.4 | C33: Less Depreciation of metering | E33: 0 | F33: 0 | G33: 0 | H33: 0 | I33: 0 | J33: 0 | K33: 0 | L33: -20.145884 | M33: 10368.432 | N33: -3071.565 | O33: 3757.739 | P33: 6074.3098 | Q33: -4957.5422 | R33: 251.56887 | S33: 2788.9185 | T33: -4178.8441 | U33: -6568.2798 | V33: -2773.8437 | W33: -2419.6952 | X33: -4798.9805 | Y33: -13343.839 | Z33: 4509.2697 | AA33: 13848.445 | AB33: 13464.249
B34: 3.4 | C34: Less Disposal (at cost) | E34: 0 | F34: 0 | G34: 0 | H34: 0 | I34: 0 | J34: 0 | K34: 0 | L34: 0 | M34: 0 | N34: 0 | O34: 0 | P34: 0 | Q34: 0 | R34: 0 | S34: 0 | T34: 0 | U34: 0 | V34: 0 | W34: 0 | X34: 0 | Y34: 0 | Z34: 0 | AA34: 0 | AB34: 0
C35: Closing Metering | D35: =SUM(D31:D34) -> 0 | E35: =SUM(E31:E34) -> 0 | F35: =SUM(F31:F34) -> 0 | G35: =SUM(G31:G34) -> 0 | H35: =SUM(H31:H34) -> 0 | I35: =SUM(I31:I34) -> 0 | J35: =SUM(J31:J34) -> 0 | K35: =SUM(K31:K34) -> 357654.57 | ... AB35: =SUM(AB31:AB34) -> 445113.63
C36: Odourant plants
B37: 3.4 | C37: Nominal Opening Regulatory Asset Base | E37: =D41 -> 0 | F37: =E41 -> 0 | G37: =F41 -> 0 | H37: =G41 -> 0 | I37: =H41 -> 0 | J37: =I41 -> 0 | K37: =J41 -> 0 | L37: =K41 -> 0 | ... AB37: =AA41 -> 312885.9
B38: 3.4 | C38: Additions and improvements capitalised | E38: 0 | F38: 0 | G38: 0 | H38: 0 | I38: 0 | J38: 0 | K38: 0 | L38: 0 | M38: 0 | N38: 0 | O38: 0 | P38: 0 | Q38: 284149.67 | R38: 0 | S38: 0 | T38: 0 | U38: 0 | V38: 0 | W38: 0 | X38: 0 | Y38: 0 | Z38: 0 | AA38: 0 | AB38: 1223105.1
B39: 3.4 | C39: Less Depreciation of odourant plants | E39: 0 | F39: 0 | G39: 0 | H39: 0 | I39: 0 | J39: 0 | K39: 0 | L39: 0 | M39: 0 | N39: 0 | O39: 0 | P39: 0 | Q39: 0 | R39: 3198.7179 | S39: 4985.5654 | T39: 626.18398 | U39: -850.1093 | V39: 1761.3223 | W39: 2143.3468 | X39: 670.57115 | Y39: -5142.8828 | Z39: 7178.0776 | AA39: 14165.432 | AB39: 14409.745
B40: 3.4 | C40: Less Disposal (at cost) | E40: 0 | F40: 0 | G40: 0 | H40: 0 | I40: 0 | J40: 0 | K40: 0 | L40: 0 | M40: 0 | N40: 0 | O40: 0 | P40: 0 | Q40: 0 | R40: 0 | S40: 0 | T40: 0 | U40: 0 | V40: 0 | W40: 0 | X40: 0 | Y40: 0 | Z40: 0 | AA40: 0 | AB40: 0
C41: Closing odourant plants carrying value | D41: =SUM(D37:D40) -> 0 | E41: =SUM(E37:E40) -> 0 | F41: =SUM(F37:F40) -> 0 | G41: =SUM(G37:G40) -> 0 | H41: =SUM(H37:H40) -> 0 | I41: =SUM(I37:I40) -> 0 | J41: =SUM(J37:J40) -> 0 | K41: =SUM(K37:K40) -> 0 | ... AB41: =SUM(AB37:AB40) -> 1550400.8
C42: SCADA (Communications)
...

Sheet 3.1 Pipeline asset useful life
B1: Asset useful life
B2: =Tradingname -> APT Pipelines (NSW) Pty Limited
B3: Year ending | C3: =Yearending -> 45107
B5: Table 3.1.1: Asset useful life
B7: Basis of Preparation reference | C7: Description (list each individual balance sheet item) | D7: Acquisition date | E7: Useful life | F7: Reason for choosing this useful life
E8: years
B9: 3.4.2 | C9: ='3. Statement of pipeline assets'!C11 -> Pipelines | D9: 1/7/1999 to 30/6/2022 | E9: 80 | F9: Per Appendix A - Pipeline asset lives
B10: 3.4.2 | C10: ='3. Statement of pipeline assets'!C18 -> Compressors | E10: 35 | F10: Per Appendix A - Pipeline asset lives
B11: 3.4.2 | C11: ='3. Statement of pipeline assets'!C24 -> City Gates, supply regulators and valve stations | E11: 50 | F11: Per Appendix A - Pipeline asset lives
B12: 3.4.2 | C12: ='3. Statement of pipeline assets'!C30 -> Metering | D12: 1/7/2005 to 30/6/2007 | E12: 50 | F12: Per Appendix A - Pipeline asset lives
B13: 3.4.2 | C13: ='3. Statement of pipeline assets'!C36 -> Odourant plants | D13: 1/7/2011 to 30/6/2023 | E13: 80 | F13: Per Appendix A - Pipeline asset lives
B14: 3.4.2 | C14: ='3. Statement of pipeline assets'!C42 -> SCADA (Communications) | D14: 1/7/2002 to 30/6/2022 | E14: 15 | F14: Per Appendix A - Pipeline asset lives
B15: 3.4.2 | C15: ='3. Statement of pipeline assets'!C48 -> Buildings | E15: 80 | F15: Per Appendix A - Pipeline asset lives
B16: 3.4.2 | C16: ='3. Statement of pipeline assets'!C60 -> Other depreciable pipeline assets | D16: 1/7/2007 to 30/6/2023 | E16: 12 | F16: Per Roma Brisbane Pipeline Access Arrangement
C17: Land and easments | E17: N/a | F17: Indefinite
C18: insert asset description
C19: insert asset description
C20: insert asset description
C21: ='3. Statement of pipeline assets'!C66 -> Leased pipeline assets
C22: insert asset description
C23: insert asset description
C24: insert asset description
C25: insert asset description
B26: 3.4.2 | C26: ='3. Statement of pipeline assets'!C73 -> Shared supporting assets | D26: 1/7/2003 to 30/6/2023 | E26: 5 | F26: Per Appendix A - Pipeline asset lives
C27: insert asset description
C28: insert asset description
C29: insert asset description
C30: insert asset description
C31: insert asset description
B32: 3.4.2 | C32: ='3. Statement of pipeline assets'!C79 -> Shared leased assets | D32: 1/7/2019 to 30/6/2023 | E32: 5 | F32: Per leased assets average life
C33: insert asset description
C34: insert asset description
C35: insert asset description
C36: insert asset description
C37: insert asset description

Sheet 3.2 Shared supporting assets
B1: Shared supporting assets
B2: =Tradingname -> APT Pipelines (NSW) Pty Limited
B3: Year ending | C3: =Yearending -> 45107
B5: Table 3.2.1: Shared supporting asset allocation
B7: Basis of Preparation reference | C7: Description (list each individual shared asset category greater than 5%) | D7: Category of shared assets | E7: Total amount | F7: % allocated to pipeline | G7: Total allocated to pipeline
E8: $ nominal | G8: $ nominal
B9: 3.4.5 | C9: Information Technology | D9: Shared supporting assets | E9: 4.3954736e+08 | F9: =SUM('3. Statement of pipeline assets'!I75:AB75)/E9 -> 0.0031846755 | G9: =E9*F9 -> 1399815.7
B10: 3.4.6 | C10: Shared leased assets | D10: Shared leased assets | E10: 59767870 | F10: =SUM('3. Statement of pipeline assets'!Y81:AB81)/E10 -> 0.0030079052 | G10: =E10*F10 -> 179776.09
G11: =E11*F11 -> 0
G12: =E12*F12 -> 0
G13: =E13*F13 -> 0
G14: =E14*F14 -> 0
G15: =E15*F15 -> 0
G16: =E16*F16 -> 0
G17: =E17*F17 -> 0
G18: =E18*F18 -> 0
G19: =E19*F19 -> 0
G20: =E20*F20 -> 0
G21: =E21*F21 -> 0
G22: =E22*F22 -> 0
... G40: =E40*F40 -> 0
B41: Total | E41: =SUM(E9:E40) -> 4.9931523e+08 | G41: =SUM(G9:G40) -> 1579591.8

Sheet Auditor's Report Statements

Sheet 4 Recovered capital
B1: Recovered capital method
B2: =Tradingname -> APT Pipelines (NSW) Pty Limited
B3: Year ending | C3: =Yearending -> 45107
B5: Table 4.1: Recovered capital method - pipeline assets
B7: Basis of Preparation reference | C7: Asset description | E7: Total | F7: Year | BI7: Drag and drop columns if required
F8: =C36 -> 0 | G8: =DATE(YEAR(F8)+1,MONTH(F8),DAY(F8)) -> 366 | H8: =DATE(YEAR(G8)+1,MONTH(G8),DAY(G8)) -> 731 | I8: =DATE(YEAR(H8)+1,MONTH(H8),DAY(H8)) -> 1096 | J8: =DATE(YEAR(I8)+1,MONTH(I8),DAY(I8)) -> 1461 | K8: =DATE(YEAR(J8)+1,MONTH(J8),DAY(J8)) -> 1827 | L8: =DATE(YEAR(K8)+1,MONTH(K8),DAY(K8)) -> 2192 | M8: =DATE(YEAR(L8)+1,MONTH(L8),DAY(L8)) -> 2557 | N8: =DATE(YEAR(M8)+1,MONTH(M8),DAY(M8)) -> 2922 | ... BH8: =DATE(YEAR(BG8)+1,MONTH(BG8),DAY(BG8)) -> 19724
B9: 4 | C9: Pipeline assets
D10: Construction cost | E10: =SUM(F10:BH10) -> 0
D11: Negative residual value | E11: =C37 -> 0
D12: Additions | E12: =SUM(F12:BH12) -> 0
D13: Maintenance capitalised | E13: =SUM(F13:BH13) -> 0
D14: Leased Assets | E14: =SUM(F14:BH14) -> 0
D15: Disposal (at cost) | E15: =SUM(F15:BH15) -> 0
D16: Cost base | E16: =SUM(F16:BH16) -> 0 | F16: =SUM(F9:F15) -> 0 | G16: =SUM(G9:G15) -> 0 | H16: =SUM(H9:H15) -> 0 | I16: =SUM(I9:I15) -> 0 | J16: =SUM(J9:J15) -> 0 | K16: =SUM(K9:K15) -> 0 | L16: =SUM(L9:L15) -> 0 | M16: =SUM(M9:M15) -> 0 | ... BH16: =SUM(BH9:BH15) -> 0
B17: 4.3.3 | C17: Shared supporting assets
D18: Construction cost or acqusition cost (where allowed) apportioned | E18: =SUM(F18:BH18) -> 0
D19: Additions | E19: =SUM(F19:BH19) -> 0
D20: Maintenance capitalised | E20: =SUM(F20:BH20) -> 0
D21: Leased Assets | E21: =SUM(F21:BH21) -> 0
D22: Disposal (at cost) | E22: =SUM(F22:BH22) -> 0
D23: Cost base | E23: =SUM(F23:BH23) -> 0 | F23: =SUM(F18:F22) -> 0 | G23: =SUM(G18:G22) -> 0 | H23: =SUM(H18:H22) -> 0 | I23: =SUM(I18:I22) -> 0 | J23: =SUM(J18:J22) -> 0 | K23: =SUM(K18:K22) -> 0 | L23: =SUM(L18:L22) -> 0 | M23: =SUM(M18:M22) -> 0 | ... BH23: =SUM(BH18:BH22) -> 0
D24: Total assets | E24: =E16+E23 -> 0 | F24: =F16+F23 -> 0 | G24: =G16+G23 -> 0 | H24: =H16+H23 -> 0 | I24: =I16+I23 -> 0 | J24: =J16+J23 -> 0 | K24: =K16+K23 -> 0 | L24: =L16+L23 -> 0 | ... BH24: =BH16+BH23 -> 0
C25: Return of capital
B26: 4.3.2 | D26: Revenue | E26: =SUM(F26:BH26) -> 0
B27: 4.3.2 | D27: Operating expenses | E27: =SUM(F27:BH27) -> 0
B28: 4.3.2 | D28: Leased Asset Interest/Financing Charge | E28: =SUM(F28:BH28) -> 0
B29: 4.3.5 | D29: Net tax liabilities | E29: =SUM(F29:BH29) -> 0
B30: 4.3.4 | D30: Return on capital | E30: =SUM(F30:BH30) -> 0
