Workbook
Name \0: #REF!
Name \A: #REF!
Name \B: #REF!
Name \C: #REF!
Name \M: #REF!
Name ______UAG99: #REF!
Name _____cpi1: #REF!
Name _____CPI2: #REF!
Name _____IRR1: #REF!
Name _____LUT1: #REF!
Name _____NPV1: #REF!
Name _____UAG99: #REF!
Name ____cpi1: #REF!
Name ____CPI2: #REF!
Name ____IRR1: #REF!
Name ____IZS2: #REF!
Name ____LUT1: #REF!
Name ____NPV1: #REF!
Name ____NPV2: #REF!
Name ____UAG99: #REF!
Name ___cpi1: #REF!
Name ___CPI2: #REF!
Name ___IRR1: #REF!
Name ___IZS2: #REF!
Name ___LUT1: #REF!
Name ___May08: #REF!
Name ___NPV1: #REF!
Name ___NPV2: #REF!
Name ___Tot220: #REF!
Name ___Tot237: #REF!
Name ___Tot257: #REF!
Name ___Tot258: #REF!
Name ___UAG99: #REF!
Name __cpi1: #REF!
Name __CPI2: #REF!
Name __DataSet1__: #REF!
Name __DataSet2__: #REF!
Name __DataSet3__: #REF!
Name __DataSet4__: #REF!
Name __int997: #REF!
Name __IRR1: #REF!
Name __IZS2: #REF!
Name __JUN09: #REF!
Name __LUT1: #REF!
Name __MAIN__: #REF!
Name __May08: #REF!
Name __NPV1: #REF!
Name __NPV2: #REF!
Name __PL1: #REF!
Name __TableData__: #REF!
Name __TB1: #REF!
Name __Tot221: #REF!
Name __Tot232: #REF!
Name __UAG99: #REF!
Name _0020: #REF!
Name _0030: #REF!
Name _0270: #REF!
Name _0700: #REF!
Name _0701: #REF!
Name _0710: #REF!

Sheet Cover
A1: Gas Pipeline Operator
A2: Reporting template
A4: This template is to be uploaded by a Gas Pipeline Operator to its website to fulfil its annual reporting obligations.
A6: Colour coding of input sheets:
A7: Dark cyan = ERA instructions/headings
A8: Yellow = Input cells
A9: Grey - Not applicable/No inputs required
A11: Leave coloured cells blank if no information exists - PLEASE DO NOT ENTER TEXT unless specifically requested to do so.
A12: All dollar amounts are to be unrounded, and in nominal terms.
A15: Service provider: | C15: APT PARMELIA PTY LTD
A17: Australian business number: | C17: 078 902 397
A19: Pipeline name: | C19: Parmelia Gas Pipeline
A21: Reporting period start date: | C21: 45108
A23: Reporting period end date: | C23: 45473
A25: Publication date of this report: | C25: 45596
A27: Reported information is current at: | C27: 45473
A29: Has any information in this template been amended since last published within this current reporting period? | C29: No | F29: Amendment reference
A33: Business address | B33: Address | D33: Level 25, 580 George Street
B34: Suburb | D34: Sydney
C35: State | D35: NSW | E35: Postcode | F35: 2000
A37: Postal address | B37: Address | D37: PO Box R41
B38: Suburb | D38: Royal Exchange
C39: State | D39: NSW | E39: Postcode | F39: 1225
A42: Contact name/s | B42: Andrew Nairn (General Manager Investor Relations)
A43: Contact phone/s | B43: +61 (03) 8416 2887
A44: Contact email address/s | B44: APARegReporting@apa.com.au

Sheet Contents
F3: Table of contents

Sheet Summary
B1: Summary
B2: =Tradingname -> APT PARMELIA PTY LTD
B3: Year ending | C3: =TEXT(Yearstart,"dd/mm/yyyy")&" to "&TEXT(Yearending,"dd/mm/yyyy") -> 01/07/2023 to 30/06/2024
B4: All numbers are expressed in $nominal
B8: Revenues and expenses (Table 2.1) | C8: Amounts excluding related party transactions | D8: Related party transactions | E8: Total
B9: Direct revenue | C9: ='2. Revenues and expenses'!D16 -> 16526074 | D9: ='2. Revenues and expenses'!E16 -> 0 | E9: ='2. Revenues and expenses'!F16 -> 16526074
B10: Indirect revenue allocated | C10: ='2. Revenues and expenses'!D19 -> 0 | D10: ='2. Revenues and expenses'!E19 -> 0 | E10: ='2. Revenues and expenses'!F19 -> 0
B11: Total revenue | C11: ='2. Revenues and expenses'!D20 -> 16526074 | D11: ='2. Revenues and expenses'!E20 -> 0 | E11: ='2. Revenues and expenses'!F20 -> 16526074
B12: Direct costs | C12: ='2. Revenues and expenses'!D30 -> -6907075.8 | D12: ='2. Revenues and expenses'!E30 -> 0 | E12: ='2. Revenues and expenses'!F30 -> -6907075.8
B13: Shared costs allocated | C13: ='2. Revenues and expenses'!D41 -> -50283893 | D13: ='2. Revenues and expenses'!E41 -> 0 | E13: ='2. Revenues and expenses'!F41 -> -50283893
B14: Total costs | C14: ='2. Revenues and expenses'!D42 -> -57190969 | D14: ='2. Revenues and expenses'!E42 -> 0 | E14: ='2. Revenues and expenses'!F42 -> -57190969
B15: Earnings before interest and tax (EBIT) | C15: ='2. Revenues and expenses'!D43 -> -40664895 | D15: ='2. Revenues and expenses'!E43 -> 0 | E15: ='2. Revenues and expenses'!F43 -> -40664895
B18: Statement of pipeline assets (Table 3.1) | C18: Cumulative value as at current reporting period | D18: Cumulative value as at previous reporting period
B19: Pipelines | C19: ='3. Statement of pipeline assets'!D16 -> 1.8626451e-08 | D19: ='3. Statement of pipeline assets'!E16 -> 3.7252903e-09
B20: Compressors | C20: ='3. Statement of pipeline assets'!D23 -> 0 | D20: ='3. Statement of pipeline assets'!E23 -> 0
B21: City Gates, supply regulators and valve stations | C21: ='3. Statement of pipeline assets'!D30 -> 0 | D21: ='3. Statement of pipeline assets'!E30 -> 0
B22: Metering | C22: ='3. Statement of pipeline assets'!D37 -> 3.783498e-10 | D22: ='3. Statement of pipeline assets'!E37 -> 0
B23: Odourant plants | C23: ='3. Statement of pipeline assets'!D44 -> -3.6379788e-11 | D23: ='3. Statement of pipeline assets'!E44 -> 0
B24: SCADA (Communications) | C24: ='3. Statement of pipeline assets'!D51 -> -2.3283064e-10 | D24: ='3. Statement of pipeline assets'!E51 -> -2.3283064e-10
B25: Buildings | C25: ='3. Statement of pipeline assets'!D58 -> 0 | D25: ='3. Statement of pipeline assets'!E58 -> 0
B26: Land and easements | C26: ='3. Statement of pipeline assets'!D65 -> 2.910383e-11 | D26: ='3. Statement of pipeline assets'!E65 -> 2.910383e-11
B27: Other depreciable pipeline assets | C27: ='3. Statement of pipeline assets'!D72 -> 0.019999999 | D27: ='3. Statement of pipeline assets'!E72 -> 0
B28: Leased Assets | C28: ='3. Statement of pipeline assets'!D79 -> 0 | D28: ='3. Statement of pipeline assets'!E79 -> 0
B29: Other non-depreciable pipeline assets | C29: ='3. Statement of pipeline assets'!D80 -> 2289041.3 | D29: ='3. Statement of pipeline assets'!E80 -> 2110606
B30: Total pipeline assets | C30: ='3. Statement of pipeline assets'!D81 -> 2289041.3 | D30: ='3. Statement of pipeline assets'!E81 -> 2110606
B31: Shared property, plant and equipment | C31: ='3. Statement of pipeline assets'!D89 -> 0 | D31: ='3. Statement of pipeline assets'!E89 -> 0
B32: Shared leased assets | C32: ='3. Statement of pipeline assets'!D96 -> -1.0913936e-10 | D32: ='3. Statement of pipeline assets'!E96 -> -5.8207661e-11
B33: Inventories | C33: ='3. Statement of pipeline assets'!D97 -> 0 | D33: ='3. Statement of pipeline assets'!E97 -> 0
B34: Deferred tax assets | C34: ='3. Statement of pipeline assets'!D98 -> 3901720.5 | D34: ='3. Statement of pipeline assets'!E98 -> 4295375.6
B35: Other shared assets | C35: ='3. Statement of pipeline assets'!D99 -> 0 | D35: ='3. Statement of pipeline assets'!E99 -> 0
B36: Total shared assets allocated | C36: ='3. Statement of pipeline assets'!D100 -> 3901720.5 | D36: ='3. Statement of pipeline assets'!E100 -> 4295375.6
B37: Total assets | C37: ='3. Statement of pipeline assets'!D101 -> 6190761.8 | D37: ='3. Statement of pipeline assets'!E101 -> 6405981.6
B38: Return on assets (EBIT/Total assets value) (Table 1.1.1) | C38: ='1.1 Financial performance'!C10 -> -6.5686415
B41: Recovered capital value (Table 4.1) | C41: Cumulative value as at current reporting period | D41: =VALUE(RIGHT(TEXT(Yearending,"dd/mm/yyyy"),4)) -> 2024
B42: Pipeline assets cost base | C42: ='4. Recovered capital'!E16 -> 2.2568546e+08
B43: Shared assets allocated cost base | C43: ='4. Recovered capital'!E23 -> 3877625.8
B44: Total assets | C44: ='4. Recovered capital'!E24 -> 2.2956308e+08
B45: Return of capital
B46: Revenue | C46: ='4. Recovered capital'!E26 -> 2.6053553e+08 | D46: =IFERROR(INDEX('4. Recovered capital'!$F$8:$BH$34,MATCH($B46,'4. Recovered capital'!$D$8:$D$34,0),MATCH(D$41,'4. Recovered capital'!$F$8:$BH$8,0)),) -> 16526074
B47: Operating expenses | C47: ='4. Recovered capital'!E27 -> -2.1281397e+08 | D47: =IFERROR(INDEX('4. Recovered capital'!$F$8:$BH$34,MATCH($B47,'4. Recovered capital'!$D$8:$D$34,0),MATCH(D$41,'4. Recovered capital'!$F$8:$BH$8,0)),) -> -8838487.1
...

Sheet 1. Pipeline information
B1: Pipeline information
B2: =Tradingname -> APT PARMELIA PTY LTD
B3: Reporting Period | C3: =TEXT(Yearstart,"dd/mm/yyyy")&" to "&TEXT(Yearending,"dd/mm/yyyy") -> 01/07/2023 to 30/06/2024
B5: Table 1.1: Pipeline details
B7: Pipeline location | C7: Western Australia
B8: Pipeline length (km) | C8: 416
B9: Number of customers | C9: 11
B10: Service type | C10: Transmission
B12: Table 1.2: Pipeline services provided
B14: Service description | C14: Provided to non related parties | D14: Provided to related parties
B15: Transportation services
B16: Firm forward haul transportation service | C16: Yes | D16: No
B17: Interruptible or as available transportation service | C17: Yes | D17: No
B18: Backhaul services | C18: Yes | D18: No
B19: Stand-alone compression services
B20: Firm stand-alone compression service | C20: No | D20: No
B21: Interruptible or as available stand-alone compression service | C21: No | D21: No
B22: Storage services
B23: Park services | C23: No | D23: No
B24: Park and loan services | C24: No | D24: No
B25: Trading services
B26: Capacity trading service | C26: No | D26: No
B27: In pipe trading service | C27: Yes | D27: No
B28: Other (please specify)
B29: other service (insert description)
B30: other service (insert description)
B31: other service (insert description)
B32: other service (insert description)
B33: other service (insert description)
B34: other service (insert description)
B35: other service (insert description)
B36: other service (insert description)

Sheet 1.1 Financial performance
B1: Financial performance measures
B2: =Tradingname -> APT PARMELIA PTY LTD
B3: Reporting Period | C3: =TEXT(Yearstart,"dd/mm/yyyy")&" to "&TEXT(Yearending,"dd/mm/yyyy") -> 01/07/2023 to 30/06/2024
B5: Table 1.1.1: Return on assets
C7: Pipeline
B8: Earnings before interest and tax | C8: ='2. Revenues and expenses'!F43 -> -40664895
B9: Total assets | C9: ='3. Statement of pipeline assets'!$D$101 -> 6190761.8
B10: Return on assets | C10: =IFERROR(C8/C9,0) -> -6.5686415
B12: Note: For the purposes of Part 23 reporting the Part 23 Book value exceeds the Part 23 Recoverable value on a stand-alone basis however there is no statutory impairment for Parmelia on a cash generating unit basis. For further information, please refer to the table reference 3.2.1 on the tab called "6. Notes".

Sheet 2. Revenues and expenses
B1: Statement of pipeline revenues and expenses
B2: =Tradingname -> APT PARMELIA PTY LTD
B3: Reporting Period | C3: =TEXT(Yearstart,"dd/mm/yyyy")&" to "&TEXT(Yearending,"dd/mm/yyyy") -> 01/07/2023 to 30/06/2024
B5: Table 2.1: Statement of pipeline revenues and expenses
D7: Reporting period | G7: Previous reporting period
B8: Basis of Preparation reference | C8: Description | D8: Amounts excluding related party transactions | E8: Related party transactions | F8: Total | G8: Amounts excluding related party transactions | H8: Related party transactions | I8: Total
D9: $ nominal | E9: $ nominal | F9: $ nominal | G9: $ nominal | H9: $ nominal | I9: $ nominal
C10: Direct revenue
B11: 2.3.1 & 2.3.1.1 | C11: Total service revenue | D11: ='2.1 Revenue by service'!D21 -> 10300418 | E11: ='2.1 Revenue by service'!E21 -> 0 | F11: =SUM(D11:E11) -> 10300418 | G11: ='2.1 Revenue by service'!G21 -> 6356258.1 | H11: ='2.1 Revenue by service'!H21 -> 0 | I11: =SUM(G11:H11) -> 6356258.1
C12: Customer contribution revenue | D12: ='2.2 Revenue contributions '!C15 -> 0 | E12: ='2.2 Revenue contributions '!D15 -> 0 | F12: =SUM(D12:E12) -> 0 | G12: 0 | H12: 0 | I12: =SUM(G12:H12) -> 0
C13: Government contribution revenue | D13: ='2.2 Revenue contributions '!D27 -> 0 | F13: =SUM(D13:E13) -> 0 | G13: 0 | H13: 0 | I13: =SUM(G13:H13) -> 0
C14: Profit from sale of fixed assets | D14: 2.0494717e-12 | E14: 0 | F14: =SUM(D14:E14) -> 2.0494717e-12 | G14: 0 | H14: 0 | I14: =SUM(G14:H14) -> 0
B15: 2.3.1 | C15: Other direct revenue | D15: 6225655.6 | E15: 0 | F15: =SUM(D15:E15) -> 6225655.6 | G15: 4247578.4 | H15: 0 | I15: =SUM(G15:H15) -> 4247578.4
C16: Total direct revenue | D16: =SUM(D11:D15) -> 16526074 | E16: =SUM(E11:E15) -> 0 | F16: =SUM(D16:E16) -> 16526074 | G16: =SUM(G11:G15) -> 10603837 | H16: =SUM(H11:H15) -> 0 | I16: =SUM(I11:I15) -> 10603837
C17: Indirect revenue allocated
C18: Other revenue | D18: ='2.3 Indirect revenue'!G36 -> 0 | E18: ='2.3 Indirect revenue'!H36 -> 0 | F18: =SUM(D18:E18) -> 0 | G18: 0 | H18: 0 | I18: =SUM(G18:H18) -> 0
C19: Total indirect revenue allocated | D19: =SUM(D18:D18) -> 0 | E19: =SUM(E18:E18) -> 0 | F19: =SUM(F18:F18) -> 0 | G19: =SUM(G18:G18) -> 0 | H19: =SUM(H18:H18) -> 0 | I19: =SUM(I18:I18) -> 0
C20: Total revenue | D20: =D16+D19 -> 16526074 | E20: =E16+E19 -> 0 | F20: =F16+F19 -> 16526074 | G20: =G16+G19 -> 10603837 | H20: =H16+H19 -> 0 | I20: =I16+I19 -> 10603837
C21: Direct costs
B22: 2.3.2 | C22: Repairs and maintenance | D22: -12045.33 | E22: 0 | F22: =SUM(D22:E22) -> -12045.33 | G22: -7710.6 | H22: 0 | I22: =SUM(G22:H22) -> -7710.6
B23: 2.3.2 | C23: Wages | D23: -5150752.2 | E23: 0 | F23: =SUM(D23:E23) -> -5150752.2 | G23: -5613538.9 | H23: 0 | I23: =SUM(G23:H23) -> -5613538.9
B24: 2.3.2.1 | C24: Depreciation | D24: -64.46 | E24: 0 | F24: =SUM(D24:E24) -> -64.46 | G24: 0 | H24: 0 | I24: =SUM(G24:H24) -> 0
B25: 2.3.2 | C25: Insurance | D25: -136020.36 | E25: 0 | F25: =SUM(D25:E25) -> -136020.36 | G25: -121497.61 | H25: 0 | I25: =SUM(G25:H25) -> -121497.61
B26: 2.3.2 | C26: Licence and regulatory costs | D26: -126800 | E26: 0 | F26: =SUM(D26:E26) -> -126800 | G26: -104748.97 | H26: 0 | I26: =SUM(G26:H26) -> -104748.97
B27: 2.3.2 | C27: Directly attributable finance charges | D27: 0 | E27: 0 | F27: =SUM(D27:E27) -> 0 | G27: 0 | H27: 0 | I27: =SUM(G27:H27) -> 0
B28: 2.3.2 | C28: Leasing and rental costs | D28: -49036.73 | E28: 0 | F28: =SUM(D28:E28) -> -49036.73 | G28: -24712.4 | H28: 0 | I28: =SUM(G28:H28) -> -24712.4
B29: 2.3.2 | C29: Other direct costs | D29: -1432356.8 | E29: 0 | F29: =SUM(D29:E29) -> -1432356.8 | G29: -1121721.5 | H29: 0 | I29: =SUM(G29:H29) -> -1121721.5
C30: Total direct costs | D30: =SUM(D22:D29) -> -6907075.8 | E30: =SUM(E22:E29) -> 0 | F30: =SUM(F22:F29) -> -6907075.8 | G30: =SUM(G22:G29) -> -6993930 | H30: =SUM(H22:H29) -> 0 | I30: =SUM(I22:I29) -> -6993930
C31: Shared costs
C32: Employee costs | D32: =SUMIF('2.4 Shared costs'!$C$9:$C$35,'2. Revenues and expenses'!$C32,'2.4 Shared costs'!$H$9:$H$35) -> 0 | E32: =SUMIF('2.4 Shared costs'!$C$9:$C$35,'2. Revenues and expenses'!$C32,'2.4 Shared costs'!$I$9:$I$35) -> 0 | F32: =SUM(D32:E32) -> 0 | G32: 0 | H32: 0 | I32: =SUM(G32:H32) -> 0
C33: Information technology and communication costs | D33: =SUMIF('2.4 Shared costs'!$C$9:$C$35,'2. Revenues and expenses'!$C33,'2.4 Shared costs'!$H$9:$H$35) -> 0 | E33: =SUMIF('2.4 Shared costs'!$C$9:$C$35,'2. Revenues and expenses'!$C33,'2.4 Shared costs'!$I$9:$I$35) -> 0 | F33: =SUM(D33:E33) -> 0 | G33: 0 | H33: 0 | I33: =SUM(G33:H33) -> 0
C34: Indirect operating expenses | D34: =SUMIF('2.4 Shared costs'!$C$9:$C$35,'2. Revenues and expenses'!$C34,'2.4 Shared costs'!$H$9:$H$35) -> 0 | E34: =SUMIF('2.4 Shared costs'!$C$9:$C$35,'2. Revenues and expenses'!$C34,'2.4 Shared costs'!$I$9:$I$35) -> 0 | F34: =SUM(D34:E34) -> 0 | G34: 0 | H34: 0 | I34: =SUM(G34:H34) -> 0
B35: 2.3.2.1 | C35: Shared asset depreciation | D35: =SUMIF('2.4 Shared costs'!$C$9:$C$35,'2. Revenues and expenses'!$C35,'2.4 Shared costs'!$H$9:$H$35) -> 0 | E35: =SUMIF('2.4 Shared costs'!$C$9:$C$35,'2. Revenues and expenses'!$C35,'2.4 Shared costs'!$I$9:$I$35) -> 0 | F35: =SUM(D35:E35) -> 0 | G35: 0 | H35: 0 | I35: =SUM(G35:H35) -> 0
C36: Rental and leasing costs | D36: =SUMIF('2.4 Shared costs'!$C$9:$C$35,'2. Revenues and expenses'!$C36,'2.4 Shared costs'!$H$9:$H$35) -> 0 | E36: =SUMIF('2.4 Shared costs'!$C$9:$C$35,'2. Revenues and expenses'!$C36,'2.4 Shared costs'!$I$9:$I$35) -> 0 | F36: =SUM(D36:E36) -> 0 | G36: 0 | H36: 0 | I36: =SUM(G36:H36) -> 0
C37: Borrowing costs | D37: =SUMIF('2.4 Shared costs'!$C$9:$C$35,'2. Revenues and expenses'!$C37,'2.4 Shared costs'!$H$9:$H$35) -> 0 | E37: =SUMIF('2.4 Shared costs'!$C$9:$C$35,'2. Revenues and expenses'!$C37,'2.4 Shared costs'!$I$9:$I$35) -> 0 | F37: =SUM(D37:E37) -> 0 | G37: 0 | H37: 0 | I37: =SUM(G37:H37) -> 0
C38: Loss from sale of shared fixed assets | D38: =SUMIF('2.4 Shared costs'!$C$9:$C$35,'2. Revenues and expenses'!$C38,'2.4 Shared costs'!$H$9:$H$35) -> 0 | E38: =SUMIF('2.4 Shared costs'!$C$9:$C$35,'2. Revenues and expenses'!$C38,'2.4 Shared costs'!$I$9:$I$35) -> 0 | F38: =SUM(D38:E38) -> 0 | G38: 0 | H38: 0 | I38: =SUM(G38:H38) -> 0
B39: 2.4.4 | C39: Impairment losses (nature of the impairment loss) | D39: =SUMIF('2.4 Shared costs'!$C$9:$C$35,'2. Revenues and expenses'!$C39,'2.4 Shared costs'!$H$9:$H$35) -> -48352417 | E39: =SUMIF('2.4 Shared costs'!$C$9:$C$35,'2. Revenues and expenses'!$C39,'2.4 Shared costs'!$I$9:$I$35) -> 0 | F39: =SUM(D39:E39) -> -48352417 | G39: -11101489 | H39: 0 | I39: =SUM(G39:H39) -> -11101489
B40: 2.3.2.2 | C40: Other shared costs | D40: =SUMIF('2.4 Shared costs'!$C$9:$C$35,'2. Revenues and expenses'!$C40,'2.4 Shared costs'!$H$9:$H$35) -> -1931475.7 | E40: =SUMIF('2.4 Shared costs'!$C$9:$C$35,'2. Revenues and expenses'!$C40,'2.4 Shared costs'!$I$9:$I$35) -> 0 | F40: =SUM(D40:E40) -> -1931475.7 | G40: -797434.13 | H40: 0 | I40: =SUM(G40:H40) -> -797434.13
C41: Total shared costs allocated | D41: =SUM(D32:D40) -> -50283893 | E41: =SUM(E32:E40) -> 0 | F41: =SUM(F32:F40) -> -50283893 | G41: -11898924 | H41: 0 | I41: =SUM(I32:I40) -> -11898924
C42: Total costs | D42: =D30+D41 -> -57190969 | E42: =E30+E41 -> 0 | F42: =F30+F41 -> -57190969 | G42: -18892854 | H42: 0 | I42: =I30+I41 -> -18892854
...

Sheet 2.1 Revenue by service
B1: Revenue by service
B2: =Tradingname -> APT PARMELIA PTY LTD
B3: Reporting Period | C3: =TEXT(Yearstart,"dd/mm/yyyy")&" to "&TEXT(Yearending,"dd/mm/yyyy") -> 01/07/2023 to 30/06/2024
B5: Table 2.1.1: Revenue by service
D7: Reporting period | G7: Previous reporting period
B8: Basis of Preparation reference | C8: Description | D8: Amounts excluding related party transactions | E8: Related party transactions | F8: Total | G8: Amounts excluding related party transactions | H8: Related party transactions | I8: Total
D9: $ nominal | E9: $ nominal | F9: $ nominal | G9: $ nominal | H9: $ nominal | I9: $ nominal
C10: Revenue by service
B11: 2.3.1 & 2.3.1.1 | C11: Firm forward haul transportation services | D11: 8075887.6 | E11: 0 | F11: =SUM(D11:E11) -> 8075887.6 | G11: 5102015.1 | H11: 0 | I11: =SUM(G11:H11) -> 5102015.1
B12: 2.3.1 | C12: Interruptible or as available transportation services | D12: 1362670 | E12: 0 | F12: =SUM(D12:E12) -> 1362670 | G12: 978752.62 | H12: 0 | I12: =SUM(G12:H12) -> 978752.62
B13: 2.3.1 | C13: Backhaul services | D13: 0 | E13: 0 | F13: =SUM(D13:E13) -> 0 | G13: 0 | H13: 0 | I13: =SUM(G13:H13) -> 0
B14: 2.3.1 | C14: Firm stand-alone compression service | D14: 0 | E14: 0 | F14: =SUM(D14:E14) -> 0 | G14: 0 | H14: 0 | I14: =SUM(G14:H14) -> 0
B15: 2.3.1 | C15: Interruptible or as available stand-alone compression service | D15: 0 | E15: 0 | F15: =SUM(D15:E15) -> 0 | G15: 0 | H15: 0 | I15: =SUM(G15:H15) -> 0
B16: 2.3.1 | C16: Park services | D16: 0 | E16: 0 | F16: =SUM(D16:E16) -> 0 | G16: 0 | H16: 0 | I16: =SUM(G16:H16) -> 0
B17: 2.3.1 | C17: Park and loan services | D17: 0 | E17: 0 | F17: =SUM(D17:E17) -> 0 | G17: 0 | H17: 0 | I17: =SUM(G17:H17) -> 0
B18: 2.3.1 | C18: Capacity trading service | D18: 0 | E18: 0 | F18: =SUM(D18:E18) -> 0 | G18: 0 | H18: 0 | I18: =SUM(G18:H18) -> 0
B19: 2.3.1 | C19: In pipe trading service | D19: 5408.66 | E19: 0 | F19: =SUM(D19:E19) -> 5408.66 | G19: 3220.81 | H19: 0 | I19: =SUM(G19:H19) -> 3220.81
B20: 2.3.1 | C20: Other pipeline revenue (if relevant) | D20: 856451.71 | E20: 0 | F20: =SUM(D20:E20) -> 856451.71 | G20: 272269.51 | H20: 0 | I20: =SUM(G20:H20) -> 272269.51
C21: Total service revenue | D21: =SUM(D11:D20) -> 10300418 | E21: =SUM(E11:E20) -> 0 | F21: =SUM(F11:F20) -> 10300418 | G21: =SUM(G11:G20) -> 6356258.1 | H21: =SUM(H11:H20) -> 0 | I21: =SUM(I11:I20) -> 6356258.1

Sheet 2.2 Revenue contributions 
B1: Revenue - contributions
B2: =Tradingname -> APT PARMELIA PTY LTD
B3: Reporting Period | C3: =TEXT(Yearstart,"dd/mm/yyyy")&" to "&TEXT(Yearending,"dd/mm/yyyy") -> 01/07/2023 to 30/06/2024
B5: Table 2.2.1: Customer contributions received
B7: Description | C7: Amounts excluding related party transactions | D7: Related party transactions | E7: Total
C8: $ nominal | D8: $ nominal | E8: $ nominal
B9: Customer Contributions | C9: 0 | D9: 0 | E9: =SUM(C9:D9) -> 0
E10: =SUM(C10:D10) -> 0
E11: =SUM(C11:D11) -> 0
E12: =SUM(C12:D12) -> 0
E13: =SUM(C13:D13) -> 0
E14: =SUM(C14:D14) -> 0
B15: Total | C15: =SUM(C9:C14) -> 0 | D15: =SUM(D9:D14) -> 0 | E15: =SUM(E9:E14) -> 0
B17: Table 2.2.2: Government contributions received
B19: Source | C19: Description | D19: Total
D20: $ nominal
B27: Total | D27: =SUM(D21:D26) -> 0

Sheet 2.3 Indirect revenue
B1: Indirect revenue
B2: =Tradingname -> APT PARMELIA PTY LTD | E2: Please ensure allocation methodologies are explained in sufficient detail in the Basis of Preparation as required under section 3.2.4 of the Guideline
B3: Reporting Period | C3: =TEXT(Yearstart,"dd/mm/yyyy")&" to "&TEXT(Yearending,"dd/mm/yyyy") -> 01/07/2023 to 30/06/2024
B5: Table 2.3.1: Indirect revenue allocation
B7: Basis of Preparation reference | C7: Description | D7: Indirect revenue excluding related parties | E7: Indirect revenue from related parties | F7: % allocated to pipeline | G7: Total allocated to pipeline excluding related parties | H7: Total related party amounts allocated to pipeline
C8: (list each individual revenue item) | D8: $ nominal | E8: $ nominal | G8: $ nominal | H8: $ nominal
G9: =D9*F9 -> 0 | H9: =E9*F9 -> 0
G10: =D10*F10 -> 0 | H10: =E10*F10 -> 0
G11: =D11*F11 -> 0 | H11: =E11*F11 -> 0
G12: =D12*F12 -> 0 | H12: =E12*F12 -> 0
G13: =D13*F13 -> 0 | H13: =E13*F13 -> 0
G14: =D14*F14 -> 0 | H14: =E14*F14 -> 0
G15: =D15*F15 -> 0 | H15: =E15*F15 -> 0
G16: =D16*F16 -> 0 | H16: =E16*F16 -> 0
G17: =D17*F17 -> 0 | H17: =E17*F17 -> 0
G18: =D18*F18 -> 0 | H18: =E18*F18 -> 0
G19: =D19*F19 -> 0 | H19: =E19*F19 -> 0
G20: =D20*F20 -> 0 | H20: =E20*F20 -> 0
... G35: =D35*F35 -> 0 | H35: =E35*F35 -> 0
C36: Total | D36: =SUM(D9:D35) -> 0 | E36: =SUM(E9:E35) -> 0 | G36: =SUM(G9:G35) -> 0 | H36: =SUM(H9:H35) -> 0

Sheet 2.4 Shared costs
B1: Shared costs
B2: =Tradingname -> APT PARMELIA PTY LTD | E2: Please ensure allocation methodologies are explained in sufficient detail in the Basis of Preparation as required under section 3.2.4 of the Guideline
B3: Reporting Period | C3: =TEXT(Yearstart,"dd/mm/yyyy")&" to "&TEXT(Yearending,"dd/mm/yyyy") -> 01/07/2023 to 30/06/2024
B5: Table 2.4.1: Shared cost allocation
B7: Basis of Preparation reference | C7: Description | D7: Income statement account applied to | E7: Shared costs excluding related parties | F7: Shared costs paid to related parties | G7: % allocated to pipeline | H7: Total allocated to pipeline excluding related parties | I7: Total related party amounts allocated to pipeline
C8: (list each individual cost) | E8: $ nominal | F8: $ nominal | H8: $ nominal | I8: $ nominal
C9: Employee costs | H9: =E9*G9 -> 0 | I9: =F9*G9 -> 0
C10: Information technology and communication costs | H10: =E10*G10 -> 0 | I10: =F10*G10 -> 0
C11: Indirect operating expenses | H11: =E11*G11 -> 0 | I11: =F11*G11 -> 0
B12: 2.3.2.1 | C12: Shared asset depreciation | E12: -41363581 | H12: =E12*G12 -> 0 | I12: =F12*G12 -> 0
C13: Rental and leasing costs | H13: =E13*G13 -> 0 | I13: =F13*G13 -> 0
C14: Borrowing costs | H14: =E14*G14 -> 0 | I14: =F14*G14 -> 0
C15: Loss from sale of shared fixed assets | H15: =E15*G15 -> 0 | I15: =F15*G15 -> 0
C16: Impairment losses (nature of the impairment loss) | E16: -48352417 | G16: 1 | H16: =E16*G16 -> -48352417 | I16: =F16*G16 -> 0
C17: Other shared costs | E17: =SUM(E18:E35) -> -2.2037143e+08 | F17: =SUM(F18:F35) -> 0 | H17: =SUM(H18:H35) -> -1931475.7 | I17: =SUM(I18:I35) -> 0
B18: 2.3.2.2 | C18: Corporate operating expenditure | E18: -2.1014066e+08 | G18: 0.0091913471 | H18: =E18*G18 -> -1931475.7 | I18: =F18*G18 -> 0
B19: 2.3.2.2 | C19: Shared leased interest (Refer to Note 6) | E19: -1341212.8 | G19: 0 | H19: =E19*G19 -> 0 | I19: =F19*G19 -> 0
B20: 2.3.2.1 | C20: Shared leased asset depreciation (Refer to Note 6) | E20: -8889555.5 | G20: =G19 -> 0 | H20: =E20*G20 -> 0 | I20: =F20*G20 -> 0
H21: =E21*G21 -> 0 | I21: =F21*G21 -> 0
H22: =E22*G22 -> 0 | I22: =F22*G22 -> 0
H23: =E23*G23 -> 0 | I23: =F23*G23 -> 0
H24: =E24*G24 -> 0 | I24: =F24*G24 -> 0
H25: =E25*G25 -> 0 | I25: =F25*G25 -> 0
H26: =E26*G26 -> 0 | I26: =F26*G26 -> 0
H27: =E27*G27 -> 0 | I27: =F27*G27 -> 0
H28: =E28*G28 -> 0 | I28: =F28*G28 -> 0
H29: =E29*G29 -> 0 | I29: =F29*G29 -> 0
H30: =E30*G30 -> 0 | I30: =F30*G30 -> 0
H31: =E31*G31 -> 0 | I31: =F31*G31 -> 0
H32: =E32*G32 -> 0 | I32: =F32*G32 -> 0
... H35: =E35*G35 -> 0 | I35: =F35*G35 -> 0
C36: Total | E36: =SUM(E9:E17) -> -3.1008742e+08 | F36: =SUM(F9:F17) -> 0 | H36: =SUM(H9:H17) -> -50283893 | I36: =SUM(I9:I17) -> 0

Sheet 3. Statement of pipeline assets
B1: Statement of pipeline assets
B2: =Tradingname -> APT PARMELIA PTY LTD
B3: Reporting Period | C3: =TEXT(Yearstart,"dd/mm/yyyy")&" to "&TEXT(Yearending,"dd/mm/yyyy") -> 01/07/2023 to 30/06/2024
B5: Table 3.1: Pipeline assets
B7: Basis of Preparation reference | C7: Description | D7: Reporting period | E7: Previous reporting period
C8: Pipeline Assets
C9: Pipelines | D9: $ nominal | E9: $ nominal
B10: 2.4 | C10: Initial construction or acquisition costs | D10: =SUMIF('3.3 Depreciation amortisation'!$D$9:$D$52,'3. Statement of pipeline assets'!C9,'3.3 Depreciation amortisation'!$H$9:$H$52) -> 10314985 | E10: 10314985
B11: 2.4 | C11: Additions | D11: =SUMIF('3.3 Depreciation amortisation'!$D$9:$D$52,'3. Statement of pipeline assets'!C9,'3.3 Depreciation amortisation'!$I$9:$I$52) -> 81162064 | E11: 42239813
B12: 2.4 | C12: Capitalised maintenance or improvements | D12: =SUMIF('3.3 Depreciation amortisation'!$D$9:$D$52,'3. Statement of pipeline assets'!C9,'3.3 Depreciation amortisation'!$J$9:$J$52) -> 4302266 | E12: 4302266
C13: Total capitalised pipeline construction costs | D13: =SUM(D10:D12) -> 95779315 | E13: =SUM(E10:E12) -> 56857064
B14: 2.4 | C14: Depreciation and impairment | D14: =SUMIF('3.3 Depreciation amortisation'!$D$9:$D$52,'3. Statement of pipeline assets'!C9,'3.3 Depreciation amortisation'!$M$9:$M$52)+SUMIF('3.3 Depreciation amortisation'!$D$9:$D$52,'3. Statement of pipeline assets'!C9,'3.3 Depreciation amortisation'!$N$9:$N$52) -> -93359570 | E14: -54437318
B15: 2.4 | C15: Disposals or early termination (at cost) | D15: =SUMIF('3.3 Depreciation amortisation'!$D$9:$D$52,'3. Statement of pipeline assets'!C9,'3.3 Depreciation amortisation'!$K$9:$K$52) -> -2419745.3 | E15: -2419745.3
C16: Closing pipeline carrying value | D16: =SUM(D13:D15) -> 1.8626451e-08 | E16: =SUM(E13:E15) -> 3.7252903e-09
C17: Compressors
B18: 2.4 | C18: Initial construction or acquisition costs | D18: =SUMIF('3.3 Depreciation amortisation'!$D$9:$D$52,'3. Statement of pipeline assets'!C17,'3.3 Depreciation amortisation'!$H$9:$H$52) -> 582242.42 | E18: 582242.42
B19: 2.4 | C19: Additions | D19: =SUMIF('3.3 Depreciation amortisation'!$D$9:$D$52,'3. Statement of pipeline assets'!C17,'3.3 Depreciation amortisation'!$I$9:$I$52) -> 1360366.4 | E19: 1360366.4
B20: 2.4 | C20: Capitalised maintenance or improvements | D20: =SUMIF('3.3 Depreciation amortisation'!$D$9:$D$52,'3. Statement of pipeline assets'!C17,'3.3 Depreciation amortisation'!$J$9:$J$52) -> 0 | E20: 0
B21: 2.4 | C21: Depreciation and impairment | D21: =SUMIF('3.3 Depreciation amortisation'!$D$9:$D$52,'3. Statement of pipeline assets'!C17,'3.3 Depreciation amortisation'!$M$9:$M$52)+SUMIF('3.3 Depreciation amortisation'!$D$9:$D$52,'3. Statement of pipeline assets'!C17,'3.3 Depreciation amortisation'!$N$9:$N$52) -> -1529157.6 | E21: -1576208.8
B22: 2.4 | C22: Disposal or early termination (at cost) | D22: =SUMIF('3.3 Depreciation amortisation'!$D$9:$D$52,'3. Statement of pipeline assets'!C17,'3.3 Depreciation amortisation'!$K$9:$K$52) -> -413451.13 | E22: -366399.99
C23: Closing compressors carrying value | D23: =SUM(D18:D22) -> 0 | E23: =SUM(E18:E22) -> 0
C24: City Gates, supply regulators and valve stations
B25: 2.4 | C25: Initial construction or acquisition costs | D25: =SUMIF('3.3 Depreciation amortisation'!$D$9:$D$52,'3. Statement of pipeline assets'!C24,'3.3 Depreciation amortisation'!$H$9:$H$52) -> 232221.87 | E25: 232221.87
B26: 2.4 | C26: Additions | D26: =SUMIF('3.3 Depreciation amortisation'!$D$9:$D$52,'3. Statement of pipeline assets'!C24,'3.3 Depreciation amortisation'!$I$9:$I$52) -> 781984.5 | E26: 781984.5
B27: 2.4 | C27: Capitalised maintenance or improvements | D27: =SUMIF('3.3 Depreciation amortisation'!$D$9:$D$52,'3. Statement of pipeline assets'!C24,'3.3 Depreciation amortisation'!$J$9:$J$52) -> 0 | E27: 0
B28: 2.4 | C28: Depreciation and impairment | D28: =SUMIF('3.3 Depreciation amortisation'!$D$9:$D$52,'3. Statement of pipeline assets'!C24,'3.3 Depreciation amortisation'!$M$9:$M$52)+SUMIF('3.3 Depreciation amortisation'!$D$9:$D$52,'3. Statement of pipeline assets'!C24,'3.3 Depreciation amortisation'!$N$9:$N$52) -> -872808.51 | E28: -884700.2
B29: 2.4 | C29: Disposal or early termination (at cost) | D29: =SUMIF('3.3 Depreciation amortisation'!$D$9:$D$52,'3. Statement of pipeline assets'!C24,'3.3 Depreciation amortisation'!$K$9:$K$52) -> -141397.86 | E29: -129506.17
C30: Closing city gates, supply regulators and valve stations carrying value | D30: =SUM(D25:D29) -> 0 | E30: =SUM(E25:E29) -> 0
C31: Metering
B32: 2.4 | C32: Initial construction or acquisition costs | D32: =SUMIF('3.3 Depreciation amortisation'!$D$9:$D$52,'3. Statement of pipeline assets'!C31,'3.3 Depreciation amortisation'!$H$9:$H$52) -> 388978.41 | E32: 388978.41
B33: 2.4 | C33: Additions | D33: =SUMIF('3.3 Depreciation amortisation'!$D$9:$D$52,'3. Statement of pipeline assets'!C31,'3.3 Depreciation amortisation'!$I$9:$I$52) -> 10746703 | E33: 10746703
B34: 2.4 | C34: Capitalised maintenance or improvements | D34: =SUMIF('3.3 Depreciation amortisation'!$D$9:$D$52,'3. Statement of pipeline assets'!C31,'3.3 Depreciation amortisation'!$J$9:$J$52) -> 0 | E34: 0
B35: 2.4 | C35: Depreciation and impairment | D35: =SUMIF('3.3 Depreciation amortisation'!$D$9:$D$52,'3. Statement of pipeline assets'!C31,'3.3 Depreciation amortisation'!$M$9:$M$52)+SUMIF('3.3 Depreciation amortisation'!$D$9:$D$52,'3. Statement of pipeline assets'!C31,'3.3 Depreciation amortisation'!$N$9:$N$52) -> -10897078 | E35: -10915719
B36: 2.4 | C36: Disposal or early termination (at cost) | D36: =SUMIF('3.3 Depreciation amortisation'!$D$9:$D$52,'3. Statement of pipeline assets'!C31,'3.3 Depreciation amortisation'!$K$9:$K$52) -> -238602.89 | E36: -219962.52
C37: Closing Metering | D37: =SUM(D32:D36) -> 3.783498e-10 | E37: =SUM(E32:E36) -> 0
C38: Odorant plants
B39: 2.4 | C39: Initial construction or acquisition costs | D39: =SUMIF('3.3 Depreciation amortisation'!$D$9:$D$52,'3. Statement of pipeline assets'!C38,'3.3 Depreciation amortisation'!$H$9:$H$52) -> 19917.874 | E39: 19917.874
B40: 2.4 | C40: Additions | D40: =SUMIF('3.3 Depreciation amortisation'!$D$9:$D$52,'3. Statement of pipeline assets'!C38,'3.3 Depreciation amortisation'!$I$9:$I$52) -> 994392.62 | E40: 994392.62
B41: 2.4 | C41: Capitalised maintenance or improvements | D41: =SUMIF('3.3 Depreciation amortisation'!$D$9:$D$52,'3. Statement of pipeline assets'!C38,'3.3 Depreciation amortisation'!$J$9:$J$52) -> 0 | E41: 0
B42: 2.4 | C42: Depreciation and impairment | D42: =SUMIF('3.3 Depreciation amortisation'!$D$9:$D$52,'3. Statement of pipeline assets'!C38,'3.3 Depreciation amortisation'!$M$9:$M$52)+SUMIF('3.3 Depreciation amortisation'!$D$9:$D$52,'3. Statement of pipeline assets'!C38,'3.3 Depreciation amortisation'!$N$9:$N$52) -> -993328.78 | E42: -1014310.5
...

Sheet 3.1 Asset useful life
B1: Asset useful life
B2: =Tradingname -> APT PARMELIA PTY LTD
B3: Reporting Period | C3: =TEXT(Yearstart,"dd/mm/yyyy")&" to "&TEXT(Yearending,"dd/mm/yyyy") -> 01/07/2023 to 30/06/2024
B5: Table 3.1.1: Asset useful life
B7: Basis of Preparation reference | C7: Description (list each individual balance sheet item) | D7: Acquisition date | E7: Useful life | F7: Reason for choosing this useful life
E8: years
B9: 2.4 | C9: ='3. Statement of pipeline assets'!C9 -> Pipelines | D9: =CONCATENATE("17/8/2004"," to ",TEXT(Yearending,"d/m/yyyy")) -> 17/8/2004 to 30/6/2024 | E9: 80 | F9: Per Appendix A - Pipeline asset lives
B10: 2.4 | C10: ='3. Statement of pipeline assets'!C17 -> Compressors | D10: =CONCATENATE("17/8/2004"," to ",TEXT(Yearending,"d/m/yyyy")) -> 17/8/2004 to 30/6/2024 | E10: 35 | F10: Per Appendix A - Pipeline asset lives
B11: 2.4 | C11: ='3. Statement of pipeline assets'!C24 -> City Gates, supply regulators and valve stations | D11: =CONCATENATE("17/8/2004"," to ",TEXT(Yearending,"d/m/yyyy")) -> 17/8/2004 to 30/6/2024 | E11: 50 | F11: Per Appendix A - Pipeline asset lives
B12: 2.4 | C12: ='3. Statement of pipeline assets'!C31 -> Metering | D12: =CONCATENATE("17/8/2004"," to ",TEXT(Yearending,"d/m/yyyy")) -> 17/8/2004 to 30/6/2024 | E12: 50 | F12: Per Appendix A - Pipeline asset lives
B13: 2.4 | C13: ='3. Statement of pipeline assets'!C38 -> Odorant plants | D13: =CONCATENATE("17/8/2004"," to ",TEXT(Yearending,"d/m/yyyy")) -> 17/8/2004 to 30/6/2024 | E13: 80 | F13: Per Appendix A - Pipeline asset lives
B14: 2.4 | C14: ='3. Statement of pipeline assets'!C45 -> SCADA (Communications) | D14: =CONCATENATE("17/8/2004"," to ",TEXT(Yearending,"d/m/yyyy")) -> 17/8/2004 to 30/6/2024 | E14: 15 | F14: Per Appendix A - Pipeline asset lives
B15: 2.4 | C15: ='3. Statement of pipeline assets'!C52 -> Buildings | D15: =CONCATENATE("17/8/2004"," to ",TEXT(Yearending,"d/m/yyyy")) -> 17/8/2004 to 30/6/2024 | E15: 80 | F15: Per Appendix A - Pipeline asset lives
B16: 2.4 | C16: ='3. Statement of pipeline assets'!C66 -> Other depreciable pipeline assets | D16: =CONCATENATE("17/8/2004"," to ",TEXT(Yearending,"d/m/yyyy")) -> 17/8/2004 to 30/6/2024 | E16: 5-80 | F16: Per Appendix A - Pipeline asset lives
B17: 2.4 | C17: Land and easements | D17: =CONCATENATE("17/8/2004"," to ",TEXT(Yearending,"d/m/yyyy")) -> 17/8/2004 to 30/6/2024 | E17: N/A | F17: Indefinite
C18: insert asset description
C19: insert asset description
C20: insert asset description
B21: 2.4.6 | C21: ='3. Statement of pipeline assets'!C73 -> Leased Assets | D21: =CONCATENATE("1/7/2019"," to ",TEXT(Yearending,"d/m/yyyy")) -> 1/7/2019 to 30/6/2024 | E21: Various | F21: Per leased asset life
C22: insert asset description
C23: insert asset description
C24: insert asset description
C25: insert asset description
C26: insert asset description
B27: 2.4 | C27: ='3. Statement of pipeline assets'!C83 -> Shared property, plant and equipment | D27: =CONCATENATE("1/6/2000"," to ",TEXT(Yearending,"d/m/yyyy")) -> 1/6/2000 to 30/6/2024 | E27: 5 | F27: Per Appendix A - Pipeline asset lives
C28: insert asset description
C29: insert asset description
C30: insert asset description
C31: insert asset description
C32: insert asset description
B33: 2.4.5 | C33: ='3. Statement of pipeline assets'!C90 -> Shared leased assets | D33: =CONCATENATE("1/7/2019"," to ",TEXT(Yearending,"d/m/yyyy")) -> 1/7/2019 to 30/6/2024 | E33: Various | F33: Per leased asset life
C34: insert asset description
C35: insert asset description
C36: insert asset description
C37: insert asset description
C38: insert asset description

Sheet 3.2 Asset impairment
B1: Asset impairment
B2: =Tradingname -> APT PARMELIA PTY LTD
B3: Reporting Period | C3: =TEXT(Yearstart,"dd/mm/yyyy")&" to "&TEXT(Yearending,"dd/mm/yyyy") -> 01/07/2023 to 30/06/2024
B5: Table 3.2.1: Assets impaired
B7: Asset description | C7: Impairment amount $ nominal | D7: Impairment date | E7: Basis for impairment
B8: Parmelia Pipeline | C8: 11440576 | D8: 43646 | E8: Part 23 Book value exceeds the part 23 Recoverable value. | F8: Note: For the purposes of Part 23 reporting the Part 23 Book value exceeds the Part 23 recoverable value on a stand-alone basis however there is no statutory impairment for Parmelia on a cash generating unit basis. For further information, please refer to the section 3.2 of the tab called "6. Notes".
B9: Parmelia Pipeline | C9: 8154880.7 | D9: 44012 | E9: Part 23 Book value exceeds the part 23 Recoverable value.
B10: Parmelia Pipeline | C10: 47554920 | D10: 44377 | E10: Part 23 Book value exceeds the part 23 Recoverable value.
B11: Parmelia Pipeline | C11: 5664930.2 | D11: 44742 | E11: Part 23 Book value exceeds the part 23 Recoverable value.
B12: Parmelia Pipeline | C12: 11101489 | D12: 45107 | E12: Part 23 Book value exceeds the part 23 Recoverable value.
B13: Parmelia Pipeline | C13: 48352417 | D13: 45473 | E13: Part 23 Book value exceeds the part 23 Recoverable value.
B25: Table 3.2.2: Asset impairment reversals
B27: Asset description | C27: Prior Impairment amount $ nominal | D27: Impairment date | E27: Basis for impairment | F27: Reversal amount $nominal | G27: Reversal date | H27: Basis for Reversal

Sheet 3.3 Depreciation amortisation
B1: Depreciation and amortisation
B2: =Tradingname -> APT PARMELIA PTY LTD
B3: Reporting Period | C3: =TEXT(Yearstart,"dd/mm/yyyy")&" to "&TEXT(Yearending,"dd/mm/yyyy") -> 01/07/2023 to 30/06/2024
B5: Table 3.3.1: Pipeline assets at cost | I5: Additions, capitalised maintenance and disposals must be reported on a cumulative basis
B7: Basis of Preparation reference | C7: Description | D7: Category | E7: Acquisition date | F7: Useful life | G7: Estimated residual value | H7: Initial construction or acquisition cost | I7: Additions | J7: Capitalised maintenance or improvements | K7: Disposals or Early termination | L7: Cost base | M7: Prior years' accumulated depreciation | N7: Current year depreciation | O7: Written down value
F8: Years | G8: $ nominal | H8: $ nominal | I8: $ nominal | J8: $ nominal | K8: $ nominal | L8: $ nominal | M8: $ nominal | N8: $ nominal | O8: $ nominal
B9: 2.4 | D9: Pipelines | E9: ='3.1 Asset useful life'!D9 -> 17/8/2004 to 30/6/2024 | F9: 80 | G9: 0 | H9: 10314985 | I9: 81162064 | J9: 4302266 | K9: -2419745.3 | L9: =SUM(H9:K9) -> 93359570 | M9: -54437318 | N9: -38922252 | O9: =SUM(L9:N9) -> 0
B10: 2.4 | D10: Compressors | E10: ='3.1 Asset useful life'!D10 -> 17/8/2004 to 30/6/2024 | F10: 35 | G10: 0 | H10: 582242.42 | I10: 1360366.4 | J10: 0 | K10: -413451.13 | L10: =SUM(H10:K10) -> 1529157.6 | M10: -1576208.8 | N10: 47051.138 | O10: =SUM(L10:N10) -> 1.0186341e-10
B11: 2.4 | D11: City Gates, supply regulators and valve stations | E11: ='3.1 Asset useful life'!D11 -> 17/8/2004 to 30/6/2024 | F11: 50 | G11: 0 | H11: 232221.87 | I11: 781984.5 | J11: 0 | K11: -141397.86 | L11: =SUM(H11:K11) -> 872808.51 | M11: -884700.2 | N11: 11891.691 | O11: =SUM(L11:N11) -> 5.4569682e-11
B12: 2.4 | D12: Metering | E12: ='3.1 Asset useful life'!D12 -> 17/8/2004 to 30/6/2024 | F12: 50 | G12: 0 | H12: 388978.41 | I12: 10746703 | J12: 0 | K12: -238602.89 | L12: =SUM(H12:K12) -> 10897078 | M12: -10915719 | N12: 18640.365 | O12: =SUM(L12:N12) -> -3.4560799e-10
B13: 2.4 | D13: Odorant plants | E13: ='3.1 Asset useful life'!D13 -> 17/8/2004 to 30/6/2024 | F13: 80 | G13: 0 | H13: 19917.874 | I13: 994392.62 | J13: 0 | K13: -20981.713 | L13: =SUM(H13:K13) -> 993328.78 | M13: -1014310.5 | N13: 20981.713 | O13: =SUM(L13:N13) -> 3.6379788e-11
B14: 2.4 | D14: SCADA (Communications) | E14: ='3.1 Asset useful life'!D14 -> 17/8/2004 to 30/6/2024 | F14: 15 | G14: 0 | H14: 9937.0772 | I14: 1850605.2 | J14: 0 | K14: -178091 | L14: =SUM(H14:K14) -> 1682451.2 | M14: -1682451.2 | N14: 0 | O14: =SUM(L14:N14) -> -2.3283064e-10
B15: 2.4 | D15: Buildings | E15: ='3.1 Asset useful life'!D15 -> 17/8/2004 to 30/6/2024 | F15: 80 | G15: 0 | H15: 59530.884 | I15: 847715.54 | J15: 0 | K15: -204748.63 | L15: =SUM(H15:K15) -> 702497.79 | M15: -707618.83 | N15: 5121.04 | O15: =SUM(L15:N15) -> -3.8198777e-11
B16: 2.4 | D16: Other depreciable pipeline assets | E16: ='3.1 Asset useful life'!D16 -> 17/8/2004 to 30/6/2024 | F16: 5-80 | G16: 0 | H16: 537034.43 | I16: 5441131.8 | J16: 0 | K16: -2583581.1 | L16: =SUM(H16:K16) -> 3394585.1 | M16: -3454723.8 | N16: 60138.647 | O16: =SUM(L16:N16) -> 0.019999999
B17: 2.4 | D17: Land and easements | E17: ='3.1 Asset useful life'!D17 -> 17/8/2004 to 30/6/2024 | F17: N/A | G17: 0 | H17: 499349.66 | I17: 250867.05 | J17: 0 | K17: -22638.78 | L17: =SUM(H17:K17) -> 727577.93 | M17: -727577.93 | N17: 0 | O17: =SUM(L17:N17) -> 0
B18: 2.4.6 | D18: Leased assets | E18: ='3.1 Asset useful life'!D21 -> 1/7/2019 to 30/6/2024 | F18: Various | G18: 0 | H18: 627279.98 | I18: 1712143.7 | J18: 0 | K18: 0 | L18: =SUM(H18:K18) -> 2339423.7 | M18: -2197266.9 | N18: -142156.8 | O18: =SUM(L18:N18) -> 0
L19: =SUM(H19:K19) -> 0 | O19: =SUM(L19:N19) -> 0
L20: =SUM(H20:K20) -> 0 | O20: =SUM(L20:N20) -> 0
L21: =SUM(H21:K21) -> 0 | O21: =SUM(L21:N21) -> 0
L22: =SUM(H22:K22) -> 0 | O22: =SUM(L22:N22) -> 0
L23: =SUM(H23:K23) -> 0 | O23: =SUM(L23:N23) -> 0
L24: =SUM(H24:K24) -> 0 | O24: =SUM(L24:N24) -> 0
L25: =SUM(H25:K25) -> 0 | O25: =SUM(L25:N25) -> 0
L26: =SUM(H26:K26) -> 0 | O26: =SUM(L26:N26) -> 0
L27: =SUM(H27:K27) -> 0 | O27: =SUM(L27:N27) -> 0
L28: =SUM(H28:K28) -> 0 | O28: =SUM(L28:N28) -> 0
L29: =SUM(H29:K29) -> 0 | O29: =SUM(L29:N29) -> 0
L30: =SUM(H30:K30) -> 0 | O30: =SUM(L30:N30) -> 0
... L52: =SUM(H52:K52) -> 0 | O52: =SUM(L52:N52) -> 0
D53: Total pipeline assets | G53: =SUM(G9:G52) -> 0 | H53: =SUM(H9:H52) -> 13271478 | I53: =SUM(I9:I52) -> 1.0514797e+08 | J53: =SUM(J9:J52) -> 4302266 | K53: =SUM(K9:K52) -> -6223238.4 | L53: =SUM(L9:L52) -> 1.1649848e+08 | M53: =SUM(M9:M52) -> -77597895 | N53: =SUM(N9:N52) -> -38900584 | O53: =SUM(O9:O52) -> 0.019999999
B56: Table 3.3.2: Shared assets at cost
B58: Basis of Preparation reference | C58: Description | D58: Category | E58: Acquisition date | F58: Useful life | G58: Initial construction or acquisition cost | H58: Additions | I58: Capitalised maintenance or improvements | J58: Disposals or Early termination | K58: Cost base | L58: Prior years' accumulated depreciation | M58: Current year depreciation | N58: Written down value
F59: Years | G59: $ nominal | H59: $ nominal | I59: $ nominal | J59: $ nominal | K59: $ nominal | L59: $ nominal | M59: $ nominal | N59: $ nominal
B60: 2.4.5 | C60: Information Technology | D60: Shared property, plant and equipment | E60: During FY03 | F60: ='3.1 Asset useful life'!$E$27 -> 5 | G60: 0 | H60: 0 | I60: 0 | J60: 0 | K60: =SUM(G60:J60) -> 0 | L60: 0 | M60: =IF(SUM(K60:L60)>0,-K60/F60,0) -> 0 | N60: =SUM(K60:M60) -> 0
B61: 2.4.5 | C61: Information Technology | D61: Shared property, plant and equipment | E61: During FY04 | F61: ='3.1 Asset useful life'!$E$27 -> 5 | G61: 0 | H61: 0 | I61: 0 | J61: 0 | K61: =SUM(G61:J61) -> 0 | L61: 0 | M61: =IF(SUM(K61:L61)>0,-K61/F61,0) -> 0 | N61: =SUM(K61:M61) -> 0
B62: 2.4.5 | C62: Information Technology | D62: Shared property, plant and equipment | E62: During FY05 | F62: ='3.1 Asset useful life'!$E$27 -> 5 | G62: 0 | H62: 0 | I62: 0 | J62: 0 | K62: =SUM(G62:J62) -> 0 | L62: 0 | M62: =IF(SUM(K62:L62)>0,-K62/F62,0) -> 0 | N62: =SUM(K62:M62) -> 0
B63: 2.4.5 | C63: Information Technology | D63: Shared property, plant and equipment | E63: During FY06 | F63: ='3.1 Asset useful life'!$E$27 -> 5 | G63: 11660.332 | H63: 0 | I63: 0 | J63: 0 | K63: =SUM(G63:J63) -> 11660.332 | L63: -11660.332 | N63: =SUM(K63:M63) -> 0
B64: 2.4.5 | C64: Information Technology | D64: Shared property, plant and equipment | E64: During FY07 | F64: ='3.1 Asset useful life'!$E$27 -> 5 | G64: 44180.583 | H64: 0 | I64: 0 | J64: 0 | K64: =SUM(G64:J64) -> 44180.583 | L64: -44180.583 | N64: =SUM(K64:M64) -> 0
B65: 2.4.5 | C65: Information Technology | D65: Shared property, plant and equipment | E65: During FY08 | F65: ='3.1 Asset useful life'!$E$27 -> 5 | G65: 112502.63 | H65: 0 | I65: 0 | J65: -3476.9962 | K65: =SUM(G65:J65) -> 109025.63 | L65: -109025.63 | N65: =SUM(K65:M65) -> 0
B66: 2.4.5 | C66: Information Technology | D66: Shared property, plant and equipment | E66: During FY09 | F66: ='3.1 Asset useful life'!$E$27 -> 5 | G66: 68479.729 | H66: 0 | I66: 0 | J66: -13948.533 | K66: =SUM(G66:J66) -> 54531.196 | L66: -54531.196 | N66: =SUM(K66:M66) -> 0
...

Sheet 3.4 Shared supporting assets
B1: Shared supporting assets
B2: =Tradingname -> APT PARMELIA PTY LTD | E2: Please ensure allocation methodologies are explained in sufficient detail in the Basis of Preparation as required under section 3.2.4 of the Guideline
B3: Reporting Period | C3: =TEXT(Yearstart,"dd/mm/yyyy")&" to "&TEXT(Yearending,"dd/mm/yyyy") -> 01/07/2023 to 30/06/2024
B5: Table 3.4.1: Shared supporting asset allocation
B7: Basis of Preparation reference | C7: Description (list each individual shared asset category greater than 5%) | D7: Category of shared assets | E7: Total amount | F7: % allocated to pipeline | G7: Total allocated to pipeline
E8: $ nominal | G8: $ nominal
B9: 2.4.5 | C9: Information Technology | D9: Shared property, plant and equipment | E9: 4.045907e+08 | F9: 0.007997348 | G9: =E9*F9 -> 3235652.7
B10: 2.4.5 | C10: Shared leased assets | D10: Shared leased assets | E10: 73437299 | F10: 0.0067304344 | G10: =E10*F10 -> 494264.92
G11: =E11*F11 -> 0
G12: =E12*F12 -> 0
G13: =E13*F13 -> 0
G14: =E14*F14 -> 0
G15: =E15*F15 -> 0
G16: =E16*F16 -> 0
G17: =E17*F17 -> 0
G18: =E18*F18 -> 0
G19: =E19*F19 -> 0
G20: =E20*F20 -> 0
G21: =E21*F21 -> 0
G22: =E22*F22 -> 0
... G35: =E35*F35 -> 0
C36: Total | E36: =SUM(E9:E35) -> 4.78028e+08 | G36: =SUM(G9:G35) -> 3729917.6

Sheet Auditor's Report Statements

Sheet 4. Recovered capital
B1: Recovered capital method (rule 569(4))
B2: =Tradingname -> APT PARMELIA PTY LTD
B3: Reporting Period | C3: =TEXT(Yearstart,"dd/mm/yyyy")&" to "&TEXT(Yearending,"dd/mm/yyyy") -> 01/07/2023 to 30/06/2024
B5: Table 4.1: Recovered capital method - pipeline assets
B7: Basis of Preparation reference | C7: Asset description | E7: Total | F7: Year | BI7: Drag and drop columns if required
F8: =RIGHT(TEXT(C38,"dd/mm/yyyy"),4) -> 1971 | G8: =F8+1 -> 1972 | H8: =G8+1 -> 1973 | I8: =H8+1 -> 1974 | J8: =I8+1 -> 1975 | K8: =J8+1 -> 1976 | L8: =K8+1 -> 1977 | M8: =L8+1 -> 1978 | N8: =M8+1 -> 1979 | ... BH8: =BG8+1 -> 2025
B9: 3 | C9: Pipeline assets
D10: Construction cost | E10: =SUM(F10:BH10) -> 62500000 | F10: 0 | G10: 0 | H10: 0 | I10: 0 | J10: 0 | K10: 0 | L10: 0 | M10: 0 | N10: 0 | O10: 0 | P10: 0 | Q10: 0 | R10: 0 | S10: 0 | T10: 0 | U10: 0 | V10: 0 | W10: 0 | X10: 0 | Y10: 0 | Z10: 0 | AA10: 0 | AB10: 0 | AC10: 0 | AD10: 0 | AE10: 0 | AF10: 0 | AG10: 0 | AH10: 0 | AI10: 62500000 | AJ10: 0 | AK10: 0 | AL10: 0 | AM10: 0 | AN10: 0 | AO10: 0 | AP10: 0 | AQ10: 0 | AR10: 0 | AS10: 0 | AT10: 0 | AU10: 0 | AV10: 0 | AW10: 0 | AX10: 0 | AY10: 0 | AZ10: 0 | BA10: 0 | BB10: 0 | BC10: 0 | BD10: 0 | BE10: 0 | BF10: 0 | BG10: 0
D11: Negative residual value | E11: =SUM(F11:BH11) -> 62884645 | F11: 0 | G11: 0 | H11: 0 | I11: 0 | J11: 0 | K11: 0 | L11: 0 | M11: 0 | N11: 0 | O11: 0 | P11: 0 | Q11: 0 | R11: 0 | S11: 0 | T11: 0 | U11: 0 | V11: 0 | W11: 0 | X11: 0 | Y11: 0 | Z11: 0 | AA11: 0 | AB11: 0 | AC11: 0 | AD11: 0 | AE11: 0 | AF11: 0 | AG11: 0 | AH11: 0 | AI11: 2426064.4 | AJ11: 148605.08 | AK11: 72574.576 | AL11: 69118.644 | AM11: 69118.644 | AN11: 69118.644 | AO11: 71365 | AP11: 73149.125 | AQ11: 74977.853 | AR11: 76852.299 | AS11: 78773.607 | AT11: 80742.947 | AU11: 82761.521 | AV11: 84830.559 | AW11: 86951.323 | AX11: 89125.106 | AY11: 91353.233 | AZ11: 93637.064 | BA11: 95977.991 | BB11: 98377.441 | BC11: 100836.88 | BD11: 103357.8 | BE11: 260395.53 | BF11: 271096.72 | BG11: 58115483
D12: Additions | E12: =SUM(F12:BH12) -> 96290961 | F12: 0 | G12: 0 | H12: 0 | I12: 0 | J12: 0 | K12: 0 | L12: 0 | M12: 0 | N12: 0 | O12: 0 | P12: 0 | Q12: 0 | R12: 0 | S12: 0 | T12: 0 | U12: 0 | V12: 0 | W12: 0 | X12: 0 | Y12: 0 | Z12: 0 | AA12: 0 | AB12: 0 | AC12: 0 | AD12: 0 | AE12: 0 | AF12: 0 | AG12: 0 | AH12: 0 | AI12: 295232.51 | AJ12: 4374445.7 | AK12: 137272.05 | AL12: 699725.38 | AM12: 578635.71 | AN12: 2148835.1 | AO12: 266347.9 | AP12: 4875903.2 | AQ12: 7603786.4 | AR12: 1590503.6 | AS12: 2353010.9 | AT12: 971404.68 | AU12: 2689590.8 | AV12: 3296276.6 | AW12: 3076449.4 | AX12: 389521.35 | AY12: 3130359.7 | AZ12: 4326860.2 | BA12: 2817492.2 | BB12: 6389339 | BC12: 3514279 | BD12: 3474037.5 | BE12: 18847387 | BF12: 9620953.3 | BG12: 8823311.9
D13: Maintenance capitalised | E13: =SUM(F13:BH13) -> 6264086.3 | F13: 0 | G13: 0 | H13: 0 | I13: 0 | J13: 0 | K13: 0 | L13: 0 | M13: 0 | N13: 0 | O13: 0 | P13: 0 | Q13: 0 | R13: 0 | S13: 0 | T13: 0 | U13: 0 | V13: 0 | W13: 0 | X13: 0 | Y13: 0 | Z13: 0 | AA13: 0 | AB13: 0 | AC13: 0 | AD13: 0 | AE13: 0 | AF13: 0 | AG13: 0 | AH13: 0 | AI13: 365336.96 | AJ13: 0 | AK13: 0 | AL13: 0 | AM13: 0 | AN13: 0 | AO13: 0 | AP13: 0 | AQ13: 0 | AR13: 0 | AS13: 0 | AT13: 0 | AU13: 677164.42 | AV13: 0 | AW13: 0 | AX13: 0 | AY13: 0 | AZ13: 1772600.4 | BA13: 132066.62 | BB13: 97013.843 | BC13: 759786.17 | BD13: 0 | BE13: 433325.74 | BF13: 1219137.1 | BG13: 807655.08
D14: Disposal (at cost) | E14: =SUM(F14:BH14) -> -4680074 | F14: 0 | G14: 0 | H14: 0 | I14: 0 | J14: 0 | K14: 0 | L14: 0 | M14: 0 | N14: 0 | O14: 0 | P14: 0 | Q14: 0 | R14: 0 | S14: 0 | T14: 0 | U14: 0 | V14: 0 | W14: 0 | X14: 0 | Y14: 0 | Z14: 0 | AA14: 0 | AB14: 0 | AC14: 0 | AD14: 0 | AE14: 0 | AF14: 0 | AG14: 0 | AH14: 0 | AI14: 0 | AJ14: 0 | AK14: 0 | AL14: 0 | AM14: 0 | AN14: 0 | AO14: 0 | AP14: 0 | AQ14: 0 | AR14: 0 | AS14: -2123.9538 | AT14: -1448793.6 | AU14: -121241.44 | AV14: -561083.15 | AW14: -93270.051 | AX14: -812704.19 | AY14: -1017184.9 | AZ14: -46262.211 | BA14: -26513.843 | BB14: -54051.805 | BC14: 0 | BD14: -136069.02 | BE14: -42905.256 | BF14: 0 | BG14: -317870.58
D15: Leased Asset | E15: =SUM(F15:BH15) -> 2425839.7 | F15: 0 | G15: 0 | H15: 0 | I15: 0 | J15: 0 | K15: 0 | L15: 0 | M15: 0 | N15: 0 | O15: 0 | P15: 0 | Q15: 0 | R15: 0 | S15: 0 | T15: 0 | U15: 0 | V15: 0 | W15: 0 | X15: 0 | Y15: 0 | Z15: 0 | AA15: 0 | AB15: 0 | AC15: 0 | AD15: 0 | AE15: 0 | AF15: 0 | AG15: 0 | AH15: 0 | AI15: 0 | AJ15: 0 | AK15: 0 | AL15: 0 | AM15: 0 | AN15: 0 | AO15: 0 | AP15: 0 | AQ15: 0 | AR15: 0 | AS15: 0 | AT15: 0 | AU15: 0 | AV15: 0 | AW15: 0 | AX15: 0 | AY15: 0 | AZ15: 0 | BA15: 0 | BB15: 0 | BC15: 648876.41 | BD15: -67863.393 | BE15: 420378.78 | BF15: 1276842.3 | BG15: 147605.61
D16: Cost base | E16: =SUM(F16:BH16) -> 2.2568546e+08 | F16: =SUM(F9:F15) -> 0 | G16: =SUM(G9:G15) -> 0 | H16: =SUM(H9:H15) -> 0 | I16: =SUM(I9:I15) -> 0 | J16: =SUM(J9:J15) -> 0 | K16: =SUM(K9:K15) -> 0 | L16: =SUM(L9:L15) -> 0 | M16: =SUM(M9:M15) -> 0 | ... BH16: =SUM(BH9:BH15) -> 0
B17: 3.2.3 | C17: Shared assets
D18: Construction cost or acquisition cost (where allowed) apportioned | E18: =SUM(F18:BH18) -> 0 | F18: 0 | G18: 0 | H18: 0 | I18: 0 | J18: 0 | K18: 0 | L18: 0 | M18: 0 | N18: 0 | O18: 0 | P18: 0 | Q18: 0 | R18: 0 | S18: 0 | T18: 0 | U18: 0 | V18: 0 | W18: 0 | X18: 0 | Y18: 0 | Z18: 0 | AA18: 0 | AB18: 0 | AC18: 0 | AD18: 0 | AE18: 0 | AF18: 0 | AG18: 0 | AH18: 0 | AI18: 0 | AJ18: 0 | AK18: 0 | AL18: 0 | AM18: 0 | AN18: 0 | AO18: 0 | AP18: 0 | AQ18: 0 | AR18: 0 | AS18: 0 | AT18: 0 | AU18: 0 | AV18: 0 | AW18: 0 | AX18: 0 | AY18: 0 | AZ18: 0 | BA18: 0 | BB18: 0 | BC18: 0 | BD18: 0 | BE18: 0 | BF18: 0
D19: Additions | E19: =SUM(F19:BH19) -> 3587294.8 | F19: 0 | G19: 0 | H19: 0 | I19: 0 | J19: 0 | K19: 0 | L19: 0 | M19: 0 | N19: 0 | O19: 0 | P19: 0 | Q19: 0 | R19: 0 | S19: 0 | T19: 0 | U19: 0 | V19: 0 | W19: 0 | X19: 0 | Y19: 0 | Z19: 0 | AA19: 0 | AB19: 0 | AC19: 0 | AD19: 0 | AE19: 0 | AF19: 0 | AG19: 0 | AH19: 0 | AI19: 0 | AJ19: 0 | AK19: 0 | AL19: 0 | AM19: 0 | AN19: 0 | AO19: 12226.85 | AP19: 46339.906 | AQ19: 113920.84 | AR19: 57213.357 | AS19: 63017.59 | AT19: 247807.25 | AU19: 59851.564 | AV19: 51750.852 | AW19: 32773.12 | AX19: 187083.56 | AY19: 270271.22 | AZ19: 90772.052 | BA19: 202345.77 | BB19: 307351.46 | BC19: 173662.96 | BD19: 310129.67 | BE19: 895861.8 | BF19: 271537.28 | BG19: 193377.73
D20: Maintenance capitalised | E20: =SUM(F20:BH20) -> 0 | F20: 0 | G20: 0 | H20: 0 | I20: 0 | J20: 0 | K20: 0 | L20: 0 | M20: 0 | N20: 0 | O20: 0 | P20: 0 | Q20: 0 | R20: 0 | S20: 0 | T20: 0 | U20: 0 | V20: 0 | W20: 0 | X20: 0 | Y20: 0 | Z20: 0 | AA20: 0 | AB20: 0 | AC20: 0 | AD20: 0 | AE20: 0 | AF20: 0 | AG20: 0 | AH20: 0 | AI20: 0 | AJ20: 0 | AK20: 0 | AL20: 0 | AM20: 0 | AN20: 0 | AO20: 0 | AP20: 0 | AQ20: 0 | AR20: 0 | AS20: 0 | AT20: 0 | AU20: 0 | AV20: 0 | AW20: 0 | AX20: 0 | AY20: 0 | AZ20: 0 | BA20: 0 | BB20: 0 | BC20: 0 | BD20: 0 | BE20: 0 | BF20: 0 | BG20: 0
D21: Disposal (at cost) | E21: =SUM(F21:BH21) -> -244305.8 | F21: 0 | G21: 0 | H21: 0 | I21: 0 | J21: 0 | K21: 0 | L21: 0 | M21: 0 | N21: 0 | O21: 0 | P21: 0 | Q21: 0 | R21: 0 | S21: 0 | T21: 0 | U21: 0 | V21: 0 | W21: 0 | X21: 0 | Y21: 0 | Z21: 0 | AA21: 0 | AB21: 0 | AC21: 0 | AD21: 0 | AE21: 0 | AF21: 0 | AG21: 0 | AH21: 0 | AI21: 0 | AJ21: 0 | AK21: 0 | AL21: 0 | AM21: 0 | AN21: 0 | AO21: 0 | AP21: 0 | AQ21: 0 | AR21: 0 | AS21: 0 | AT21: 0 | AU21: 0 | AV21: 0 | AW21: 0 | AX21: 0 | AY21: 0 | AZ21: 0 | BA21: 0 | BB21: 0 | BC21: -3881.3295 | BD21: -33734.727 | BE21: -173872.04 | BF21: -1031.9216 | BG21: -31785.787
D22: Leased Asset | E22: =SUM(F22:BH22) -> 534636.74 | F22: 0 | G22: 0 | H22: 0 | I22: 0 | J22: 0 | K22: 0 | L22: 0 | M22: 0 | N22: 0 | O22: 0 | P22: 0 | Q22: 0 | R22: 0 | S22: 0 | T22: 0 | U22: 0 | V22: 0 | W22: 0 | X22: 0 | Y22: 0 | Z22: 0 | AA22: 0 | AB22: 0 | AC22: 0 | AD22: 0 | AE22: 0 | AF22: 0 | AG22: 0 | AH22: 0 | AI22: 0 | AJ22: 0 | AK22: 0 | AL22: 0 | AM22: 0 | AN22: 0 | AO22: 0 | AP22: 0 | AQ22: 0 | AR22: 0 | AS22: 0 | AT22: 0 | AU22: 0 | AV22: 0 | AW22: 0 | AX22: 0 | AY22: 0 | AZ22: 0 | BA22: 0 | BB22: 0 | BC22: 140801.52 | BD22: 97974.875 | BE22: 67738.719 | BF22: 64078.432 | BG22: 164043.2
D23: Cost base | E23: =SUM(F23:BH23) -> 3877625.8 | F23: =SUM(F18:F22) -> 0 | G23: =SUM(G18:G22) -> 0 | H23: =SUM(H18:H22) -> 0 | I23: =SUM(I18:I22) -> 0 | J23: =SUM(J18:J22) -> 0 | K23: =SUM(K18:K22) -> 0 | L23: =SUM(L18:L22) -> 0 | M23: =SUM(M18:M22) -> 0 | ... BH23: =SUM(BH18:BH22) -> 0
D24: Total assets | E24: =E16+E23 -> 2.2956308e+08 | F24: =F16+F23 -> 0 | G24: =G16+G23 -> 0 | H24: =H16+H23 -> 0 | I24: =I16+I23 -> 0 | J24: =J16+J23 -> 0 | K24: =K16+K23 -> 0 | L24: =L16+L23 -> 0 | ... BH24: =BH16+BH23 -> 0
C25: Return of capital
B26: 3.2.2 | D26: Revenue | E26: =SUM(F26:BH26) -> 2.6053553e+08 | F26: 0 | G26: 0 | H26: 0 | I26: 0 | J26: 0 | K26: 0 | L26: 0 | M26: 0 | N26: 0 | O26: 0 | P26: 0 | Q26: 0 | R26: 0 | S26: 0 | T26: 0 | U26: 0 | V26: 0 | W26: 0 | X26: 0 | Y26: 0 | Z26: 0 | AA26: 0 | AB26: 0 | AC26: 0 | AD26: 0 | AE26: 0 | AF26: 0 | AG26: 0 | AH26: 0 | AI26: 7643408.6 | AJ26: 7860547.4 | AK26: 8098569.9 | AL26: 8290149 | AM26: 9793327.8 | AN26: 6962002.2 | AO26: 12288717 | AP26: 11221202 | AQ26: 13126390 | AR26: 13320332 | AS26: 12141620 | AT26: 14152400 | AU26: 6817160.9 | AV26: 9902768.2 | AW26: 8700029.5 | AX26: 7915563.4 | AY26: 8942622.5 | AZ26: 7127347.9 | BA26: 9567495.7 | BB26: 10660135 | BC26: 8048214.7 | BD26: 19047488 | BE26: 11778128 | BF26: 10603837 | BG26: 16526074
B27: 3.2.2 | D27: Operating expenses | E27: =SUM(F27:BH27) -> -2.1281397e+08 | F27: 0 | G27: 0 | H27: 0 | I27: 0 | J27: 0 | K27: 0 | L27: 0 | M27: 0 | N27: 0 | O27: 0 | P27: 0 | Q27: 0 | R27: 0 | S27: 0 | T27: 0 | U27: 0 | V27: 0 | W27: 0 | X27: 0 | Y27: 0 | Z27: 0 | AA27: 0 | AB27: 0 | AC27: 0 | AD27: 0 | AE27: 0 | AF27: 0 | AG27: 0 | AH27: 0 | AI27: -10991822 | AJ27: -11304084 | AK27: -11646379 | AL27: -11921885 | AM27: -14212026 | AN27: -10402647 | AO27: -10843232 | AP27: -7853993.4 | AQ27: -7834400.2 | AR27: -7843411.6 | AS27: -9375873.2 | AT27: -7449312.7 | AU27: -6877832.3 | AV27: -6652865 | AW27: -6366842.8 | AX27: -6747237.1 | AY27: -6603885.3 | AZ27: -6603472.8 | BA27: -6442939.4 | BB27: -7178668.2 | BC27: -6173871 | BD27: -6960596.8 | BE27: -7896845.6 | BF27: -7791364.1 | BG27: -8838487.1
B28: 3.2.5 | D28: Net tax liabilities | E28: =SUM(F28:BH28) -> 0 | F28: 0 | G28: 0 | H28: 0 | I28: 0 | J28: 0 | K28: 0 | L28: 0 | M28: 0 | N28: 0 | O28: 0 | P28: 0 | Q28: 0 | R28: 0 | S28: 0 | T28: 0 | U28: 0 | V28: 0 | W28: 0 | X28: 0 | Y28: 0 | Z28: 0 | AA28: 0 | AB28: 0 | AC28: 0 | AD28: 0 | AE28: 0 | AF28: 0 | AG28: 0 | AH28: 0 | AI28: 0 | AJ28: 0 | AK28: 0 | AL28: 0 | AM28: 0 | AN28: 0 | AO28: 0 | AP28: 0 | AQ28: 0 | AR28: 0 | AS28: 0 | AT28: 0 | AU28: 0 | AV28: 0 | AW28: 0 | AX28: 0 | AY28: 0 | AZ28: 0 | BA28: 0 | BB28: 0 | BC28: 0 | BD28: 0 | BE28: 0 | BF28: 0 | BG28: 0
D29: Leased Asset Interest/Financing Charge | E29: =SUM(F29:BH29) -> -109443.64 | F29: 0 | G29: 0 | H29: 0 | I29: 0 | J29: 0 | K29: 0 | L29: 0 | M29: 0 | N29: 0 | O29: 0 | P29: 0 | Q29: 0 | R29: 0 | S29: 0 | T29: 0 | U29: 0 | V29: 0 | W29: 0 | X29: 0 | Y29: 0 | Z29: 0 | AA29: 0 | AB29: 0 | AC29: 0 | AD29: 0 | AE29: 0 | AF29: 0 | AG29: 0 | AH29: 0 | AI29: 0 | AJ29: 0 | AK29: 0 | AL29: 0 | AM29: 0 | AN29: 0 | AO29: 0 | AP29: 0 | AQ29: 0 | AR29: 0 | AS29: 0 | AT29: 0 | AU29: 0 | AV29: 0 | AW29: 0 | AX29: 0 | AY29: 0 | AZ29: 0 | BA29: 0 | BB29: 0 | BC29: -24298.109 | BD29: -20223.399 | BE29: -8717.7796 | BF29: -27208.579 | BG29: -28995.77
B30: 3.2.4 | D30: Return on capital | E30: =SUM(F30:BH30) -> -7.65685e+08 | F30: 0 | G30: 0 | H30: 0 | I30: 0 | J30: 0 | K30: 0 | L30: 0 | M30: 0 | N30: 0 | O30: 0 | P30: 0 | Q30: 0 | R30: 0 | S30: 0 | T30: 0 | U30: 0 | V30: 0 | W30: 0 | X30: 0 | Y30: 0 | Z30: 0 | AA30: 0 | AB30: 0 | AC30: 0 | AD30: 0 | AE30: 0 | AF30: 0 | AG30: 0 | AH30: 0 | AI30: -6636936.4 | AJ30: -8119236.8 | AK30: -9497090.9 | AL30: -11166136 | AM30: -12750789 | AN30: -7343162.8 | AO30: -16776816 | AP30: -19125676 | AQ30: -18506598 | AR30: -23408520 | AS30: -25525601 | AT30: -24936645 | AU30: -25858294 | AV30: -30975934 | AW30: -30263124 | AX30: -33267094 | AY30: -35816528 | AZ30: -38537796 | BA30: -43064275 | BB30: -40327029 | BC30: -41096265 | BD30: -46996880 | BE30: -62782212 | BF30: -71270102 | BG30: -81636263
D31: Total Return of Capital | E31: =SUM(F31:BH31) -> -7.1807289e+08 | F31: =SUM(F26:F30) -> 0 | G31: =SUM(G26:G30) -> 0 | H31: =SUM(H26:H30) -> 0 | I31: =SUM(I26:I30) -> 0 | J31: =SUM(J26:J30) -> 0 | K31: =SUM(K26:K30) -> 0 | L31: =SUM(L26:L30) -> 0 | M31: =SUM(M26:M30) -> 0 | ... BH31: =SUM(BH26:BH30) -> 0
D32: Recovered capital method total asset value | E32: =SUM(F32:BH32) -> 9.4763598e+08 | F32: =F16+F23-F31 -> 0 | G32: =G16+G23-G31 -> 0 | H32: =H16+H23-H31 -> 0 | I32: =I16+I23-I31 -> 0 | J32: =J16+J23-J31 -> 0 | K32: =K16+K23-K31 -> 0 | L32: =L16+L23-L31 -> 0 | M32: =M16+M23-M31 -> 0 | ... BH32: =BH16+BH23-BH31 -> 0
C33: For information | D33: Opening asset value | G33: =F24+F33-F31 -> 0 | H33: =G24+G33-G31 -> 0 | I33: =H24+H33-H31 -> 0 | J33: =I24+I33-I31 -> 0 | K33: =J24+J33-J31 -> 0 | L33: =K24+K33-K31 -> 0 | M33: =L24+L33-L31 -> 0 | N33: =M24+M33-M31 -> 0 | ... BH33: =BG24+BG33-BG31 -> 9.4763598e+08
