Workbook
Name A10remlife: 'RFM input'!$K$16
Name A10stdlife: 'RFM input'!$L$16
Name A10taxremlife: 'RFM input'!$X$16
Name A10taxstdlife: 'RFM input'!$Y$16
Name A10taxvalue: 'TAB roll forward'!$H$17
Name A10value: 'Capital base roll forward'!$H$1199
Name A11remlife: 'RFM input'!$K$17
Name A11stdlife: 'RFM input'!$L$17
Name A11taxremlife: 'RFM input'!$X$17
Name A11taxstdlife: 'RFM input'!$Y$17
Name A11taxvalue: 'TAB roll forward'!$H$18
Name A11value: 'Capital base roll forward'!$H$1200
Name A12remlife: 'RFM input'!$K$18
Name A12stdlife: 'RFM input'!$L$18
Name A12taxremlife: 'RFM input'!$X$18
Name A12taxstdlife: 'RFM input'!$Y$18
Name A12taxvalue: 'TAB roll forward'!$H$19
Name A12value: 'Capital base roll forward'!$H$1201
Name A13remlife: 'RFM input'!$K$19
Name A13stdlife: 'RFM input'!$L$19
Name A13taxremlife: 'RFM input'!$X$19
Name A13taxstdlife: 'RFM input'!$Y$19
Name A13taxvalue: 'TAB roll forward'!$H$20
Name A13value: 'Capital base roll forward'!$H$1202
Name A14remlife: 'RFM input'!$K$20
Name A14stdlife: 'RFM input'!$L$20
Name A14taxremlife: 'RFM input'!$X$20
Name A14taxstdlife: 'RFM input'!$Y$20
Name A14taxvalue: 'TAB roll forward'!$H$21
Name A14value: 'Capital base roll forward'!$H$1203
Name A15remlife: 'RFM input'!$K$21
Name A15stdlife: 'RFM input'!$L$21
Name A15taxremlife: 'RFM input'!$X$21
Name A15taxstdlife: 'RFM input'!$Y$21
Name A15taxvalue: 'TAB roll forward'!$H$22
Name A15value: 'Capital base roll forward'!$H$1204
Name A16remlife: 'RFM input'!$K$22
Name A16stdlife: 'RFM input'!$L$22
Name A16taxremlife: 'RFM input'!$X$22
Name A16taxstdlife: 'RFM input'!$Y$22
Name A16taxvalue: 'TAB roll forward'!$H$23
Name A16value: 'Capital base roll forward'!$H$1205
Name A17remlife: 'RFM input'!$K$23
Name A17stdlife: 'RFM input'!$L$23
Name A17taxremlife: 'RFM input'!$X$23
Name A17taxstdlife: 'RFM input'!$Y$23
Name A17taxvalue: 'TAB roll forward'!$H$24
Name A17value: 'Capital base roll forward'!$H$1206
Name A18remlife: 'RFM input'!$K$24
Name A18stdlife: 'RFM input'!$L$24
Name A18taxremlife: 'RFM input'!$X$24
Name A18taxstdlife: 'RFM input'!$Y$24
Name A18taxvalue: 'TAB roll forward'!$H$25
Name A18value: 'Capital base roll forward'!$H$1207
Name A19remlife: 'RFM input'!$K$25
Name A19stdlife: 'RFM input'!$L$25
Name A19taxremlife: 'RFM input'!$X$25
Name A19taxstdlife: 'RFM input'!$Y$25
Name A19taxvalue: 'TAB roll forward'!$H$26
Name A19value: 'Capital base roll forward'!$H$1208

Sheet AER NRs
B1: AER NAMED RANGES
B3: DROP DOWN SELECTORS USED IN WORKBOOKS
B5: COVER SHEET | C5: dms_DataQuality_List | D5: dms_Confid_status_List
C6: -- select -- | D6: -- select --
C7: Actual | D7: Public
C8: Estimate | D8: Confidential
C9: Consolidated
C12: For all files either AER or business needs to be able to specify the type of submission | D12: For PTRM & RFM templates we must provide a choice in case they change their form of control - otherwise it is drawn from the business specific lookup table above.
C13: dms_SourceList | D13: dms_FormControl_Choices
C14: -- select -- | D14: Revenue cap
C15: After appeal | D15: Revenue yield
C16: Draft decision | D16: Tariff cap
C17: Final decision | D17: Weighted average price cap
C18: Regulatory proposal
C19: Revised regulatory proposal
K22: This is used to create an image to insert on 6.3 STPIS sheet - not for dropdown lists. | N22: GAS
B23: CA & RESET RINS DNSP | C23: dms_DNSP_020301_SubstationType | D23: dms_DNSP_020301_ProjectType | E23: dms_DNSP_020301_ProjectTrigger | F23: dms_DNSP_020302_ProjectType | G23: dms_DNSP_020302_ProjectTrigger | H23: dms_STPIS_Exclusion_List | I23: dms_Reason_Interruption | J23: dms_Reason_Interruption_Detailed | K23: Reason for interruption | N23: dms_N0205_AssetType
C24: Subtransmission substation | D24: New substation establishment | E24: Demand growth | F24: New line on new route - single circuit | G24: Demand growth | H24: Weather | I24: Animal | J24: Animal impact | K24: Animal | L24: Animal impact | N24: Cast Iron
C25: Zone substation | D25: Substation upgrade - capacity | E25: Voltage issues | F25: New line on new route - dual circuit | G25: Voltage issues | H25: Equipment failure | I25: Asset failure | J25: Animal nesting/burrowing, etc and other | L25: Animal nesting/burrowing, etc and other | N25: PVC
C26: Switching station | D26: Substation upgrade - voltage | E26: Reactive power issue | F26: New line on new route - other | G26: Reactive power issue | H26: Operational error | I26: Other | J26: Other | L26: Other | N26: Polyamide
C27: Other | D27: Other | E27: Fault level issues | F27: Line rebuild over existing route - single circuit | G27: Fault level issues | H27: Vegetation | I27: Overloads | J27: LV | K27: Asset failure | L27: LV | N27: High density polyethylene (80)
E28: Safety | F28: Line rebuild over existing route - dual circuit | G28: Net market benefit | H28: Animals | I28: Planned | J28: Distribution substation | L28: Distribution substation | N28: High density polyethylene (100)
E29: Environment | F29: Reconductor - Single circuit | G29: Safety | H29: Third party impacts | I29: Network business | J29: HV | L29: HV | N29: High density polyethylene (250)
E30: Other | F30: Reconductor - Dual circuit | G30: Environment | H30: Transmission failure | I30: Third party | J30: Zone substation | L30: Zone substation | N30: High density polyethylene (575)
F31: Reconductor - Other | G31: Other | H31: Load shedding | I31: Unknown | J31: Subtransmission | L31: Subtransmission | N31: Medium density polyethylene
F32: Line upgrade - raising/retensoring | H32: Inter-distributor connection failure | I32: Vegetation | J32: insert description of 'other' | K32: Other | L32: insert description of 'other' | N32: Unprotected steel
F33: Line upgrade - voltage upgrade | H33: Other | I33: Weather | J33: Network error | K33: Overloads | N33: Protected steel
F34: Line upgrade - capacity | I34: 2 - STPIS Exclusion (3.3)(a) | J34: Switching and protection error | K34: Planned | N34: Other
F35: String spare circuit | I35: 3 - STPIS Exclusion (3.3)(a) | J35: Fire | K35: Network business | L35: Network error
F36: Other | I36: 4 - STPIS Exclusion (3.3)(a) | J36: Other | L36: Switching and protection error
I37: 5 - STPIS Exclusion (3.3)(a) | J37: Dig-in | K37: Third party | L37: Fire
I38: 6 - STPIS Exclusion (3.3)(a) | J38: Unauthorised access | L38: Other
I39: 7 - STPIS Exclusion (3.3)(a) | J39: Vehicle impact | L39: Dig-in
J40: Unknown | L40: Unauthorised access
J41: Blow-in/Fall-in - NSP responsibility | L41: Vehicle impact
J42: Grow-in - NSP responsibility | K42: Unknown | L42: Unknown
J43: Blow-in/Fall-in - Other responsible party | K43: Vegetation | L43: Blow-in/Fall-in - NSP responsibility
J44: Grow-in - Other responsible party | L44: Grow-in - NSP responsibility
L45: Blow-in/Fall-in - Other responsible party
L46: Grow-in - Other responsible party
...

Sheet AER lookups
B1: AER LOOKUP TABLES
B3: Data in these columns used for data validation and database purposes.
B4: Date last modified: | C4: 42751 | D4: added (Albury and Victora) for AGN
C5: 42660 | D5: updated TransGrid's correct legal name, corrected TasNetworks (T) to June financial year
C6: 42767 | D6: inserted Power and Water, added NRs (dms_FeederCat_1 and dms_FeederCat_2)
C7: 42797 | D7: inserted AEMO as a business
C8: 43187 | D8: major changes to accommodate STPIS
C9: Template Version | D9: 5
Z11: FOR ELECTRICITY BUSINESSES ONLY
Z12: Feeder Types | AD12: TasNetworks (D) | AE12: Feeder Names
Z14: CBD | AA14: Urban | AB14: Short rural | AC14: long rural | AD14: EXTRA
B15: dms_TradingName_List | C15: dms_TradingNameFull_List | D15: dms_ABN_List | E15: dms_JurisdictionList | F15: dms_Sector_List | G15: dms_Segment_List | H15: dms_FormControl_List | I15: dms_RPT_List | J15: dms_RPTMonth_List | K15: dms_CRCPlength_List | L15: dms_FRCPlength_List | M15: dms_PRCPlength_List | N15: dms_663_List | O15: dms_DeterminationRef_List | P15: dms_Addr1_List | Q15: dms_Addr2_List | R15: dms_Suburb_List | S15: dms_State_List | T15: dms_PostCode_List | U15: dms_PAddr1_List | V15: dms_PAddr2_List | W15: dms_PSuburb_List | X15: dms_PState_List | Y15: dms_PPostCode_List | Z15: dms_CBD_flag | AA15: dms_Urban_flag | AB15: dms_ShortRural_flag | AC15: dms_LongRural_flag | AD15: dms_FeederType_5_flag | AE15: dms_FeederName_1 | AF15: dms_FeederName_2 | AG15: dms_FeederName_3 | AH15: dms_FeederName_4 | AI15: dms_FeederName_5 | AJ15: dms_Public_Lighting_List | AK15: Name
B16: Amadeus | C16: APT Pipelines (NT) Pty Ltd | D16: 39009737393 | E16: NT | F16: Gas | G16: Transmission | H16: Tariff cap | I16: Financial | J16: June | K16: 5 | L16: 5 | M16: 5 | N16: x | O16: n/a | P16: Level 19, HSBC Building | Q16: 580 George Street | R16: SYDNEY | S16: NSW | T16: 2000 | U16: Level 19, HSBC Building | V16: 580 George Street | W16: SYDNEY | X16: NSW | Y16: 2000 | Z16: NO | AA16: NO | AB16: NO | AC16: NO | AD16: NO | AE16: CBD | AF16: Urban | AG16: Short rural | AH16: Long rural | AJ16: NO | AK16: =B16 -> Amadeus
B17: APA VTS | C17: APA GasNet Australia (Operations) Pty Ltd | D17: 65083009 | E17: Vic | F17: Gas | G17: Transmission | H17: Tariff cap | I17: Financial | J17: June | K17: 5 | L17: 5 | M17: 5 | N17: x | P17: Level 19, HSBC Building | Q17: 580 George Street | R17: SYDNEY | S17: NSW | T17: 2000 | U17: PO Box R41 | W17: ROYAL EXCHANGE | X17: NSW | Y17: 1225 | Z17: NO | AA17: NO | AB17: NO | AC17: NO | AD17: NO | AE17: CBD | AF17: Urban | AG17: Short rural | AH17: Long rural | AJ17: NO | AK17: =B17 -> APA VTS
B18: Australian Transmission Co. (Gas) | C18: Australian Transmission Co. (Gas) | D18: 11222333444 | E18: NSW | F18: Gas | G18: Transmission | H18: Tariff cap | I18: Financial | J18: June | K18: 5 | L18: 5 | M18: 5 | N18: 5 | O18: transmission determination | P18: 123 Straight Street | R18: SYDNEY | S18: NSW | T18: 2000 | U18: PO Box 123 | W18: SYDNEY | X18: NSW | Y18: 2000 | Z18: NO | AA18: NO | AB18: NO | AC18: NO | AD18: NO | AE18: CBD | AF18: Urban | AG18: Short rural | AH18: Long rural | AJ18: NO | AK18: =B18 -> Australian Transmission Co. (Gas)
B19: Roma to Brisbane Pipeline | C19: APT Petroleum Pipelines Limited t/a Roma to Brisbane Pipeline | D19: 009 737 393 | E19: Qld | F19: Gas | G19: Transmission | H19: Tariff cap | I19: Financial | J19: June | K19: 5 | L19: 5 | M19: 5 | N19: x | O19: n/a | P19: 580 George Street | R19: SYDNEY | S19: NSW | T19: 2000 | U19: PO Box R41 | W19: ROYAL EXCHANGE | X19: NSW | Y19: 1225 | Z19: NO | AA19: NO | AB19: NO | AC19: NO | AD19: NO | AE19: CBD | AF19: Urban | AG19: Short rural | AH19: Long rural | AJ19: NO | AK19: =B19 -> Roma to Brisbane Pipeline
B24: The Reg Year Ending (dms_RYE) must be set to the last year of the regulatory period. For forecast data is is usually (FRCP_y5) for actual it is a single year (CRY). For historical actual data the RYE will need to be set manually in the business details sheet by setting the dms_Multiyear_flag to 1 and putting the correct value in 'dms_Specified_FinalYear. See cells C67:C68
B25: dms_Model_List | C25: dms_Model_Name_Format1 | D25: dms_Worksheet_List | E25: dms_Model_Span_List
B26: ARR | C26: Annual Reporting | D26: =IF(dms_MultiYear_ResponseFlag="yes","NEW HISTORICAL ANNUAL REPORTING","ANNUAL REPORTING") -> ANNUAL REPORTING | E26: 1
B27: CA | C27: Category Analysis | D27: =IF(dms_MultiYear_ResponseFlag="yes","NEW HISTORICAL CATEGORY ANALYSIS","CATEGORY ANALYSIS") -> CATEGORY ANALYSIS | E27: 1
B28: CESS | C28: Capitlal Expenditure | D28: CAPITLAL EXPENDITURE SHARING SCHEMING | E28: 5
B29: CPI | C29: CPI | D29: CPI | E29: 5
B30: EB | C30: Economic Benchmarking | D30: =IF(dms_MultiYear_ResponseFlag="yes","NEW HISTORICAL ECONOMIC BENCHMARKING","ECONOMIC BENCHMARKING") -> ECONOMIC BENCHMARKING | E30: 1
B31: Pricing | C31: Pricing Proposal | D31: PRICING PROPOSAL | E31: 5
B32: PTRM | C32: Post Tax Revenue Model | D32: POST TAX REVENUE MODEL | E32: 5
B33: Reset | C33: Regulatory Reporting (Reset) | D33: REGULATORY REPORTING STATEMENT | E33: 5
B34: RFM | C34: Roll Forward Model | D34: ROLL FORWARD MODEL | E34: 5
B35: WACC | C35: Weighted Average Cost of Capital | D35: WEIGHTED AVERAGE COST OF CAPITAL | E35: 1
B39: Financial | C39: Calendar | E39: PREVIOUS | G39: CURRENT | I39: FORTHCOMING
B40: 1987-88 | C40: 1988 | D40: PRCP_y1 | E40: =INDEX(INDIRECT(dms_RPT),dms_PRCP_start_row) -> #N/A | F40: CRCP_y1 | G40: =INDEX(INDIRECT(dms_RPT),dms_CRCP_start_row) -> #N/A | H40: =FRCP_y1 -> 2020-21 | I40: =INDEX(INDIRECT(dms_RPT),dms_FRCP_start_row) -> #N/A
B41: 1988-89 | C41: 1989 | D41: PRCP_y2 | E41: =INDEX(INDIRECT(dms_RPT),dms_PRCP_start_row+1) -> #N/A | F41: CRCP_y2 | G41: =INDEX(INDIRECT(dms_RPT),dms_CRCP_start_row+1) -> #N/A | H41: FRCP_y2 | I41: =INDEX(INDIRECT(dms_RPT),dms_FRCP_start_row+1) -> #N/A
B42: 1989-90 | C42: 1990 | D42: PRCP_y3 | E42: =INDEX(INDIRECT(dms_RPT),dms_PRCP_start_row+2) -> #N/A | F42: CRCP_y3 | G42: =INDEX(INDIRECT(dms_RPT),dms_CRCP_start_row+2) -> #N/A | H42: FRCP_y3 | I42: =INDEX(INDIRECT(dms_RPT),dms_FRCP_start_row+2) -> #N/A
B43: 1990-91 | C43: 1991 | D43: PRCP_y4 | E43: =INDEX(INDIRECT(dms_RPT),dms_PRCP_start_row+3) -> #N/A | F43: CRCP_y4 | G43: =INDEX(INDIRECT(dms_RPT),dms_CRCP_start_row+3) -> #N/A | H43: FRCP_y4 | I43: =INDEX(INDIRECT(dms_RPT),dms_FRCP_start_row+3) -> #N/A
B44: 1991-92 | C44: 1992 | D44: PRCP_y5 | E44: =INDEX(INDIRECT(dms_RPT),dms_PRCP_start_row+4) -> #N/A | F44: CRCP_y5 | G44: =INDEX(INDIRECT(dms_RPT),dms_CRCP_start_row+4) -> #N/A | H44: FRCP_y5 | I44: =INDEX(INDIRECT(dms_RPT),dms_FRCP_start_row+4) -> #N/A
B45: 1992-93 | C45: 1993 | D45: PRCP_y6 | E45: =INDEX(INDIRECT(dms_RPT),dms_PRCP_start_row+5) -> #N/A | F45: CRCP_y6 | G45: =INDEX(INDIRECT(dms_RPT),dms_CRCP_start_row+5) -> #N/A | H45: FRCP_y6 | I45: =INDEX(INDIRECT(dms_RPT),dms_FRCP_start_row+5) -> #N/A
B46: 1993-94 | C46: 1994 | D46: PRCP_y7 | E46: =INDEX(INDIRECT(dms_RPT),dms_PRCP_start_row+6) -> #N/A | F46: CRCP_y7 | G46: =INDEX(INDIRECT(dms_RPT),dms_CRCP_start_row+6) -> #N/A | H46: FRCP_y7 | I46: =INDEX(INDIRECT(dms_RPT),dms_FRCP_start_row+6) -> #N/A
B47: 1994-95 | C47: 1995 | D47: PRCP_y8 | E47: =INDEX(INDIRECT(dms_RPT),dms_PRCP_start_row+7) -> #N/A | F47: CRCP_y8 | G47: =INDEX(INDIRECT(dms_RPT),dms_CRCP_start_row+7) -> #N/A | H47: FRCP_y8 | I47: =INDEX(INDIRECT(dms_RPT),dms_FRCP_start_row+7) -> #N/A
B48: 1995-96 | C48: 1996 | D48: PRCP_y9 | E48: =INDEX(INDIRECT(dms_RPT),dms_PRCP_start_row+8) -> #N/A | F48: CRCP_y9 | G48: =INDEX(INDIRECT(dms_RPT),dms_CRCP_start_row+8) -> #N/A | H48: FRCP_y9 | I48: =INDEX(INDIRECT(dms_RPT),dms_FRCP_start_row+8) -> #N/A
B49: 1996-97 | C49: 1997 | D49: PRCP_y10 | E49: =INDEX(INDIRECT(dms_RPT),dms_PRCP_start_row+9) -> #N/A | F49: CRCP_y10 | G49: =INDEX(INDIRECT(dms_RPT),dms_CRCP_start_row+9) -> #N/A | H49: FRCP_y10 | I49: =INDEX(INDIRECT(dms_RPT),dms_FRCP_start_row+9) -> #N/A
B50: 1997-98 | C50: 1998 | D50: PRCP_y11 | E50: =INDEX(INDIRECT(dms_RPT),dms_PRCP_start_row+10) -> #N/A | F50: CRCP_y11 | G50: =INDEX(INDIRECT(dms_RPT),dms_CRCP_start_row+10) -> #N/A | H50: FRCP_y11 | I50: =INDEX(INDIRECT(dms_RPT),dms_FRCP_start_row+10) -> #N/A
...

Sheet AER ETL
B1: AER ETL INFORMATION
B3: USES NAMED RANGES FLAG | C3: yes | D3: dms_Defined_Names_Used
B5: IF THIS IS AN ABC RIN - make sure the the named range CRY is applied and the named range dms_dollar_nom_UOM is applied
B6: IF THIS IS A RESET RIN - make sure the named ranges CRY and dms_dollar_nom_UOM are NOT present in the workbook
B7: FOR ABC RINS THAT SPAN MULTIPLE YEARS - make sure MultiYear Flag is set and final year entered as required
B9: Full trading name | C9: =INDEX(dms_TradingNameFull_List,MATCH(dms_TradingName,dms_TradingName_List)) -> #N/A | E9: dms_TradingNameFull
B10: Trading name | C10: =dms_TradingName -> 0
A11: Selected here | B11: Model / RIN | C11: RFM | D11: dms_Model
A12: Read from Business & other details | B12: Source | C12: Regulatory proposal | D12: dms_Source
B13: Data quality | C13: Consolidated | D13: For DB purposes this is always Consoldiated
B14: Data status | C14: Public | D14: For DB purposes this is always Public
B15: Amendment reason | C15: =dms_Amendment_Text -> . | F15: dms_AmendmentReason
B16: Submission date | C16: =dms_Typed_Submission_Date -> dd/mm/yy | D16: dms_SubmissionDate
A18: Redundant | B18: EBSS - First application of scheme in forthcoming period? | C18: No
A19: Pre-populated from lookup table | B19: Data ingestion data quality | C19: Consolidated | D19: dms_DataQuality | E19: Always Consolidated
B20: Sector | C20: =INDEX(dms_Sector_List,MATCH(dms_TradingName,dms_TradingName_List)) -> #N/A | D20: dms_Sector | E20: =INDEX(dms_Sector_List,MATCH(dms_TradingName,dms_TradingName_List))
B21: Segment | C21: =INDEX(dms_Segment_List,MATCH(dms_TradingName,dms_TradingName_List)) -> #N/A | D21: dms_Segment | E21: =INDEX(dms_Segment_List,MATCH(dms_TradingName,dms_TradingName_List))
B22: Regulatory Year Ending | C22: =dms_RYE_result -> #N/A | D22: dms_RYE | E22: =IF(dms_MultiYear_Flag=1,LEFT(dms_Specified_FinalYear,2)&RIGHT(dms_Specified_FinalYear,2),INDEX(dms_RYE_Formula_Result,MATCH(dms_Model,dms_Model_List)))
B23: Reporting Period Type | C23: =INDEX(dms_RPT_List,MATCH(dms_TradingName,dms_TradingName_List)) -> #N/A | D23: dms_RPT | E23: =INDEX(dms_RPT_List,MATCH(dms_TradingName,dms_TradingName_List))
B24: EB/CA Unit of Measure for Monetary Values | C24: $0s | D24: dms_dollar_nom_UOM | E24: If the cover sheet is attached to an ABC RIN apply the NAMED RANGE to the cell
B25: Security Classification | C25: Public | D25: dms_Classification | E25: Always Public
B26: Jurisdiction | C26: =INDEX(dms_JurisdictionList,MATCH(dms_TradingName,dms_TradingName_List)) -> #N/A | D26: dms_Jurisdiction | E26: =INDEX(dms_JurisdictionList,MATCH(dms_TradingName,dms_TradingName_List))
A27: Relevant for PTRM, RFMs and Reset RINS | B27: $ REAL REFERENCES
B28: Does the named range CRY exist in this file? | C28: =IFERROR(CRY,"NO") -> NO
B29: CRY-1 (last full calendar year before CRY) | C29: =IFERROR(IF(dms_RPT="calendar",CRY-1,LEFT(CRY,4)),"CRY not present") -> CRY not present | D29: dms_Cal_Year_B4_CRY | E29: '=IF(dms_RPT="financial",VALUE(LEFT(dms_SingleYear_FinalYear_Result,4)),VALUE(LEFT(dms_SingleYear_FinalYear_Result,4)-1))
B30: Dollar $ real month | C30: =INDEX(dms_RPTMonth_List,MATCH(dms_TradingName,dms_TradingName_List)) -> #N/A | D30: dms_RPTMonth | E30: =INDEX(dms_RPTMonth_List,MATCH(dms_TradingName,dms_TradingName_List))
B31: Dollar $ real (the last month before the FRCP_y1) | C31: =IF(dms_SingleYearModel="yes",CONCATENATE(dms_RPTMonth)&" "&VALUE((LEFT(dms_CRY_start_year,2)&RIGHT(dms_CRY_start_year,2))),CONCATENATE(dms_RPTMonth)&" "&dms_DollarReal_year) -> #N/A | D31: dms_DollarReal | E31: =IF(SUM(dms_SingleYear_Model)>0,CONCATENATE(dms_RPTMonth)&" "&VALUE((LEFT(CRY,2))&RIGHT(CRY,2)),CONCATENATE(dms_RPTMonth)&" "&VALUE((LEFT(dms_RYE,2)&RIGHT(dms_RYE,2))))
B32: Dollar $ real previous year (PRCP_y5) | C32: =CONCATENATE(dms_RPTMonth)&" "&dms_Previous_DollarReal_year -> #N/A | D32: dms_DollarReal_Prev | E32: =IF(SUM(dms_SingleYear_Model)>0,CONCATENATE(dms_RPTMonth)&" "&VALUE(((LEFT(CRY,2))&RIGHT(CRY,2))-1),CONCATENATE(dms_RPTMonth)&" "&VALUE(((LEFT(dms_CRCP_FirstYear_Result,2)&RIGHT(dms_CRCP_FirstYear_Result,2))))-1)
B33: PTRM/ RFMs
B34: Form of control | C34: =INDEX(dms_FormControl_List,MATCH(dms_TradingName,dms_TradingName_List)) -> #N/A | D34: dms_FormControl | E34: =INDEX(dms_FormControl_List,MATCH(dms_TradingName,dms_TradingName_List))
A35: All potential values for Regulatory Years or RYEs as calculated | B35: This block works out the various RYE's for ALL RIN types and MODELS
B36: dms_start_year | C36: =FRCP_y1 -> 2020-21 | D36: =FRCP_y1 | E36: FRCP_y1 from cover sheet
B37: dms_CRY_start_year | C37: =IFERROR(CRY,CRCP_y4) -> #N/A | D37: =IFERROR(CRY,CRCP_y4)
B38: dms_CRY_start_row | C38: =IFERROR(MATCH(dms_CRY_start_year,INDIRECT(dms_RPT),0),0) -> 0 | D38: =IFERROR(MATCH(dms_CRY_start_year,INDIRECT(dms_RPT),0),0)
B39: dms_FRCP_start_row | C39: =MATCH(dms_start_year,INDIRECT(dms_RPT),0) -> #N/A | D39: =MATCH(dms_start_year,INDIRECT(dms_RPT),0) | E39: Uses FRCP_y1 as a start reference
B40: dms_CRCP_start_row | C40: =dms_FRCP_start_row-dms_CRCPlength_Num -> #N/A | D40: =dms_FRCP_start_row-dms_CRCPlength_Num | E40: Uses the value in dms_CRCPlength_Num
B41: dms_PRCP_start_row | C41: =dms_FRCP_start_row-dms_CRCPlength_Num-dms_PRCPlength_Num -> #N/A | D41: =dms_FRCP_start_row-dms_CRCPlength_Num-dms_PRCPlength_Num | E41: Uses the value in dms_CRCPlength_Num and dms_PRCPlength_Num
B42: dms_RYE_start_row | C42: =dms_FRCP_start_row+(dms_FRCPlength_Num-1) -> #N/A | D42: =dms_FRCP_start_row+(dms_FRCPlength_Num-1) | E42: Uses the value in dms_FRCPlength_Num-1
B43: FRCP_start_year | C43: =INDEX(INDIRECT(dms_RPT),dms_FRCP_start_row) -> #N/A | D43: =INDEX(INDIRECT(dms_RPT),dms_FRCP_start_row) | E43: Converts the FRCP start row to display the year
B44: CRCP_start_year | C44: =INDEX(INDIRECT(dms_RPT),dms_CRCP_start_row) -> #N/A | D44: =INDEX(INDIRECT(dms_RPT),dms_CRCP_start_row) | E44: Converts the CRCP start row to display the year
...

Sheet Business & other details
V1: =INDEX(dms_Worksheet_List,MATCH(dms_Model,dms_Model_List)) -> ROLL FORWARD MODEL
V2: =INDEX(dms_TradingNameFull_List,MATCH(dms_TradingName,dms_TradingName_List)) -> #N/A
V3: =dms_Header_Span -> #N/A
V4: BUSINESS & OTHER DETAILS
V6: INSTRUCTIONS
V7: Complete the following business details regulatory template before entering data or values in any other regulatory template. This regulatory template is linked to other cells within the spreadsheet and automatically generates column headings and conditional formatting to distinguish business specific input and non-input cells.
Q9: SUBMISSION PARTICULARS INPUT SHEET
V12: ENTITY DETAILS
V14: Business Name
V16: Short name | AL16: =dms_InputTradingName -> 0
V17: ACN/ABN | AL17: =INDEX(dms_ABN_List,MATCH(dms_TradingName,dms_TradingName_List)) -> #N/A
V21: Business Address | BQ21: Postal Address
V23: Address 1 | AL23: =INDEX(dms_Addr1_List,MATCH(dms_TradingName,dms_TradingName_List)) -> #N/A | BI23: Address 1 | BQ23: =INDEX(dms_PAddr1_List,MATCH(dms_TradingName,dms_TradingName_List)) -> #N/A
V24: Address 2 | AL24: =IF(ISBLANK(INDEX(dms_Addr2_List,MATCH(dms_TradingName,dms_TradingName_List))),"",(INDEX(dms_Addr2_List,MATCH(dms_TradingName,dms_TradingName_List)))) -> #N/A | BI24: Address 2 | BQ24: =IF(ISBLANK(INDEX(dms_PAddr2_List,MATCH(dms_TradingName,dms_TradingName_List))),"",(INDEX(dms_PAddr2_List,MATCH(dms_TradingName,dms_TradingName_List)))) -> #N/A
V25: Suburb | AL25: =INDEX(dms_Suburb_List,MATCH(dms_TradingName,dms_TradingName_List)) -> #N/A | BI25: Suburb | BQ25: =INDEX(dms_PSuburb_List,MATCH(dms_TradingName,dms_TradingName_List)) -> #N/A
V26: State | AL26: =INDEX(dms_State_List,MATCH(dms_TradingName,dms_TradingName_List)) -> #N/A | AV26: Post code | BI26: State | BQ26: =INDEX(dms_PState_List,MATCH(dms_TradingName,dms_TradingName_List)) -> #N/A | CA26: Post code
BA28: `
V30: Contact Names
V32: Name | AL32: -- enter name -- | BI32: Name | BQ32: -- enter name --
V33: Phone | AL33: -- enter phone number -- | BI33: Phone | BQ33: -- enter phone number --
V34: Email | AL34: -- enter email address -- | BI34: Email | BQ34: -- enter email address --
Q39: REGULATORY CONTROL PERIODS
Z42: Forthcoming period | AL42: 2020-21 | AU42: =FRCP_y2 -> #N/A | BD42: =FRCP_y3 -> #N/A | BM42: =FRCP_y4 -> #N/A | BV42: =FRCP_y5 -> #N/A
AL43: =FRCP_y6 -> #N/A | AU43: =FRCP_y7 -> #N/A | BD43: =FRCP_y8 -> #N/A | BM43: =FRCP_y9 -> #N/A | BV43: =FRCP_y10 -> #N/A
AL44: =FRCP_y11 -> #N/A | AU44: =FRCP_y12 -> #N/A | BD44: =FRCP_y13 -> #N/A | BM44: =FRCP_y14 -> #N/A | BV44: =FRCP_y15 -> #N/A
X46: RESETS | Z46: Current period | AL46: =CRCP_y1 -> #N/A | AU46: =CRCP_y2 -> #N/A | BD46: =CRCP_y3 -> #N/A | BM46: =CRCP_y4 -> #N/A | BV46: =CRCP_y5 -> #N/A
AL47: =CRCP_y6 -> #N/A | AU47: =CRCP_y7 -> #N/A | BD47: =CRCP_y8 -> #N/A | BM47: =CRCP_y9 -> #N/A | BV47: =CRCP_y10 -> #N/A
AL48: =CRCP_y11 -> #N/A | AU48: =CRCP_y12 -> #N/A | BD48: =CRCP_y13 -> #N/A | BM48: =CRCP_y14 -> #N/A | BV48: =CRCP_y15 -> #N/A
Z50: Previous period | AL50: =PRCP_y1 -> #N/A | AU50: =PRCP_y2 -> #N/A | BD50: =PRCP_y3 -> #N/A | BM50: =PRCP_y4 -> #N/A | BV50: =PRCP_y5 -> #N/A
AL51: =PRCP_y6 -> #N/A | AU51: =PRCP_y7 -> #N/A | BD51: =PRCP_y8 -> #N/A | BM51: =PRCP_y9 -> #N/A | BV51: =PRCP_y10 -> #N/A
Q54: SUBMISSION DETAILS
Z56: RIN type | AL56: =INDIRECT(dms_Model) -> Roll Forward Model
Z58: Source | AL58: =dms_InputSource -> 0
X60: THIS FILE | Z60: Data Quality | AL60: Consolidated
Z62: Confidentiality Status | AL62: Public
Z64: Amended RIN Amendment Reason | AL64: .
Z68: Submission Date | AL68: dd/mm/yy | BD68: Please enter date this file submitted to AER

Sheet Intro
G2: Gas Transmission Service Provider
I3: Roll Forward Model
L4: Version: | M4: 1.1
L5: Date: | M5: May 2022
B8: Introduction | J8: Gas Transmission Model
C14: This model is used by the AER to determine the opening capital and tax asset bases for a gas transmission service provider. It also calculates a weighted average remaining
C15: asset lives for regulatory and tax purposes using the asset values as weights.
C16: The roll forward of the asset base is undertaken in nominal terms.
C18: INSTRUCTIONS FOR USE
C19: The RFM handbook is available on the AER website at http://www.aer.gov.au
C21: a. Fill out input cells on the 'DMS Input' sheet. These input cells are highlighted blue.
C22: This provides information on the service provider submitting the RFM and the context for the RFM preparation.
C23: This information also controls the automatic import of the RFM into the AER's Data Management System (DMS).
C25: b. Fill out input cells on the 'RFM Input' sheet. These input cells are highlighted blue.
C26: This provides the data for the RFM calculations.
C27: In general, input expenditure data should be valued in nominal dollar terms of the year indicated.
C28: Units and basis for entry are specified where required for each data table.
... C34: VERSION RECORD
C36: Version | D36: Date | F36: Description
C37: 1 | D37: April 2020 | F37: Initial model
C39: 1.1 | D39: May 2022 | F39: Fixed default adjustments for capitalised provisions calculation in 'Inputs working' sheet and minor formula error in 'TAB roll forward' and 'Remaining lives' sheets

Sheet DMS input
B2: =$C$16&" - DMS Input"&" - TNSP RFM - version "&Intro!$M$4 -> Carpentaria Gas Pipeline - DMS Input - TNSP RFM - version 1.1 | G2: Input cells are in blue
B6: This sheet requests information that allows the AER to automatically import the RFM into our data management system (DMS).
B7: This sheet's metadata relates to the business and context for the RFM (rather than the RFM itself).
B8: Only change blue input cells. To facilitate the automatic import, please do not delete or add rows on this sheet.
B9: Throughout the rest of the workbook, defined name ranges are used to identify data that is imported into the DMS.
B12: Entity details
B14: Trading name
B15: ACN / ABN | C15: 49 080 382 387
B16: Business short name | C16: Carpentaria Gas Pipeline
B19: Regulatory process details
B22: Source
B23: Amended model submission - reason

Sheet RFM input
E2: ='DMS input'!$C$16&" - RFM Input"&" - TNSP RFM - version "&Intro!$M$4 -> Carpentaria Gas Pipeline - RFM Input - TNSP RFM - version 1.1 | G2: Input cells are in blue
E5: ="Opening Capital Base for "&IF(LEN($Z$7)>4,CONCATENATE(LEFT($Z$7,4)-1&"-"&IF($Z$7>"2009-10",,"0")&RIGHT($Z$7,2)-1),$Z$7-1)&" and Opening Tax Asset Base for "&$Z$7&" ($m Nominal)" -> Opening Capital Base for 2015-16 and Opening Tax Asset Base for 2016-17 ($m Nominal)
F6: Asset Class Name | I6: Opening Asset Value (Partially As Incurred) | J6: Opening Asset Value (As Commissioned) | K6: Average Remaining Life (Year) | L6: Standard Life (Year) | M6: Forecast Net Capex (As Incurred) | N6: Forecast Net Capex (As Commissioned) | O6: Forecast Regulatory Depreciation (Partially As Incurred) | P6: Forecast Regulatory Depreciation (As Commissioned) | Q6: Difference in Final Year Capex (As Incurred) | R6: Difference in Final Year Capex (As Commissioned) | S6: Return on Difference in Final Year Capex ( As Incurred) | T6: Return on Difference in Final Year Capex (As Commissioned) | U6: Other Final Year Adjustments (As Incurred) | V6: Other Final Year Adjustments (As Commissioned) | W6: Opening Tax Asset Value | X6: Average Tax Remaining Life (Year) | Y6: Tax Standard Life (Year) | Z6: Base Regulatory Year | AA6: Length of Access Arrangement Period (Year)
E7: Asset Class 1 | F7: Pipelines | I7: 239.56529 | J7: 239.56529 | K7: 62.218288 | L7: 80 | M7: 0.28598169 | N7: 0.28598169 | O7: 1.4989513 | P7: 1.4989513 | W7: 20.92753 | X7: 3.7421827 | Y7: 20 | Z7: 2016-17 | AA7: 10
E8: Asset Class 2 | F8: Compressors | I8: 44.311963 | J8: 44.311963 | K8: 26.703125 | L8: 35 | M8: 0.012516034 | N8: 0.012516034 | O8: 1.1958344 | P8: 1.1958344 | W8: 26.111482 | X8: 12.24173 | Y8: 20
E9: Asset Class 3 | F9: City Gates, supply regulators and valve stations | I9: 0.1110144 | J9: 0.1110144 | K9: 43.760581 | L9: 50 | M9: 0.0091874124 | N9: 0.0091874124 | O9: 0.0014894416 | P9: 0.0014894416 | W9: 0.079006288 | X9: 14.887846 | Y9: 20
E10: Asset Class 4 | F10: Metering | I10: 8.0913495 | J10: 8.0913495 | K10: 35.459357 | L10: 50 | M10: 0 | N10: 0 | O10: 0.15362391 | P10: 0.15362391 | W10: 2.0957609 | X10: 12.613456 | Y10: 20
E11: Asset Class 5 | F11: Odourant plants | I11: 0.10522313 | J11: 0.10522313 | K11: 78 | L11: 80 | M11: 0 | N11: 0 | O11: 0.00029565953 | P11: 0.00029565953 | W11: 0.090892656 | X11: 18 | Y11: 20
E12: Asset Class 6 | F12: SCADA (Communications) | I12: 0.8711736 | J12: 0.8711736 | K12: 13.618428 | L12: 15 | M12: 1.0594006 | N12: 1.0594006 | O12: 0.068046662 | P12: 0.068046662 | W12: 1.6442643 | X12: 9.0570071 | Y12: 10
E13: Asset Class 7 | F13: Buildings | I13: 4.271416 | J13: 4.271416 | K13: 62.960155 | L13: 80 | M13: 0 | N13: 0 | O13: 0.02587191 | P13: 0.02587191 | W13: 1.8821232 | X13: 23.116706 | Y13: 40
E14: Asset Class 8 | F14: Land and easements | I14: 0.013334824 | J14: 0.013334824 | K14: n/a | L14: n/a | M14: 0 | N14: 0 | O14: -0.00013644936 | P14: -0.00013644936 | W14: 0.007947 | X14: n/a | Y14: N/A
E15: Asset Class 9 | F15: Other depreciable pipeline assets | I15: 6.6973907 | J15: 6.6973907 | K15: 73.029984 | L15: 80 | M15: 0.1068883 | N15: 0.1068883 | O15: 0.025252131 | P15: 0.025252131 | W15: 4.1585903 | X15: 16.11101 | Y15: 20
E16: Asset Class 10 | F16: IT Systems | I16: 1.0586432 | J16: 1.0586432 | K16: 1.2750016 | L16: 5 | M16: 0.017759483 | N16: 0.017759483 | O16: 0.50363763 | P16: 0.50363763 | W16: 0.048561082 | X16: 2.7467822 | Y16: 4
E17: Asset Class 11 | F17: Leased pipeline assets | I17: 1.7092659 | J17: 1.7092659 | K17: 6.5281836 | L17: 15.5 | M17: 0 | N17: 0 | O17: 0.21332529 | P17: 0.21332529 | W17: 1.1595648 | X17: 6.5291527 | Y17: 15.5
E18: Asset Class 12 | F18: Shared supporting assets | I18: 2.6665477 | J18: 2.6665477 | K18: 4.2699982 | L18: 5 | M18: 1.8843988 | N18: 1.8843988 | O18: 0.88914898 | P18: 0.88914898 | W18: 3.5526742 | X18: 4.2926758 | Y18: 5
E19: Asset Class 13 | F19: Shared leased assets | I19: 0 | J19: 0 | K19: 0 | L19: 5 | M19: 0 | N19: 0 | O19: 0 | P19: 0 | W19: 0 | X19: 0 | Y19: 5
E20: Asset Class 14 | F20: PMA - Buyout contract | I20: 12.155048 | J20: 12.155048 | K20: 4 | L20: 12 | M20: 0 | N20: 0 | O20: 2.4950739 | P20: 2.4950739 | W20: -1.7763568e-15 | X20: 5 | Y20: 5
E21: Asset Class 15
E22: Asset Class 16
E23: Asset Class 17
E24: Asset Class 18
E25: Asset Class 19
E26: Asset Class 20
E27: Asset Class 21
E28: Asset Class 22
E29: Asset Class 23
E30: Asset Class 24
E31: Asset Class 25
E32: Asset Class 26
... E52: Asset Class 46
E53: Asset Class 47 | F53: Spare straight-line tax asset class
E54: Asset Class 48 | F54: Buildings - capital works
E55: Asset Class 49 | F55: In-house software
E56: Asset Class 50 | F56: Equity raising costs
E57: Total | I57: =SUM(I7:I56) -> 321.62766 | J57: =SUM(J7:J56) -> 321.62766 | M57: =SUM(M7:M56) -> 3.3761324 | N57: =SUM(N7:N56) -> 3.3761324 | O57: =SUM(O7:O56) -> 7.0704148 | P57: =SUM(P7:P56) -> 7.0704148 | Q57: =SUM(Q7:Q56) -> 0 | R57: =SUM(R7:R56) -> 0 | S57: =SUM(S7:S56) -> 0 | T57: =SUM(T7:T56) -> 0 | ... W57: =SUM(W7:W56) -> 61.758396
E59: Actual Capital Expenditure – As Incurred ($m Nominal)
E60: Year | G60: =IF(LEN(H60)>4,CONCATENATE(LEFT(H60,4)-1&"-"&IF(H60>"2009-10",,"0")&RIGHT(H60,2)-1),H60-1) -> 2015-16 | H60: =Z7 -> 2016-17 | I60: =IF(LEN(H60)>4,CONCATENATE(LEFT(H60,4)+1&"-"&IF(H60>"2007-08",,"0")&RIGHT(H60,2)+1),H60+1) -> 2017-18 | J60: =IF(LEN(I60)>4,CONCATENATE(LEFT(I60,4)+1&"-"&IF(I60>"2007-08",,"0")&RIGHT(I60,2)+1),I60+1) -> 2018-19 | K60: =IF(LEN(J60)>4,CONCATENATE(LEFT(J60,4)+1&"-"&IF(J60>"2007-08",,"0")&RIGHT(J60,2)+1),J60+1) -> 2019-20 | L60: =IF(LEN(K60)>4,CONCATENATE(LEFT(K60,4)+1&"-"&IF(K60>"2007-08",,"0")&RIGHT(K60,2)+1),K60+1) -> 2020-21 | M60: =IF(LEN(L60)>4,CONCATENATE(LEFT(L60,4)+1&"-"&IF(L60>"2007-08",,"0")&RIGHT(L60,2)+1),L60+1) -> 2021-22 | N60: =IF(LEN(M60)>4,CONCATENATE(LEFT(M60,4)+1&"-"&IF(M60>"2007-08",,"0")&RIGHT(M60,2)+1),M60+1) -> 2022-23 | O60: =IF(LEN(N60)>4,CONCATENATE(LEFT(N60,4)+1&"-"&IF(N60>"2007-08",,"0")&RIGHT(N60,2)+1),N60+1) -> 2023-24 | P60: =IF(LEN(O60)>4,CONCATENATE(LEFT(O60,4)+1&"-"&IF(O60>"2007-08",,"0")&RIGHT(O60,2)+1),O60+1) -> 2024-25 | Q60: =IF(LEN(P60)>4,CONCATENATE(LEFT(P60,4)+1&"-"&IF(P60>"2007-08",,"0")&RIGHT(P60,2)+1),P60+1) -> 2025-26
E61: =Asset1 -> Pipelines | G61: 0.27849824 | H61: 0 | I61: 0 | J61: 0.01702799 | K61: 1.3283121 | L61: 0.61771703 | M61: 0
E62: =Asset2 -> Compressors | G62: 0.01218852 | H62: 0.58380156 | I62: 0.00814223 | J62: 0.29607051 | K62: 0.21128007 | L62: 0.60571892 | M62: 2.910383e-17
E63: =Asset3 -> City Gates, supply regulators and valve stations | G63: 0.008947 | H63: 0 | I63: 0 | J63: 0 | K63: 0 | L63: 0 | M63: 0
...

Sheet Adjustment for previous period
B2: ='DMS input'!$C$16&" - Adjustment For Previous Period"&" - TNSP RFM - version "&Intro!$M$4 -> Carpentaria Gas Pipeline - Adjustment For Previous Period - TNSP RFM - version 1.1
B4: Year | G4: ='RFM input'!G60 -> 2015-16 | H4: ='RFM input'!H60 -> 2016-17 | I4: ='RFM input'!I60 -> 2017-18 | J4: ='RFM input'!J60 -> 2018-19 | K4: ='RFM input'!K60 -> 2019-20 | L4: ='RFM input'!L60 -> 2020-21 | M4: ='RFM input'!M60 -> 2021-22 | N4: ='RFM input'!N60 -> 2022-23 | ... Q4: ='RFM input'!Q60 -> 2025-26
B6: Actual CPI Inflation Rate | G6: ='RFM input'!G$385 -> 0.010232558 | H6: ='RFM input'!H$385 -> 0.019337017 | I6: ='RFM input'!I$385 -> 0.020776874 | J6: ='RFM input'!J$385 -> 0.015929204 | K6: ='RFM input'!K$385 -> -0.0034843206 | L6: ='RFM input'!L$385 -> 0.038461538 | M6: ='RFM input'!M$385 -> 0.061447811 | N6: ='RFM input'!N$385 -> 0 | ... Q6: ='RFM input'!Q$385 -> 0
B7: Actual CPI (one year lagged) | G7: ='RFM input'!G$386 -> 1 | H7: ='RFM input'!H$386 -> 1.0102326 | I7: ='RFM input'!I$386 -> 1.0297674 | J7: ='RFM input'!J$386 -> 1.0511628 | K7: ='RFM input'!K$386 -> 1.067907 | L7: ='RFM input'!L$386 -> 1.064186 | M7: ='RFM input'!M$386 -> 1.1051163 | N7: ='RFM input'!N$386 -> 1.1730233 | ... Q7: ='RFM input'!Q$386 -> 1.1730233
B8: Nominal Vanilla WACC (fixed real time varying) | H8: =vanilla1 -> 0.052373391 | I8: =vanilla2 -> 0.051966696 | J8: =vanilla3 -> 0.048326342 | K8: =vanilla4 -> 0.01895526 | L8: =vanilla5 -> 0.054185068 | M8: =vanilla6 -> 0.089868362 | N8: =vanilla7 -> -0.019607843 | O8: =vanilla8 -> -0.019607843 | P8: =vanilla9 -> -0.019607843 | Q8: =vanilla10 -> -0.019607843
B9: Real Vanilla WACC | H9: ='RFM input'!H$391 -> 0.032409668 | I9: ='RFM input'!I$391 -> 0.030554985 | J9: ='RFM input'!J$391 -> 0.031889169 | K9: ='RFM input'!K$391 -> 0.022518041 | L9: ='RFM input'!L$391 -> 0.015141176 | M9: ='RFM input'!M$391 -> 0.026775268 | N9: ='RFM input'!N$391 -> -0.019607843 | O9: ='RFM input'!O$391 -> -0.019607843 | ... Q9: ='RFM input'!Q$391 -> -0.019607843
B11: Nominal Adjustments for Difference Between Forecast and Actual Net Capex - As Incurred
B13: Nominal Forecast Net Capex (previous regulatory control period) | G13: =SUM(G14:G63) -> 3.3761324
C14: =Asset1 -> Pipelines | G14: ='RFM input'!M7 -> 0.28598169
C15: =Asset2 -> Compressors | G15: ='RFM input'!M8 -> 0.012516034
C16: =Asset3 -> City Gates, supply regulators and valve stations | G16: ='RFM input'!M9 -> 0.0091874124
C17: =Asset4 -> Metering | G17: ='RFM input'!M10 -> 0
C18: =Asset5 -> Odourant plants | G18: ='RFM input'!M11 -> 0
C19: =Asset6 -> SCADA (Communications) | G19: ='RFM input'!M12 -> 1.0594006
C20: =Asset7 -> Buildings | G20: ='RFM input'!M13 -> 0
C21: =Asset8 -> Land and easements | G21: ='RFM input'!M14 -> 0
C22: =Asset9 -> Other depreciable pipeline assets | G22: ='RFM input'!M15 -> 0.1068883
C23: =Asset10 -> IT Systems | G23: ='RFM input'!M16 -> 0.017759483
C24: =Asset11 -> Leased pipeline assets | G24: ='RFM input'!M17 -> 0
C25: =Asset12 -> Shared supporting assets | G25: ='RFM input'!M18 -> 1.8843988
C26: =Asset13 -> Shared leased assets | G26: ='RFM input'!M19 -> 0
C27: =Asset14 -> PMA - Buyout contract | G27: ='RFM input'!M20 -> 0
C28: =Asset15 -> 0 | G28: ='RFM input'!M21 -> 0
C29: =Asset16 -> 0 | G29: ='RFM input'!M22 -> 0
C30: =Asset17 -> 0 | G30: ='RFM input'!M23 -> 0
C31: =Asset18 -> 0 | G31: ='RFM input'!M24 -> 0
C32: =Asset19 -> 0 | G32: ='RFM input'!M25 -> 0
C33: =Asset20 -> 0 | G33: ='RFM input'!M26 -> 0
C34: =Asset21 -> 0 | G34: ='RFM input'!M27 -> 0
C35: =Asset22 -> 0 | G35: ='RFM input'!M28 -> 0
C36: =Asset23 -> 0 | G36: ='RFM input'!M29 -> 0
C37: =Asset24 -> 0 | G37: ='RFM input'!M30 -> 0
C38: =Asset25 -> 0 | G38: ='RFM input'!M31 -> 0
C39: =Asset26 -> 0 | G39: ='RFM input'!M32 -> 0
C40: =Asset27 -> 0 | G40: ='RFM input'!M33 -> 0
C41: =Asset28 -> 0 | G41: ='RFM input'!M34 -> 0
C42: =Asset29 -> 0 | G42: ='RFM input'!M35 -> 0
C43: =Asset30 -> 0 | G43: ='RFM input'!M36 -> 0
C44: =Asset31 -> 0 | G44: ='RFM input'!M37 -> 0
C45: =Asset32 -> 0 | G45: ='RFM input'!M38 -> 0
...

Sheet Capital base roll forward
C2: ='DMS input'!$C$16&" - Asset Roll Forward"&" - TNSP RFM - version "&Intro!$M$4 -> Carpentaria Gas Pipeline - Asset Roll Forward - TNSP RFM - version 1.1
G3: 0 | H3: =G3+1 -> 1 | I3: =H3+1 -> 2 | J3: =I3+1 -> 3 | K3: =J3+1 -> 4 | L3: =K3+1 -> 5 | M3: =L3+1 -> 6 | N3: =M3+1 -> 7 | O3: =N3+1 -> 8 | ... R3: =Q3+1 -> 11
C4: Year | G4: ='RFM input'!G60 -> 2015-16 | H4: ='RFM input'!H60 -> 2016-17 | I4: ='RFM input'!I60 -> 2017-18 | J4: ='RFM input'!J60 -> 2018-19 | K4: ='RFM input'!K60 -> 2019-20 | L4: ='RFM input'!L60 -> 2020-21 | M4: ='RFM input'!M60 -> 2021-22 | N4: ='RFM input'!N60 -> 2022-23 | ... Q4: ='RFM input'!Q60 -> 2025-26 | R4: =IF(LEN(Q4)>4,CONCATENATE(LEFT(Q4, 4)+1 &"-" &IF(Q4>"2007-08",,"0") &RIGHT(Q4,2)+1),Q4+1) -> 2026-27
C6: Actual CPI Inflation Rate | G6: ='RFM input'!G385 -> 0.010232558 | H6: ='RFM input'!H385 -> 0.019337017 | I6: ='RFM input'!I385 -> 0.020776874 | J6: ='RFM input'!J385 -> 0.015929204 | K6: ='RFM input'!K385 -> -0.0034843206 | L6: ='RFM input'!L385 -> 0.038461538 | M6: ='RFM input'!M385 -> 0.061447811 | N6: ='RFM input'!N385 -> 0 | ... Q6: ='RFM input'!Q385 -> 0
C7: Actual CPI (one year lagged) | G7: ='RFM input'!G386 -> 1 | H7: ='RFM input'!H386 -> 1.0102326 | I7: ='RFM input'!I386 -> 1.0297674 | J7: ='RFM input'!J386 -> 1.0511628 | K7: ='RFM input'!K386 -> 1.067907 | L7: ='RFM input'!L386 -> 1.064186 | M7: ='RFM input'!M386 -> 1.1051163 | N7: ='RFM input'!N386 -> 1.1730233 | ... Q7: ='RFM input'!Q386 -> 1.1730233
C9: ="Asset Values ($m Real "&G4&")" -> Asset Values ($m Real 2015-16)
C11: Real Actual Net Capex - As Incurred | H11: =SUM(H12:H61) -> 1.2156911 | I11: =SUM(I12:I61) -> 1.4273191 | J11: =SUM(J12:J61) -> 2.3797076 | K11: =SUM(K12:K61) -> 4.5980412 | L11: =SUM(L12:L61) -> 2.0565674 | M11: =SUM(M12:M61) -> 3.3902824 | N11: =SUM(N12:N61) -> 0 | O11: =SUM(O12:O61) -> 0 | ... Q11: =SUM(Q12:Q61) -> 0
D12: =Asset1 -> Pipelines | H12: ='RFM input'!H169*(1+vanilla1)^0.5 -> 0 | I12: ='RFM input'!I169*(1+vanilla2)^0.5 -> 0 | J12: ='RFM input'!J169*(1+vanilla3)^0.5 -> 0.016586 | K12: ='RFM input'!K169*(1+vanilla4)^0.5 -> 1.2555797 | L12: ='RFM input'!L169*(1+vanilla5)^0.5 -> 0.5959783 | M12: ='RFM input'!M169*(1+vanilla6)^0.5 -> 0 | N12: ='RFM input'!N169*(1+vanilla7)^0.5 -> 0 | O12: ='RFM input'!O169*(1+vanilla8)^0.5 -> 0 | P12: ='RFM input'!P169*(1+vanilla9)^0.5 -> 0 | Q12: ='RFM input'!Q169*(1+vanilla10)^0.5 -> 0
D13: =Asset2 -> Compressors | H13: ='RFM input'!H170*(1+vanilla1)^0.5 -> 0.59282815 | I13: ='RFM input'!I170*(1+vanilla2)^0.5 -> 0.0081097078 | J13: ='RFM input'!J170*(1+vanilla3)^0.5 -> 0.2883855 | K13: ='RFM input'!K170*(1+vanilla4)^0.5 -> 0.19971131 | L13: ='RFM input'!L170*(1+vanilla5)^0.5 -> 0.58440242 | M13: ='RFM input'!M170*(1+vanilla6)^0.5 -> 2.7493447e-17 | N13: ='RFM input'!N170*(1+vanilla7)^0.5 -> 0 | O13: ='RFM input'!O170*(1+vanilla8)^0.5 -> 0 | P13: ='RFM input'!P170*(1+vanilla9)^0.5 -> 0 | Q13: ='RFM input'!Q170*(1+vanilla10)^0.5 -> 0
D14: =Asset3 -> City Gates, supply regulators and valve stations | H14: ='RFM input'!H171*(1+vanilla1)^0.5 -> 0 | I14: ='RFM input'!I171*(1+vanilla2)^0.5 -> 0 | J14: ='RFM input'!J171*(1+vanilla3)^0.5 -> 0 | K14: ='RFM input'!K171*(1+vanilla4)^0.5 -> 0 | L14: ='RFM input'!L171*(1+vanilla5)^0.5 -> 0 | M14: ='RFM input'!M171*(1+vanilla6)^0.5 -> 0 | N14: ='RFM input'!N171*(1+vanilla7)^0.5 -> 0 | O14: ='RFM input'!O171*(1+vanilla8)^0.5 -> 0 | P14: ='RFM input'!P171*(1+vanilla9)^0.5 -> 0 | Q14: ='RFM input'!Q171*(1+vanilla10)^0.5 -> 0
D15: =Asset4 -> Metering | H15: ='RFM input'!H172*(1+vanilla1)^0.5 -> 0 | I15: ='RFM input'!I172*(1+vanilla2)^0.5 -> 0 | J15: ='RFM input'!J172*(1+vanilla3)^0.5 -> 0 | K15: ='RFM input'!K172*(1+vanilla4)^0.5 -> 0 | L15: ='RFM input'!L172*(1+vanilla5)^0.5 -> 0 | M15: ='RFM input'!M172*(1+vanilla6)^0.5 -> 0.39114156 | N15: ='RFM input'!N172*(1+vanilla7)^0.5 -> 0 | O15: ='RFM input'!O172*(1+vanilla8)^0.5 -> 0 | P15: ='RFM input'!P172*(1+vanilla9)^0.5 -> 0 | Q15: ='RFM input'!Q172*(1+vanilla10)^0.5 -> 0
D16: =Asset5 -> Odourant plants | H16: ='RFM input'!H173*(1+vanilla1)^0.5 -> 0 | I16: ='RFM input'!I173*(1+vanilla2)^0.5 -> 0 | J16: ='RFM input'!J173*(1+vanilla3)^0.5 -> 0 | K16: ='RFM input'!K173*(1+vanilla4)^0.5 -> 0 | L16: ='RFM input'!L173*(1+vanilla5)^0.5 -> 0 | M16: ='RFM input'!M173*(1+vanilla6)^0.5 -> 0 | N16: ='RFM input'!N173*(1+vanilla7)^0.5 -> 0 | O16: ='RFM input'!O173*(1+vanilla8)^0.5 -> 0 | P16: ='RFM input'!P173*(1+vanilla9)^0.5 -> 0 | Q16: ='RFM input'!Q173*(1+vanilla10)^0.5 -> 0
D17: =Asset6 -> SCADA (Communications) | H17: ='RFM input'!H174*(1+vanilla1)^0.5 -> 0.0040182329 | I17: ='RFM input'!I174*(1+vanilla2)^0.5 -> 0.07962775 | J17: ='RFM input'!J174*(1+vanilla3)^0.5 -> 0.34155604 | K17: ='RFM input'!K174*(1+vanilla4)^0.5 -> 0.22134898 | L17: ='RFM input'!L174*(1+vanilla5)^0.5 -> 0 | M17: ='RFM input'!M174*(1+vanilla6)^0.5 -> 0 | N17: ='RFM input'!N174*(1+vanilla7)^0.5 -> 0 | O17: ='RFM input'!O174*(1+vanilla8)^0.5 -> 0 | P17: ='RFM input'!P174*(1+vanilla9)^0.5 -> 0 | Q17: ='RFM input'!Q174*(1+vanilla10)^0.5 -> 0
D18: =Asset7 -> Buildings | H18: ='RFM input'!H175*(1+vanilla1)^0.5 -> 0 | I18: ='RFM input'!I175*(1+vanilla2)^0.5 -> 0 | J18: ='RFM input'!J175*(1+vanilla3)^0.5 -> 0 | K18: ='RFM input'!K175*(1+vanilla4)^0.5 -> 0 | L18: ='RFM input'!L175*(1+vanilla5)^0.5 -> 0 | M18: ='RFM input'!M175*(1+vanilla6)^0.5 -> 0 | N18: ='RFM input'!N175*(1+vanilla7)^0.5 -> 0 | O18: ='RFM input'!O175*(1+vanilla8)^0.5 -> 0 | P18: ='RFM input'!P175*(1+vanilla9)^0.5 -> 0 | Q18: ='RFM input'!Q175*(1+vanilla10)^0.5 -> 0
D19: =Asset8 -> Land and easements | H19: ='RFM input'!H176*(1+vanilla1)^0.5 -> 0 | I19: ='RFM input'!I176*(1+vanilla2)^0.5 -> 0 | J19: ='RFM input'!J176*(1+vanilla3)^0.5 -> 0 | K19: ='RFM input'!K176*(1+vanilla4)^0.5 -> 0 | L19: ='RFM input'!L176*(1+vanilla5)^0.5 -> 0 | M19: ='RFM input'!M176*(1+vanilla6)^0.5 -> 0 | N19: ='RFM input'!N176*(1+vanilla7)^0.5 -> 0 | O19: ='RFM input'!O176*(1+vanilla8)^0.5 -> 0 | P19: ='RFM input'!P176*(1+vanilla9)^0.5 -> 0 | Q19: ='RFM input'!Q176*(1+vanilla10)^0.5 -> 0
D20: =Asset9 -> Other depreciable pipeline assets | H20: ='RFM input'!H177*(1+vanilla1)^0.5 -> 0.013538563 | I20: ='RFM input'!I177*(1+vanilla2)^0.5 -> 0.34552993 | J20: ='RFM input'!J177*(1+vanilla3)^0.5 -> 0.19653694 | K20: ='RFM input'!K177*(1+vanilla4)^0.5 -> 0.090603618 | L20: ='RFM input'!L177*(1+vanilla5)^0.5 -> 0.078928236 | M20: ='RFM input'!M177*(1+vanilla6)^0.5 -> -0.1049229 | N20: ='RFM input'!N177*(1+vanilla7)^0.5 -> 0 | O20: ='RFM input'!O177*(1+vanilla8)^0.5 -> 0 | P20: ='RFM input'!P177*(1+vanilla9)^0.5 -> 0 | Q20: ='RFM input'!Q177*(1+vanilla10)^0.5 -> 0
D21: =Asset10 -> IT Systems | H21: ='RFM input'!H178*(1+vanilla1)^0.5 -> 0 | I21: ='RFM input'!I178*(1+vanilla2)^0.5 -> 0.0017280699 | J21: ='RFM input'!J178*(1+vanilla3)^0.5 -> 0 | K21: ='RFM input'!K178*(1+vanilla4)^0.5 -> 0.98087075 | L21: ='RFM input'!L178*(1+vanilla5)^0.5 -> 5.9162751e-09 | M21: ='RFM input'!M178*(1+vanilla6)^0.5 -> 0 | N21: ='RFM input'!N178*(1+vanilla7)^0.5 -> 0 | O21: ='RFM input'!O178*(1+vanilla8)^0.5 -> 0 | P21: ='RFM input'!P178*(1+vanilla9)^0.5 -> 0 | Q21: ='RFM input'!Q178*(1+vanilla10)^0.5 -> 0
D22: =Asset11 -> Leased pipeline assets | H22: ='RFM input'!H179*(1+vanilla1)^0.5 -> 0 | I22: ='RFM input'!I179*(1+vanilla2)^0.5 -> 0 | J22: ='RFM input'!J179*(1+vanilla3)^0.5 -> 0 | K22: ='RFM input'!K179*(1+vanilla4)^0.5 -> 0 | L22: ='RFM input'!L179*(1+vanilla5)^0.5 -> 0 | M22: ='RFM input'!M179*(1+vanilla6)^0.5 -> 0 | N22: ='RFM input'!N179*(1+vanilla7)^0.5 -> 0 | O22: ='RFM input'!O179*(1+vanilla8)^0.5 -> 0 | P22: ='RFM input'!P179*(1+vanilla9)^0.5 -> 0 | Q22: ='RFM input'!Q179*(1+vanilla10)^0.5 -> 0
D23: =Asset12 -> Shared supporting assets | H23: ='RFM input'!H180*(1+vanilla1)^0.5 -> 0.60530619 | I23: ='RFM input'!I180*(1+vanilla2)^0.5 -> 0.99232363 | J23: ='RFM input'!J180*(1+vanilla3)^0.5 -> 1.5366431 | K23: ='RFM input'!K180*(1+vanilla4)^0.5 -> 1.019113 | L23: ='RFM input'!L180*(1+vanilla5)^0.5 -> 0.60304034 | M23: ='RFM input'!M180*(1+vanilla6)^0.5 -> 2.8858022 | N23: ='RFM input'!N180*(1+vanilla7)^0.5 -> 0 | O23: ='RFM input'!O180*(1+vanilla8)^0.5 -> 0 | P23: ='RFM input'!P180*(1+vanilla9)^0.5 -> 0 | Q23: ='RFM input'!Q180*(1+vanilla10)^0.5 -> 0
D24: =Asset13 -> Shared leased assets | H24: ='RFM input'!H181*(1+vanilla1)^0.5 -> 0 | I24: ='RFM input'!I181*(1+vanilla2)^0.5 -> 0 | J24: ='RFM input'!J181*(1+vanilla3)^0.5 -> 0 | K24: ='RFM input'!K181*(1+vanilla4)^0.5 -> 0.83081384 | L24: ='RFM input'!L181*(1+vanilla5)^0.5 -> 0.19421811 | M24: ='RFM input'!M181*(1+vanilla6)^0.5 -> 0.21826155 | N24: ='RFM input'!N181*(1+vanilla7)^0.5 -> 0 | O24: ='RFM input'!O181*(1+vanilla8)^0.5 -> 0 | P24: ='RFM input'!P181*(1+vanilla9)^0.5 -> 0 | Q24: ='RFM input'!Q181*(1+vanilla10)^0.5 -> 0
D25: =Asset14 -> PMA - Buyout contract | H25: ='RFM input'!H182*(1+vanilla1)^0.5 -> 0 | I25: ='RFM input'!I182*(1+vanilla2)^0.5 -> 0 | J25: ='RFM input'!J182*(1+vanilla3)^0.5 -> 0 | K25: ='RFM input'!K182*(1+vanilla4)^0.5 -> 0 | L25: ='RFM input'!L182*(1+vanilla5)^0.5 -> 0 | M25: ='RFM input'!M182*(1+vanilla6)^0.5 -> 0 | N25: ='RFM input'!N182*(1+vanilla7)^0.5 -> 0 | O25: ='RFM input'!O182*(1+vanilla8)^0.5 -> 0 | P25: ='RFM input'!P182*(1+vanilla9)^0.5 -> 0 | Q25: ='RFM input'!Q182*(1+vanilla10)^0.5 -> 0
D26: =Asset15 -> 0 | H26: ='RFM input'!H183*(1+vanilla1)^0.5 -> 0 | I26: ='RFM input'!I183*(1+vanilla2)^0.5 -> 0 | J26: ='RFM input'!J183*(1+vanilla3)^0.5 -> 0 | K26: ='RFM input'!K183*(1+vanilla4)^0.5 -> 0 | L26: ='RFM input'!L183*(1+vanilla5)^0.5 -> 0 | M26: ='RFM input'!M183*(1+vanilla6)^0.5 -> 0 | N26: ='RFM input'!N183*(1+vanilla7)^0.5 -> 0 | O26: ='RFM input'!O183*(1+vanilla8)^0.5 -> 0 | P26: ='RFM input'!P183*(1+vanilla9)^0.5 -> 0 | Q26: ='RFM input'!Q183*(1+vanilla10)^0.5 -> 0
D27: =Asset16 -> 0 | H27: ='RFM input'!H184*(1+vanilla1)^0.5 -> 0 | I27: ='RFM input'!I184*(1+vanilla2)^0.5 -> 0 | J27: ='RFM input'!J184*(1+vanilla3)^0.5 -> 0 | K27: ='RFM input'!K184*(1+vanilla4)^0.5 -> 0 | L27: ='RFM input'!L184*(1+vanilla5)^0.5 -> 0 | M27: ='RFM input'!M184*(1+vanilla6)^0.5 -> 0 | N27: ='RFM input'!N184*(1+vanilla7)^0.5 -> 0 | O27: ='RFM input'!O184*(1+vanilla8)^0.5 -> 0 | P27: ='RFM input'!P184*(1+vanilla9)^0.5 -> 0 | Q27: ='RFM input'!Q184*(1+vanilla10)^0.5 -> 0
D28: =Asset17 -> 0 | H28: ='RFM input'!H185*(1+vanilla1)^0.5 -> 0 | I28: ='RFM input'!I185*(1+vanilla2)^0.5 -> 0 | J28: ='RFM input'!J185*(1+vanilla3)^0.5 -> 0 | K28: ='RFM input'!K185*(1+vanilla4)^0.5 -> 0 | L28: ='RFM input'!L185*(1+vanilla5)^0.5 -> 0 | M28: ='RFM input'!M185*(1+vanilla6)^0.5 -> 0 | N28: ='RFM input'!N185*(1+vanilla7)^0.5 -> 0 | O28: ='RFM input'!O185*(1+vanilla8)^0.5 -> 0 | P28: ='RFM input'!P185*(1+vanilla9)^0.5 -> 0 | Q28: ='RFM input'!Q185*(1+vanilla10)^0.5 -> 0
D29: =Asset18 -> 0 | H29: ='RFM input'!H186*(1+vanilla1)^0.5 -> 0 | I29: ='RFM input'!I186*(1+vanilla2)^0.5 -> 0 | J29: ='RFM input'!J186*(1+vanilla3)^0.5 -> 0 | K29: ='RFM input'!K186*(1+vanilla4)^0.5 -> 0 | L29: ='RFM input'!L186*(1+vanilla5)^0.5 -> 0 | M29: ='RFM input'!M186*(1+vanilla6)^0.5 -> 0 | N29: ='RFM input'!N186*(1+vanilla7)^0.5 -> 0 | O29: ='RFM input'!O186*(1+vanilla8)^0.5 -> 0 | P29: ='RFM input'!P186*(1+vanilla9)^0.5 -> 0 | Q29: ='RFM input'!Q186*(1+vanilla10)^0.5 -> 0
D30: =Asset19 -> 0 | H30: ='RFM input'!H187*(1+vanilla1)^0.5 -> 0 | I30: ='RFM input'!I187*(1+vanilla2)^0.5 -> 0 | J30: ='RFM input'!J187*(1+vanilla3)^0.5 -> 0 | K30: ='RFM input'!K187*(1+vanilla4)^0.5 -> 0 | L30: ='RFM input'!L187*(1+vanilla5)^0.5 -> 0 | M30: ='RFM input'!M187*(1+vanilla6)^0.5 -> 0 | N30: ='RFM input'!N187*(1+vanilla7)^0.5 -> 0 | O30: ='RFM input'!O187*(1+vanilla8)^0.5 -> 0 | P30: ='RFM input'!P187*(1+vanilla9)^0.5 -> 0 | Q30: ='RFM input'!Q187*(1+vanilla10)^0.5 -> 0
D31: =Asset20 -> 0 | H31: ='RFM input'!H188*(1+vanilla1)^0.5 -> 0 | I31: ='RFM input'!I188*(1+vanilla2)^0.5 -> 0 | J31: ='RFM input'!J188*(1+vanilla3)^0.5 -> 0 | K31: ='RFM input'!K188*(1+vanilla4)^0.5 -> 0 | L31: ='RFM input'!L188*(1+vanilla5)^0.5 -> 0 | M31: ='RFM input'!M188*(1+vanilla6)^0.5 -> 0 | N31: ='RFM input'!N188*(1+vanilla7)^0.5 -> 0 | O31: ='RFM input'!O188*(1+vanilla8)^0.5 -> 0 | P31: ='RFM input'!P188*(1+vanilla9)^0.5 -> 0 | Q31: ='RFM input'!Q188*(1+vanilla10)^0.5 -> 0
D32: =Asset21 -> 0 | H32: ='RFM input'!H189*(1+vanilla1)^0.5 -> 0 | I32: ='RFM input'!I189*(1+vanilla2)^0.5 -> 0 | J32: ='RFM input'!J189*(1+vanilla3)^0.5 -> 0 | K32: ='RFM input'!K189*(1+vanilla4)^0.5 -> 0 | L32: ='RFM input'!L189*(1+vanilla5)^0.5 -> 0 | M32: ='RFM input'!M189*(1+vanilla6)^0.5 -> 0 | N32: ='RFM input'!N189*(1+vanilla7)^0.5 -> 0 | O32: ='RFM input'!O189*(1+vanilla8)^0.5 -> 0 | P32: ='RFM input'!P189*(1+vanilla9)^0.5 -> 0 | Q32: ='RFM input'!Q189*(1+vanilla10)^0.5 -> 0
D33: =Asset22 -> 0 | H33: ='RFM input'!H190*(1+vanilla1)^0.5 -> 0 | I33: ='RFM input'!I190*(1+vanilla2)^0.5 -> 0 | J33: ='RFM input'!J190*(1+vanilla3)^0.5 -> 0 | K33: ='RFM input'!K190*(1+vanilla4)^0.5 -> 0 | L33: ='RFM input'!L190*(1+vanilla5)^0.5 -> 0 | M33: ='RFM input'!M190*(1+vanilla6)^0.5 -> 0 | N33: ='RFM input'!N190*(1+vanilla7)^0.5 -> 0 | O33: ='RFM input'!O190*(1+vanilla8)^0.5 -> 0 | P33: ='RFM input'!P190*(1+vanilla9)^0.5 -> 0 | Q33: ='RFM input'!Q190*(1+vanilla10)^0.5 -> 0
D34: =Asset23 -> 0 | H34: ='RFM input'!H191*(1+vanilla1)^0.5 -> 0 | I34: ='RFM input'!I191*(1+vanilla2)^0.5 -> 0 | J34: ='RFM input'!J191*(1+vanilla3)^0.5 -> 0 | K34: ='RFM input'!K191*(1+vanilla4)^0.5 -> 0 | L34: ='RFM input'!L191*(1+vanilla5)^0.5 -> 0 | M34: ='RFM input'!M191*(1+vanilla6)^0.5 -> 0 | N34: ='RFM input'!N191*(1+vanilla7)^0.5 -> 0 | O34: ='RFM input'!O191*(1+vanilla8)^0.5 -> 0 | P34: ='RFM input'!P191*(1+vanilla9)^0.5 -> 0 | Q34: ='RFM input'!Q191*(1+vanilla10)^0.5 -> 0
D35: =Asset24 -> 0 | H35: ='RFM input'!H192*(1+vanilla1)^0.5 -> 0 | I35: ='RFM input'!I192*(1+vanilla2)^0.5 -> 0 | J35: ='RFM input'!J192*(1+vanilla3)^0.5 -> 0 | K35: ='RFM input'!K192*(1+vanilla4)^0.5 -> 0 | L35: ='RFM input'!L192*(1+vanilla5)^0.5 -> 0 | M35: ='RFM input'!M192*(1+vanilla6)^0.5 -> 0 | N35: ='RFM input'!N192*(1+vanilla7)^0.5 -> 0 | O35: ='RFM input'!O192*(1+vanilla8)^0.5 -> 0 | P35: ='RFM input'!P192*(1+vanilla9)^0.5 -> 0 | Q35: ='RFM input'!Q192*(1+vanilla10)^0.5 -> 0
D36: =Asset25 -> 0 | H36: ='RFM input'!H193*(1+vanilla1)^0.5 -> 0 | I36: ='RFM input'!I193*(1+vanilla2)^0.5 -> 0 | J36: ='RFM input'!J193*(1+vanilla3)^0.5 -> 0 | K36: ='RFM input'!K193*(1+vanilla4)^0.5 -> 0 | L36: ='RFM input'!L193*(1+vanilla5)^0.5 -> 0 | M36: ='RFM input'!M193*(1+vanilla6)^0.5 -> 0 | N36: ='RFM input'!N193*(1+vanilla7)^0.5 -> 0 | O36: ='RFM input'!O193*(1+vanilla8)^0.5 -> 0 | P36: ='RFM input'!P193*(1+vanilla9)^0.5 -> 0 | Q36: ='RFM input'!Q193*(1+vanilla10)^0.5 -> 0
D37: =Asset26 -> 0 | H37: ='RFM input'!H194*(1+vanilla1)^0.5 -> 0 | I37: ='RFM input'!I194*(1+vanilla2)^0.5 -> 0 | J37: ='RFM input'!J194*(1+vanilla3)^0.5 -> 0 | K37: ='RFM input'!K194*(1+vanilla4)^0.5 -> 0 | L37: ='RFM input'!L194*(1+vanilla5)^0.5 -> 0 | M37: ='RFM input'!M194*(1+vanilla6)^0.5 -> 0 | N37: ='RFM input'!N194*(1+vanilla7)^0.5 -> 0 | O37: ='RFM input'!O194*(1+vanilla8)^0.5 -> 0 | P37: ='RFM input'!P194*(1+vanilla9)^0.5 -> 0 | Q37: ='RFM input'!Q194*(1+vanilla10)^0.5 -> 0
D38: =Asset27 -> 0 | H38: ='RFM input'!H195*(1+vanilla1)^0.5 -> 0 | I38: ='RFM input'!I195*(1+vanilla2)^0.5 -> 0 | J38: ='RFM input'!J195*(1+vanilla3)^0.5 -> 0 | K38: ='RFM input'!K195*(1+vanilla4)^0.5 -> 0 | L38: ='RFM input'!L195*(1+vanilla5)^0.5 -> 0 | M38: ='RFM input'!M195*(1+vanilla6)^0.5 -> 0 | N38: ='RFM input'!N195*(1+vanilla7)^0.5 -> 0 | O38: ='RFM input'!O195*(1+vanilla8)^0.5 -> 0 | P38: ='RFM input'!P195*(1+vanilla9)^0.5 -> 0 | Q38: ='RFM input'!Q195*(1+vanilla10)^0.5 -> 0
D39: =Asset28 -> 0 | H39: ='RFM input'!H196*(1+vanilla1)^0.5 -> 0 | I39: ='RFM input'!I196*(1+vanilla2)^0.5 -> 0 | J39: ='RFM input'!J196*(1+vanilla3)^0.5 -> 0 | K39: ='RFM input'!K196*(1+vanilla4)^0.5 -> 0 | L39: ='RFM input'!L196*(1+vanilla5)^0.5 -> 0 | M39: ='RFM input'!M196*(1+vanilla6)^0.5 -> 0 | N39: ='RFM input'!N196*(1+vanilla7)^0.5 -> 0 | O39: ='RFM input'!O196*(1+vanilla8)^0.5 -> 0 | P39: ='RFM input'!P196*(1+vanilla9)^0.5 -> 0 | Q39: ='RFM input'!Q196*(1+vanilla10)^0.5 -> 0
D40: =Asset29 -> 0 | H40: ='RFM input'!H197*(1+vanilla1)^0.5 -> 0 | I40: ='RFM input'!I197*(1+vanilla2)^0.5 -> 0 | J40: ='RFM input'!J197*(1+vanilla3)^0.5 -> 0 | K40: ='RFM input'!K197*(1+vanilla4)^0.5 -> 0 | L40: ='RFM input'!L197*(1+vanilla5)^0.5 -> 0 | M40: ='RFM input'!M197*(1+vanilla6)^0.5 -> 0 | N40: ='RFM input'!N197*(1+vanilla7)^0.5 -> 0 | O40: ='RFM input'!O197*(1+vanilla8)^0.5 -> 0 | P40: ='RFM input'!P197*(1+vanilla9)^0.5 -> 0 | Q40: ='RFM input'!Q197*(1+vanilla10)^0.5 -> 0
D41: =Asset30 -> 0 | H41: ='RFM input'!H198*(1+vanilla1)^0.5 -> 0 | I41: ='RFM input'!I198*(1+vanilla2)^0.5 -> 0 | J41: ='RFM input'!J198*(1+vanilla3)^0.5 -> 0 | K41: ='RFM input'!K198*(1+vanilla4)^0.5 -> 0 | L41: ='RFM input'!L198*(1+vanilla5)^0.5 -> 0 | M41: ='RFM input'!M198*(1+vanilla6)^0.5 -> 0 | N41: ='RFM input'!N198*(1+vanilla7)^0.5 -> 0 | O41: ='RFM input'!O198*(1+vanilla8)^0.5 -> 0 | P41: ='RFM input'!P198*(1+vanilla9)^0.5 -> 0 | Q41: ='RFM input'!Q198*(1+vanilla10)^0.5 -> 0
D42: =Asset31 -> 0 | H42: ='RFM input'!H199*(1+vanilla1)^0.5 -> 0 | I42: ='RFM input'!I199*(1+vanilla2)^0.5 -> 0 | J42: ='RFM input'!J199*(1+vanilla3)^0.5 -> 0 | K42: ='RFM input'!K199*(1+vanilla4)^0.5 -> 0 | L42: ='RFM input'!L199*(1+vanilla5)^0.5 -> 0 | M42: ='RFM input'!M199*(1+vanilla6)^0.5 -> 0 | N42: ='RFM input'!N199*(1+vanilla7)^0.5 -> 0 | O42: ='RFM input'!O199*(1+vanilla8)^0.5 -> 0 | P42: ='RFM input'!P199*(1+vanilla9)^0.5 -> 0 | Q42: ='RFM input'!Q199*(1+vanilla10)^0.5 -> 0
D43: =Asset32 -> 0 | H43: ='RFM input'!H200*(1+vanilla1)^0.5 -> 0 | I43: ='RFM input'!I200*(1+vanilla2)^0.5 -> 0 | J43: ='RFM input'!J200*(1+vanilla3)^0.5 -> 0 | K43: ='RFM input'!K200*(1+vanilla4)^0.5 -> 0 | L43: ='RFM input'!L200*(1+vanilla5)^0.5 -> 0 | M43: ='RFM input'!M200*(1+vanilla6)^0.5 -> 0 | N43: ='RFM input'!N200*(1+vanilla7)^0.5 -> 0 | O43: ='RFM input'!O200*(1+vanilla8)^0.5 -> 0 | P43: ='RFM input'!P200*(1+vanilla9)^0.5 -> 0 | Q43: ='RFM input'!Q200*(1+vanilla10)^0.5 -> 0
D44: =Asset33 -> 0 | H44: ='RFM input'!H201*(1+vanilla1)^0.5 -> 0 | I44: ='RFM input'!I201*(1+vanilla2)^0.5 -> 0 | J44: ='RFM input'!J201*(1+vanilla3)^0.5 -> 0 | K44: ='RFM input'!K201*(1+vanilla4)^0.5 -> 0 | L44: ='RFM input'!L201*(1+vanilla5)^0.5 -> 0 | M44: ='RFM input'!M201*(1+vanilla6)^0.5 -> 0 | N44: ='RFM input'!N201*(1+vanilla7)^0.5 -> 0 | O44: ='RFM input'!O201*(1+vanilla8)^0.5 -> 0 | P44: ='RFM input'!P201*(1+vanilla9)^0.5 -> 0 | Q44: ='RFM input'!Q201*(1+vanilla10)^0.5 -> 0
...

Sheet Total capital base roll forward
C2: ='DMS input'!$C$16&" - Total Asset Roll Forward"&" - TNSP RFM - version "&Intro!$M$4 -> Carpentaria Gas Pipeline - Total Asset Roll Forward - TNSP RFM - version 1.1
G3: 0 | H3: =G3+1 -> 1 | I3: =H3+1 -> 2 | J3: =I3+1 -> 3 | K3: =J3+1 -> 4 | L3: =K3+1 -> 5 | M3: =L3+1 -> 6
C4: Year | G4: ='RFM input'!G60 -> 2015-16 | H4: ='RFM input'!H60 -> 2016-17 | I4: ='RFM input'!I60 -> 2017-18 | J4: ='RFM input'!J60 -> 2018-19 | K4: ='RFM input'!K60 -> 2019-20 | L4: ='RFM input'!L60 -> 2020-21 | M4: ='RFM input'!M60 -> 2021-22 | N4: ='RFM input'!N60 -> 2022-23 | ... Q4: ='RFM input'!Q60 -> 2025-26
C5: Asset Values – Partially As Incurred ($m Nominal)
C7: Nominal Opening Capital Base | G7: =SUM(G8:G57) -> 321.62766 | H7: =SUM(H8:H57) -> 317.93338 | I7: =SUM(I8:I57) -> 315.28598 | J7: =SUM(J8:J57) -> 313.28203 | K7: =SUM(K8:K57) -> 310.45164 | L7: =SUM(L8:L57) -> 303.42945 | M7: =SUM(M8:M57) -> 309.06946 | N7: =SUM(N8:N57) -> 323.32461 | ... Q7: =SUM(Q8:Q57) -> 296.02112
D8: =Asset1 -> Pipelines | G8: ='Capital base roll forward'!G770 -> 239.56529 | H8: =G8+G60+G112+G164+G216+G268 -> 238.35232 | I8: =H8+H60+H112 -> 239.09124 | J8: =IF(COUNT($H8:I8)>='RFM input'!$AA$7,0,I8+I60+I112) -> 240.11387 | K8: =IF(COUNT($H8:J8)>='RFM input'!$AA$7,0,J8+J60+J112) -> 239.92922 | L8: =IF(COUNT($H8:K8)>='RFM input'!$AA$7,0,K8+K60+K112) -> 236.34281 | M8: =IF(COUNT($H8:L8)>='RFM input'!$AA$7,0,L8+L60+L112) -> 241.97343 | N8: =IF(COUNT($H8:M8)>='RFM input'!$AA$7,0,M8+M60+M112) -> 252.58276 | O8: =IF(COUNT($H8:N8)>='RFM input'!$AA$7,0,N8+N60+N112) -> 248.06163 | P8: =IF(COUNT($H8:O8)>='RFM input'!$AA$7,0,O8+O60+O112) -> 243.5405 | Q8: =IF(COUNT($H8:P8)>='RFM input'!$AA$7,0,P8+P60+P112) -> 239.01937
D9: =Asset2 -> Compressors | G9: ='Capital base roll forward'!G771 -> 44.311963 | H9: =G9+G61+G113+G165+G217+G269 -> 43.128645 | I9: =H9+H61+H113 -> 42.929876 | J9: =IF(COUNT($H9:I9)>='RFM input'!$AA$7,0,I9+I61+I113) -> 42.14954 | K9: =IF(COUNT($H9:J9)>='RFM input'!$AA$7,0,J9+J61+J113) -> 41.40829 | L9: =IF(COUNT($H9:K9)>='RFM input'!$AA$7,0,K9+K61+K113) -> 39.725355 | M9: =IF(COUNT($H9:L9)>='RFM input'!$AA$7,0,L9+L61+L113) -> 40.12327 | N9: =IF(COUNT($H9:M9)>='RFM input'!$AA$7,0,M9+M61+M113) -> 40.751028 | O9: =IF(COUNT($H9:N9)>='RFM input'!$AA$7,0,N9+N61+N113) -> 38.800374 | P9: =IF(COUNT($H9:O9)>='RFM input'!$AA$7,0,O9+O61+O113) -> 36.84972 | Q9: =IF(COUNT($H9:P9)>='RFM input'!$AA$7,0,P9+P61+P113) -> 34.899067
D10: =Asset3 -> City Gates, supply regulators and valve stations | G10: ='Capital base roll forward'!G772 -> 0.1110144 | H10: =G10+G62+G114+G166+G218+G270 -> 0.11871237 | I10: =H10+H62+H114 -> 0.11826738 | J10: =IF(COUNT($H10:I10)>='RFM input'!$AA$7,0,I10+I62+I114) -> 0.11793109 | K10: =IF(COUNT($H10:J10)>='RFM input'!$AA$7,0,J10+J62+J114) -> 0.11695807 | L10: =IF(COUNT($H10:K10)>='RFM input'!$AA$7,0,K10+K62+K114) -> 0.11365357 | M10: =IF(COUNT($H10:L10)>='RFM input'!$AA$7,0,L10+L62+L114) -> 0.11513797 | N10: =IF(COUNT($H10:M10)>='RFM input'!$AA$7,0,M10+M62+M114) -> 0.11921502 | O10: =IF(COUNT($H10:N10)>='RFM input'!$AA$7,0,N10+N62+N114) -> 0.11603288 | P10: =IF(COUNT($H10:O10)>='RFM input'!$AA$7,0,O10+O62+O114) -> 0.11285074 | Q10: =IF(COUNT($H10:P10)>='RFM input'!$AA$7,0,P10+P62+P114) -> 0.10966859
