Workbook
Name _bookmark23: 'Tariff Schedule'!#REF!
Name OLE_LINK1: 'Tariff Schedule'!#REF!

Sheet GST Excl
B2: APA VTS TUoS Reference Tariffs: Applicable from 1/1/2026 to 31/12/2026
B3: Tariffs are GST exclusive & do not include AEMO charges.
E5: Delivery Charges | I5: Matched Delivery Charges | N5: Injection Charges (top-10 winter MDQ at source)
E6: Annual Volume | J6: Annual Volume | N6: 101 | O6: 103 | P6: 105 | Q6: 109 | R6: 107/111 | S6: 108 | T6: 110
E7: Tariff-D | F7: Tariff-V | I7: Injected at | J7: Tariff-D | K7: Tariff-V | N7: Longford | O7: Culcairn | P7: Iona | Q7: Pakenham | R7: VicHub/ | S7: SEAGas | T7: OtwayGas
R8: TasHub
B10: Transmission | E10: $/GJ | F10: $/GJ | J10: $/GJ | K10: $/GJ | N10: $/GJ | O10: $/GJ | P10: $/GJ | Q10: $/GJ | R10: $/GJ | S10: $/GJ | T10: $/GJ
B11: Supply Point Tariff :
B13: 1 | C13: LaTrobe | E13: 0.2268 | F13: 0.2256 | N13: 0.3708 | O13: 1.6927 | P13: 2.5041 | Q13: 0.2847 | R13: 0.3708 | S13: 2.5041 | T13: 2.5041
B14: 2 | C14: West Gippsland | E14: 0.28 | F14: 0.3121 | N14: 1.0588 | O14: 1.6927 | P14: 2.5041 | Q14: 0.2847 | R14: 1.0588 | S14: 2.5041 | T14: 2.5041
B15: 3 | C15: Lurgi | E15: 0.3332 | F15: 0.3986 | N15: 0.5367 | O15: 1.6927 | P15: 2.5041 | Q15: 0.2847 | R15: 0.5367 | S15: 2.5041 | T15: 2.5041
B16: 4 | C16: Metro North West | E16: 0.5253 | F16: 0.6037 | N16: 2.5721 | O16: 1.6927 | P16: 2.5041 | Q16: 0.2847 | R16: 2.5721 | S16: 2.5041 | T16: 2.5041
B17: 5 | C17: Calder | E17: 1.0654 | F17: 1.3434 | N17: 2.5721 | O17: 1.6927 | P17: 2.5041 | Q17: 0.2847 | R17: 2.5721 | S17: 2.5041 | T17: 2.5041
B18: 6 | C18: South Hume | E18: 0.4144 | F18: 0.4969 | N18: 2.5721 | O18: 1.6927 | P18: 2.5041 | Q18: 0.2847 | R18: 2.5721 | S18: 2.5041 | T18: 2.5041
B19: 7 | C19: Echuca | E19: 0.896 | F19: 1.5048 | N19: 2.5721 | O19: 1.6927 | P19: 2.5041 | Q19: 0.2847 | R19: 2.5721 | S19: 2.5041 | T19: 2.5041
B20: 8 | C20: North Hume | E20: 1.062 | F20: 1.4138 | I20: Culcairn | J20: 0.4491 | K20: 0.59 | N20: 2.5721 | O20: 1.6927 | P20: 2.5041 | Q20: 0.2847 | R20: 2.5721 | S20: 2.5041 | T20: 2.5041
B21: 9 | C21: Western | E21: 1.0118 | F21: 1.5091 | N21: 2.5721 | O21: 1.6927 | P21: 0 | Q21: 0.2847 | R21: 2.5721 | S21: 0 | T21: 0
B22: 10 | C22: Murray Valley | E22: 0.9677 | F22: 1.1202 | N22: 2.5721 | O22: 1.6927 | P22: 2.5041 | Q22: 0.2847 | R22: 2.5721 | S22: 2.5041 | T22: 2.5041
B23: 11 | C23: Interconnect | E23: 1.0982 | F23: 1.0982 | I23: Culcairn | J23: 0.2254 | K23: 0.2254 | N23: 2.5721 | O23: 0.3584 | P23: 2.5041 | Q23: 0.2847 | R23: 2.5721 | S23: 2.5041 | T23: 2.5041
B24: 13 | C24: South West | E24: 0.2254 | F24: 0.2255 | N24: 2.5721 | O24: 1.6927 | P24: 0.917 | Q24: 0.2847 | R24: 2.5721 | S24: 0.917 | T24: 0.917
B25: 17 | C25: Wodonga | E25: 1.198 | F25: 2.0405 | I25: Culcairn | J25: 0.2622 | K25: 0.2939 | N25: 2.5721 | O25: 1.6927 | P25: 2.5041 | Q25: 0.2847 | R25: 2.5721 | S25: 2.5041 | T25: 2.5041
B26: 18 | C26: Tyers | E26: 0.2758 | F26: 0.2863 | N26: 0.5367 | O26: 1.6927 | P26: 2.5041 | Q26: 0.2847 | R26: 0.5367 | S26: 2.5041 | T26: 2.5041
B27: 19 | C27: NSW Export | E27: 1.0182 | F27: n/a | N27: 2.5721 | O27: 1.6927 | P27: 2.5041 | Q27: 0.2847 | R27: 2.5721 | S27: 2.5041 | T27: 2.5041
B28: 20 | C28: Metro South East | E28: 0.5253 | F28: 0.6037 | I28: Pakenham | J28: 0.2033 | K28: 0.2283 | N28: 2.5721 | O28: 1.6927 | P28: 2.5041 | Q28: 0.2847 | R28: 2.5721 | S28: 2.5041 | T28: 2.5041
B29: 21 | C29: Warrnambool | E29: 0.1368 | F29: 0.2296 | N29: 2.5721 | O29: 1.6927 | P29: 2.5041 | Q29: 0.2847 | R29: 2.5721 | S29: 2.5041 | T29: 2.5041
B30: 22 | C30: Koroit | E30: 0.2872 | F30: 0.8624 | N30: 2.5721 | O30: 1.6927 | P30: 2.5041 | Q30: 0.2847 | R30: 2.5721 | S30: 2.5041 | T30: 2.5041
B31: 23 | C31: Refill LNG | E31: 0.0713 | F31: n/a | N31: 2.5721 | O31: 1.6927 | P31: 2.5041 | Q31: 0.2847 | R31: 2.5721 | S31: 2.5041 | T31: 2.5041
B32: 24 | C32: Geelong | E32: 0.3455 | F32: 0.4104 | N32: 2.5721 | O32: 1.6927 | P32: 2.5041 | Q32: 0.2847 | R32: 2.5721 | S32: 2.5041 | T32: 2.5041
B33: 25 | C33: Maryvale | E33: 0.0774 | F33: n/a | N33: 0.3708 | O33: 1.6927 | P33: 2.5041 | Q33: 0.2847 | R33: 0.3708 | S33: 2.5041 | T33: 2.5041
B34: 31 | C34: VicHub | E34: 0 | F34: n/a | I34: Longford | J34: 0 | K34: n/a | N34: 2.5721 | O34: 1.6927 | P34: 2.5041 | Q34: 0.2847 | R34: 2.5721 | S34: 2.5041 | T34: 2.5041
B35: 32 | C35: Refill WUGS | E35: 0.1044 | F35: n/a | N35: 2.5721 | O35: 1.6927 | P35: 2.5041 | Q35: 0.2847 | R35: 2.5721 | S35: 2.5041 | T35: 2.5041
B36: 33 | C36: SEAGas | E36: 0.028 | F36: n/a | I36: Iona | J36: 0 | K36: n/a | N36: 2.5721 | O36: 1.6927 | P36: 0 | Q36: 0.2847 | R36: 2.5721 | S36: 0 | T36: 0
B37: 34 | C37: Otway Gas | E37: 0.028 | F37: n/a | I37: Iona | J37: 0 | K37: n/a | N37: 2.5721 | O37: 1.6927 | P37: 0 | Q37: 0.2847 | R37: 2.5721 | S37: 0 | T37: 0
B40: Cross System (incremental) : | E40: 0.2674 | F40: 0.3395 | M40: AMDQ Credit Certificate (Port Campbell, Culcairn & Pakenham Injection Zones) | T40: 0
M41: (Injection Tariff, $/GJ, for the 10 Day Injection Volume)

Sheet GST Incl
B2: ='GST Excl'!B2 -> APA VTS TUoS Reference Tariffs: Applicable from 1/1/2026 to 31/12/2026
B3: Tariffs are GST inclusive & do not include AEMO charges.
E5: Delivery Charges | I5: Matched Delivery Charges | N5: Injection Charges (top-10 winter MDQ at source)
E6: Annual Volume | J6: Annual Volume | N6: 101 | O6: 103 | P6: 105 | Q6: 109 | R6: 107/111 | S6: 108 | T6: 110
E7: Tariff-D | F7: Tariff-V | I7: Injected at | J7: Tariff-D | K7: Tariff-V | N7: Longford | O7: Culcairn | P7: Iona | Q7: Pakenham | R7: VicHub/ | S7: SEAGas | T7: OtwayGas
R8: TasHub
B10: Transmission | E10: $/GJ | F10: $/GJ | J10: $/GJ | K10: $/GJ | N10: $/GJ | O10: $/GJ | P10: $/GJ | Q10: $/GJ | R10: $/GJ | S10: $/GJ | T10: $/GJ
B11: Supply Point Tariff :
B13: 1 | C13: LaTrobe | E13: =ROUND('GST Excl'!E13*1.1,4) -> 0.2495 | F13: =ROUND('GST Excl'!F13*1.1,4) -> 0.2482 | N13: =ROUND('GST Excl'!N13*1.1,4) -> 0.4079 | O13: =ROUND('GST Excl'!O13*1.1,4) -> 1.862 | P13: =ROUND('GST Excl'!P13*1.1,4) -> 2.7545 | Q13: =ROUND('GST Excl'!Q13*1.1,4) -> 0.3132 | R13: =ROUND('GST Excl'!R13*1.1,4) -> 0.4079 | S13: =ROUND('GST Excl'!S13*1.1,4) -> 2.7545 | T13: =ROUND('GST Excl'!T13*1.1,4) -> 2.7545
B14: 2 | C14: West Gippsland | E14: =ROUND('GST Excl'!E14*1.1,4) -> 0.308 | F14: =ROUND('GST Excl'!F14*1.1,4) -> 0.3433 | N14: =ROUND('GST Excl'!N14*1.1,4) -> 1.1647 | O14: =ROUND('GST Excl'!O14*1.1,4) -> 1.862 | P14: =ROUND('GST Excl'!P14*1.1,4) -> 2.7545 | Q14: =ROUND('GST Excl'!Q14*1.1,4) -> 0.3132 | R14: =ROUND('GST Excl'!R14*1.1,4) -> 1.1647 | S14: =ROUND('GST Excl'!S14*1.1,4) -> 2.7545 | T14: =ROUND('GST Excl'!T14*1.1,4) -> 2.7545
B15: 3 | C15: Lurgi | E15: =ROUND('GST Excl'!E15*1.1,4) -> 0.3665 | F15: =ROUND('GST Excl'!F15*1.1,4) -> 0.4385 | N15: =ROUND('GST Excl'!N15*1.1,4) -> 0.5904 | O15: =ROUND('GST Excl'!O15*1.1,4) -> 1.862 | P15: =ROUND('GST Excl'!P15*1.1,4) -> 2.7545 | Q15: =ROUND('GST Excl'!Q15*1.1,4) -> 0.3132 | R15: =ROUND('GST Excl'!R15*1.1,4) -> 0.5904 | S15: =ROUND('GST Excl'!S15*1.1,4) -> 2.7545 | T15: =ROUND('GST Excl'!T15*1.1,4) -> 2.7545
B16: 4 | C16: Metro North West | E16: =ROUND('GST Excl'!E16*1.1,4) -> 0.5778 | F16: =ROUND('GST Excl'!F16*1.1,4) -> 0.6641 | N16: =ROUND('GST Excl'!N16*1.1,4) -> 2.8293 | O16: =ROUND('GST Excl'!O16*1.1,4) -> 1.862 | P16: =ROUND('GST Excl'!P16*1.1,4) -> 2.7545 | Q16: =ROUND('GST Excl'!Q16*1.1,4) -> 0.3132 | R16: =ROUND('GST Excl'!R16*1.1,4) -> 2.8293 | S16: =ROUND('GST Excl'!S16*1.1,4) -> 2.7545 | T16: =ROUND('GST Excl'!T16*1.1,4) -> 2.7545
B17: 5 | C17: Calder | E17: =ROUND('GST Excl'!E17*1.1,4) -> 1.1719 | F17: =ROUND('GST Excl'!F17*1.1,4) -> 1.4777 | N17: =ROUND('GST Excl'!N17*1.1,4) -> 2.8293 | O17: =ROUND('GST Excl'!O17*1.1,4) -> 1.862 | P17: =ROUND('GST Excl'!P17*1.1,4) -> 2.7545 | Q17: =ROUND('GST Excl'!Q17*1.1,4) -> 0.3132 | R17: =ROUND('GST Excl'!R17*1.1,4) -> 2.8293 | S17: =ROUND('GST Excl'!S17*1.1,4) -> 2.7545 | T17: =ROUND('GST Excl'!T17*1.1,4) -> 2.7545
B18: 6 | C18: South Hume | E18: =ROUND('GST Excl'!E18*1.1,4) -> 0.4558 | F18: =ROUND('GST Excl'!F18*1.1,4) -> 0.5466 | N18: =ROUND('GST Excl'!N18*1.1,4) -> 2.8293 | O18: =ROUND('GST Excl'!O18*1.1,4) -> 1.862 | P18: =ROUND('GST Excl'!P18*1.1,4) -> 2.7545 | Q18: =ROUND('GST Excl'!Q18*1.1,4) -> 0.3132 | R18: =ROUND('GST Excl'!R18*1.1,4) -> 2.8293 | S18: =ROUND('GST Excl'!S18*1.1,4) -> 2.7545 | T18: =ROUND('GST Excl'!T18*1.1,4) -> 2.7545
B19: 7 | C19: Echuca | E19: =ROUND('GST Excl'!E19*1.1,4) -> 0.9856 | F19: =ROUND('GST Excl'!F19*1.1,4) -> 1.6553 | N19: =ROUND('GST Excl'!N19*1.1,4) -> 2.8293 | O19: =ROUND('GST Excl'!O19*1.1,4) -> 1.862 | P19: =ROUND('GST Excl'!P19*1.1,4) -> 2.7545 | Q19: =ROUND('GST Excl'!Q19*1.1,4) -> 0.3132 | R19: =ROUND('GST Excl'!R19*1.1,4) -> 2.8293 | S19: =ROUND('GST Excl'!S19*1.1,4) -> 2.7545 | T19: =ROUND('GST Excl'!T19*1.1,4) -> 2.7545
B20: 8 | C20: North Hume | E20: =ROUND('GST Excl'!E20*1.1,4) -> 1.1682 | F20: =ROUND('GST Excl'!F20*1.1,4) -> 1.5552 | I20: Culcairn | J20: =ROUND('GST Excl'!J20*1.1,4) -> 0.494 | K20: =ROUND('GST Excl'!K20*1.1,4) -> 0.649 | N20: =ROUND('GST Excl'!N20*1.1,4) -> 2.8293 | O20: =ROUND('GST Excl'!O20*1.1,4) -> 1.862 | P20: =ROUND('GST Excl'!P20*1.1,4) -> 2.7545 | Q20: =ROUND('GST Excl'!Q20*1.1,4) -> 0.3132 | R20: =ROUND('GST Excl'!R20*1.1,4) -> 2.8293 | S20: =ROUND('GST Excl'!S20*1.1,4) -> 2.7545 | T20: =ROUND('GST Excl'!T20*1.1,4) -> 2.7545
B21: 9 | C21: Western | E21: =ROUND('GST Excl'!E21*1.1,4) -> 1.113 | F21: =ROUND('GST Excl'!F21*1.1,4) -> 1.66 | N21: =ROUND('GST Excl'!N21*1.1,4) -> 2.8293 | O21: =ROUND('GST Excl'!O21*1.1,4) -> 1.862 | P21: =ROUND('GST Excl'!P21*1.1,4) -> 0 | Q21: =ROUND('GST Excl'!Q21*1.1,4) -> 0.3132 | R21: =ROUND('GST Excl'!R21*1.1,4) -> 2.8293 | S21: =ROUND('GST Excl'!S21*1.1,4) -> 0 | T21: =ROUND('GST Excl'!T21*1.1,4) -> 0
B22: 10 | C22: Murray Valley | E22: =ROUND('GST Excl'!E22*1.1,4) -> 1.0645 | F22: =ROUND('GST Excl'!F22*1.1,4) -> 1.2322 | N22: =ROUND('GST Excl'!N22*1.1,4) -> 2.8293 | O22: =ROUND('GST Excl'!O22*1.1,4) -> 1.862 | P22: =ROUND('GST Excl'!P22*1.1,4) -> 2.7545 | Q22: =ROUND('GST Excl'!Q22*1.1,4) -> 0.3132 | R22: =ROUND('GST Excl'!R22*1.1,4) -> 2.8293 | S22: =ROUND('GST Excl'!S22*1.1,4) -> 2.7545 | T22: =ROUND('GST Excl'!T22*1.1,4) -> 2.7545
B23: 11 | C23: Interconnect | E23: =ROUND('GST Excl'!E23*1.1,4) -> 1.208 | F23: =ROUND('GST Excl'!F23*1.1,4) -> 1.208 | I23: Culcairn | J23: =ROUND('GST Excl'!J23*1.1,4) -> 0.2479 | K23: ='GST Excl'!K23 -> 0.2254 | N23: =ROUND('GST Excl'!N23*1.1,4) -> 2.8293 | O23: =ROUND('GST Excl'!O23*1.1,4) -> 0.3942 | P23: =ROUND('GST Excl'!P23*1.1,4) -> 2.7545 | Q23: =ROUND('GST Excl'!Q23*1.1,4) -> 0.3132 | R23: =ROUND('GST Excl'!R23*1.1,4) -> 2.8293 | S23: =ROUND('GST Excl'!S23*1.1,4) -> 2.7545 | T23: =ROUND('GST Excl'!T23*1.1,4) -> 2.7545
B24: 13 | C24: South West | E24: =ROUND('GST Excl'!E24*1.1,4) -> 0.2479 | F24: =ROUND('GST Excl'!F24*1.1,4) -> 0.2481 | N24: =ROUND('GST Excl'!N24*1.1,4) -> 2.8293 | O24: =ROUND('GST Excl'!O24*1.1,4) -> 1.862 | P24: =ROUND('GST Excl'!P24*1.1,4) -> 1.0087 | Q24: =ROUND('GST Excl'!Q24*1.1,4) -> 0.3132 | R24: =ROUND('GST Excl'!R24*1.1,4) -> 2.8293 | S24: =ROUND('GST Excl'!S24*1.1,4) -> 1.0087 | T24: =ROUND('GST Excl'!T24*1.1,4) -> 1.0087
B25: 17 | C25: Wodonga | E25: =ROUND('GST Excl'!E25*1.1,4) -> 1.3178 | F25: =ROUND('GST Excl'!F25*1.1,4) -> 2.2446 | I25: Culcairn | J25: =ROUND('GST Excl'!J25*1.1,4) -> 0.2884 | K25: =ROUND('GST Excl'!K25*1.1,4) -> 0.3233 | N25: =ROUND('GST Excl'!N25*1.1,4) -> 2.8293 | O25: =ROUND('GST Excl'!O25*1.1,4) -> 1.862 | P25: =ROUND('GST Excl'!P25*1.1,4) -> 2.7545 | Q25: =ROUND('GST Excl'!Q25*1.1,4) -> 0.3132 | R25: =ROUND('GST Excl'!R25*1.1,4) -> 2.8293 | S25: =ROUND('GST Excl'!S25*1.1,4) -> 2.7545 | T25: =ROUND('GST Excl'!T25*1.1,4) -> 2.7545
B26: 18 | C26: Tyers | E26: =ROUND('GST Excl'!E26*1.1,4) -> 0.3034 | F26: =ROUND('GST Excl'!F26*1.1,4) -> 0.3149 | N26: =ROUND('GST Excl'!N26*1.1,4) -> 0.5904 | O26: =ROUND('GST Excl'!O26*1.1,4) -> 1.862 | P26: =ROUND('GST Excl'!P26*1.1,4) -> 2.7545 | Q26: =ROUND('GST Excl'!Q26*1.1,4) -> 0.3132 | R26: =ROUND('GST Excl'!R26*1.1,4) -> 0.5904 | S26: =ROUND('GST Excl'!S26*1.1,4) -> 2.7545 | T26: =ROUND('GST Excl'!T26*1.1,4) -> 2.7545
B27: 19 | C27: NSW Export | E27: =ROUND('GST Excl'!E27*1.1,4) -> 1.12 | F27: n/a | N27: =ROUND('GST Excl'!N27*1.1,4) -> 2.8293 | O27: =ROUND('GST Excl'!O27*1.1,4) -> 1.862 | P27: =ROUND('GST Excl'!P27*1.1,4) -> 2.7545 | Q27: =ROUND('GST Excl'!Q27*1.1,4) -> 0.3132 | R27: =ROUND('GST Excl'!R27*1.1,4) -> 2.8293 | S27: =ROUND('GST Excl'!S27*1.1,4) -> 2.7545 | T27: =ROUND('GST Excl'!T27*1.1,4) -> 2.7545
B28: 20 | C28: Metro South East | E28: =ROUND('GST Excl'!E28*1.1,4) -> 0.5778 | F28: =ROUND('GST Excl'!F28*1.1,4) -> 0.6641 | I28: Pakenham | J28: =ROUND('GST Excl'!J28*1.1,4) -> 0.2236 | K28: =ROUND('GST Excl'!K28*1.1,4) -> 0.2511 | N28: =ROUND('GST Excl'!N28*1.1,4) -> 2.8293 | O28: =ROUND('GST Excl'!O28*1.1,4) -> 1.862 | P28: =ROUND('GST Excl'!P28*1.1,4) -> 2.7545 | Q28: =ROUND('GST Excl'!Q28*1.1,4) -> 0.3132 | R28: =ROUND('GST Excl'!R28*1.1,4) -> 2.8293 | S28: =ROUND('GST Excl'!S28*1.1,4) -> 2.7545 | T28: =ROUND('GST Excl'!T28*1.1,4) -> 2.7545
B29: 21 | C29: Warrnambool | E29: =ROUND('GST Excl'!E29*1.1,4) -> 0.1505 | F29: =ROUND('GST Excl'!F29*1.1,4) -> 0.2526 | N29: =ROUND('GST Excl'!N29*1.1,4) -> 2.8293 | O29: =ROUND('GST Excl'!O29*1.1,4) -> 1.862 | P29: =ROUND('GST Excl'!P29*1.1,4) -> 2.7545 | Q29: =ROUND('GST Excl'!Q29*1.1,4) -> 0.3132 | R29: =ROUND('GST Excl'!R29*1.1,4) -> 2.8293 | S29: =ROUND('GST Excl'!S29*1.1,4) -> 2.7545 | T29: =ROUND('GST Excl'!T29*1.1,4) -> 2.7545
B30: 22 | C30: Koroit | E30: =ROUND('GST Excl'!E30*1.1,4) -> 0.3159 | F30: =ROUND('GST Excl'!F30*1.1,4) -> 0.9486 | N30: =ROUND('GST Excl'!N30*1.1,4) -> 2.8293 | O30: =ROUND('GST Excl'!O30*1.1,4) -> 1.862 | P30: =ROUND('GST Excl'!P30*1.1,4) -> 2.7545 | Q30: =ROUND('GST Excl'!Q30*1.1,4) -> 0.3132 | R30: =ROUND('GST Excl'!R30*1.1,4) -> 2.8293 | S30: =ROUND('GST Excl'!S30*1.1,4) -> 2.7545 | T30: =ROUND('GST Excl'!T30*1.1,4) -> 2.7545
B31: 23 | C31: Refill LNG | E31: =ROUND('GST Excl'!E31*1.1,4) -> 0.0784 | F31: n/a | N31: =ROUND('GST Excl'!N31*1.1,4) -> 2.8293 | O31: =ROUND('GST Excl'!O31*1.1,4) -> 1.862 | P31: =ROUND('GST Excl'!P31*1.1,4) -> 2.7545 | Q31: =ROUND('GST Excl'!Q31*1.1,4) -> 0.3132 | R31: =ROUND('GST Excl'!R31*1.1,4) -> 2.8293 | S31: =ROUND('GST Excl'!S31*1.1,4) -> 2.7545 | T31: =ROUND('GST Excl'!T31*1.1,4) -> 2.7545
B32: 24 | C32: Geelong | E32: =ROUND('GST Excl'!E32*1.1,4) -> 0.3801 | F32: =ROUND('GST Excl'!F32*1.1,4) -> 0.4514 | N32: =ROUND('GST Excl'!N32*1.1,4) -> 2.8293 | O32: =ROUND('GST Excl'!O32*1.1,4) -> 1.862 | P32: =ROUND('GST Excl'!P32*1.1,4) -> 2.7545 | Q32: =ROUND('GST Excl'!Q32*1.1,4) -> 0.3132 | R32: =ROUND('GST Excl'!R32*1.1,4) -> 2.8293 | S32: =ROUND('GST Excl'!S32*1.1,4) -> 2.7545 | T32: =ROUND('GST Excl'!T32*1.1,4) -> 2.7545
B33: 25 | C33: Maryvale | E33: =ROUND('GST Excl'!E33*1.1,4) -> 0.0851 | F33: n/a | N33: =ROUND('GST Excl'!N33*1.1,4) -> 0.4079 | O33: =ROUND('GST Excl'!O33*1.1,4) -> 1.862 | P33: =ROUND('GST Excl'!P33*1.1,4) -> 2.7545 | Q33: =ROUND('GST Excl'!Q33*1.1,4) -> 0.3132 | R33: =ROUND('GST Excl'!R33*1.1,4) -> 0.4079 | S33: =ROUND('GST Excl'!S33*1.1,4) -> 2.7545 | T33: =ROUND('GST Excl'!T33*1.1,4) -> 2.7545
B34: 31 | C34: VicHub | E34: =ROUND('GST Excl'!E34*1.1,4) -> 0 | F34: n/a | I34: Longford | J34: =ROUND('GST Excl'!J34*1.1,4) -> 0 | K34: n/a | N34: =ROUND('GST Excl'!N34*1.1,4) -> 2.8293 | O34: =ROUND('GST Excl'!O34*1.1,4) -> 1.862 | P34: =ROUND('GST Excl'!P34*1.1,4) -> 2.7545 | Q34: =ROUND('GST Excl'!Q34*1.1,4) -> 0.3132 | R34: =ROUND('GST Excl'!R34*1.1,4) -> 2.8293 | S34: =ROUND('GST Excl'!S34*1.1,4) -> 2.7545 | T34: =ROUND('GST Excl'!T34*1.1,4) -> 2.7545
B35: 32 | C35: Refill WUGS | E35: =ROUND('GST Excl'!E35*1.1,4) -> 0.1148 | F35: n/a | N35: =ROUND('GST Excl'!N35*1.1,4) -> 2.8293 | O35: =ROUND('GST Excl'!O35*1.1,4) -> 1.862 | P35: =ROUND('GST Excl'!P35*1.1,4) -> 2.7545 | Q35: =ROUND('GST Excl'!Q35*1.1,4) -> 0.3132 | R35: =ROUND('GST Excl'!R35*1.1,4) -> 2.8293 | S35: =ROUND('GST Excl'!S35*1.1,4) -> 2.7545 | T35: =ROUND('GST Excl'!T35*1.1,4) -> 2.7545
B36: 33 | C36: SEAGas | E36: =ROUND('GST Excl'!E36*1.1,4) -> 0.0308 | F36: n/a | I36: Iona | J36: =ROUND('GST Excl'!J36*1.1,4) -> 0 | K36: n/a | N36: =ROUND('GST Excl'!N36*1.1,4) -> 2.8293 | O36: =ROUND('GST Excl'!O36*1.1,4) -> 1.862 | P36: =ROUND('GST Excl'!P36*1.1,4) -> 0 | Q36: =ROUND('GST Excl'!Q36*1.1,4) -> 0.3132 | R36: =ROUND('GST Excl'!R36*1.1,4) -> 2.8293 | S36: =ROUND('GST Excl'!S36*1.1,4) -> 0 | T36: =ROUND('GST Excl'!T36*1.1,4) -> 0
B37: 34 | C37: Otway Gas | E37: =ROUND('GST Excl'!E37*1.1,4) -> 0.0308 | F37: n/a | I37: Iona | J37: =ROUND('GST Excl'!J37*1.1,4) -> 0 | K37: n/a | N37: =ROUND('GST Excl'!N37*1.1,4) -> 2.8293 | O37: =ROUND('GST Excl'!O37*1.1,4) -> 1.862 | P37: =ROUND('GST Excl'!P37*1.1,4) -> 0 | Q37: =ROUND('GST Excl'!Q37*1.1,4) -> 0.3132 | R37: =ROUND('GST Excl'!R37*1.1,4) -> 2.8293 | S37: =ROUND('GST Excl'!S37*1.1,4) -> 0 | T37: =ROUND('GST Excl'!T37*1.1,4) -> 0
B40: Cross System (incremental) : | E40: =ROUND('GST Excl'!E40*1.1,4) -> 0.2941 | F40: =ROUND('GST Excl'!F40*1.1,4) -> 0.3735

Sheet Tariff Schedule
