Workbook
Name \0: #REF!
Name \A: #REF!
Name \B: #REF!
Name \C: #REF!
Name \M: #REF!
Name ________LUT1: #REF!
Name ______UAG99: #REF!
Name _____cpi1: #REF!
Name _____CPI2: #REF!
Name _____IRR1: #REF!
Name _____LUT1: #REF!
Name _____NPV1: #REF!
Name _____UAG99: #REF!
Name ____cpi1: #REF!
Name ____CPI2: #REF!
Name ____IRR1: #REF!
Name ____IZS2: #REF!
Name ____LUT1: #REF!
Name ____May08: #REF!
Name ____NPV1: #REF!
Name ____NPV2: #REF!
Name ____TB1: #REF!
Name ____UAG99: #REF!
Name ___cpi1: #REF!
Name ___CPI2: #REF!
Name ___INDEX_SHEET___ASAP_Utilities: #REF!
Name ___IRR1: #REF!
Name ___IZS2: #REF!
Name ___LUT1: #REF!
Name ___May08: #REF!
Name ___NPV1: #REF!
Name ___NPV2: #REF!
Name ___TB1: #REF!
Name ___Tot220: #REF!
Name ___Tot237: #REF!
Name ___Tot257: #REF!
Name ___Tot258: #REF!
Name ___UAG99: #REF!
Name __A66444: #REF!
Name __cpi1: #REF!
Name __CPI2: #REF!
Name __IRR1: #REF!
Name __IZS2: #REF!
Name __JUN09: #REF!
Name __LUT1: #REF!
Name __May08: #REF!
Name __MAY09: #REF!
Name __NPV1: #REF!
Name __NPV2: #REF!
Name __PL1: #REF!
Name __TB1: #REF!
Name __Tot221: #REF!
Name __Tot232: #REF!
Name __UAG99: #REF!
Name _0020: #REF!
Name _0030: #REF!
Name _0270: #REF!
Name _0672A001: #REF!
Name _0700: #REF!
Name _0701: #REF!

Sheet Cover
A1: Gas Pipeline Operator
A2: Reporting template
A4: This template is to be uploaded by a Gas Pipeline Operator to its website to fulfil its annual reporting obligations.
A6: Colour coding of input sheets:
A7: Dark cyan = ERA instructions/headings
A8: Yellow = Input cells
A9: Grey - Not applicable/No inputs required
A11: Leave coloured cells blank if no information exists - PLEASE DO NOT ENTER TEXT unless specifically requested to do so.
A12: All dollar amounts are to be unrounded, and in nominal terms.
A15: Service provider: | C15: Southern Cross Pipelines Australia Pty Limited
A17: Australian business number: | C17: 64 084 521 997
A19: Pipeline name: | C19: Kalgoorlie Kambalda Pipeline
A21: Reporting period start date: | C21: 45108
A23: Reporting period end date: | C23: 45473
A25: Date opening RAB established | C25: 35247
A27: Publication date of this report: | C27: 45596
A29: Reported information is current at: | C29: 45473
A31: Has any information in this template been amended since last published within this current reporting period? | C31: No | F31: Basis of preparation reference
A34: Business address | B34: Address | D34: Level 25, 580 George Street
B35: Suburb | D35: Sydney
C36: State | D36: NSW | E36: Postcode | F36: 2000
A38: Postal address | B38: Address | D38: PO Box R41
B39: Suburb | D39: Sydney
C40: State | D40: NSW | E40: Postcode | F40: 1225
A43: Contact name/s | B43: Andrew Nairn (General Manager Investor Relations)
A44: Contact phone/s | B44: +61 (03) 8416 2887
A45: Contact email address/s | B45: APARegReporting@apa.com.au

Sheet Contents
E3: Table of contents

Sheet 1. Pipeline information
B1: Pipeline information
B2: =Tradingname -> Southern Cross Pipelines Australia Pty Limited
B3: Year ending | C3: =Yearending -> 45473
B5: Table 1.1: Pipeline details
B7: Pipeline location | C7: Western Australia
B8: Pipeline length (km) | C8: 44
B9: Number of customers | C9: 1
B10: Service type | C10: Transmission
B12: Table 1.2: Pipeline services provided
B14: Service description | C14: Provided to non related parties | D14: Provided to related parties
B15: Transportation services
B16: Firm forward haul transportation service | C16: Yes | D16: No
B17: Interruptible or as available transportation service | C17: Yes | D17: No
B18: Backhaul services | C18: No | D18: No
B19: Stand-alone compression services
B20: Firm stand-alone compression service | C20: No | D20: No
B21: Interruptible or as available stand-alone compression service | C21: No | D21: No
B22: Storage services
B23: Park services | C23: No | D23: No
B24: Park and loan services | C24: No | D24: No
B25: Trading services
B26: Capacity trading service | C26: No | D26: No
B27: In pipe trading service | C27: No | D27: No
B28: Other (please specify)
B29: other service (insert description)
B30: other service (insert description)
B31: other service (insert description)
B32: other service (insert description)
B33: other service (insert description)
B34: other service (insert description)
B35: other service (insert description)
B36: other service (insert description)

Sheet 1.1 Financial summary
B1: Financial Summary
B2: =Tradingname -> Southern Cross Pipelines Australia Pty Limited
B3: Year ending | C3: =Yearending -> 45473
B5: Table 1.1.1 Financial Summary
B7: Year | D7: =YEAR(Cover!$C$25)-1&"-"&RIGHT(YEAR(Cover!$C$25),2) -> 1995-96 | E7: =YEAR(Cover!$C$25)&"-"&RIGHT(YEAR(Cover!$C$25)+1,2) -> 1996-97 | F7: =YEAR(Cover!$C$25)+1&"-"&RIGHT(YEAR(Cover!$C$25)+2,2) -> 1997-98 | G7: =YEAR(Cover!$C$25)+2&"-"&RIGHT(YEAR(Cover!$C$25)+3,2) -> 1998-99 | H7: =YEAR(Cover!$C$25)+3&"-"&RIGHT(YEAR(Cover!$C$25)+4,2) -> 1999-00 | I7: =YEAR(Cover!$C$25)+4&"-"&RIGHT(YEAR(Cover!$C$25)+5,2) -> 2000-01 | J7: =YEAR(Cover!$C$25)+5&"-"&RIGHT(YEAR(Cover!$C$25)+6,2) -> 2001-02 | K7: =YEAR(Cover!$C$25)+6&"-"&RIGHT(YEAR(Cover!$C$25)+7,2) -> 2002-03 | L7: =YEAR(Cover!$C$25)+7&"-"&RIGHT(YEAR(Cover!$C$25)+8,2) -> 2003-04 | M7: =YEAR(Cover!$C$25)+8&"-"&RIGHT(YEAR(Cover!$C$25)+9,2) -> 2004-05 | N7: =YEAR(Cover!$C$25)+9&"-"&RIGHT(YEAR(Cover!$C$25)+10,2) -> 2005-06 | O7: =YEAR(Cover!$C$25)+10&"-"&RIGHT(YEAR(Cover!$C$25)+11,2) -> 2006-07 | P7: =YEAR(Cover!$C$25)+11&"-"&RIGHT(YEAR(Cover!$C$25)+12,2) -> 2007-08 | Q7: =YEAR(Cover!$C$25)+12&"-"&RIGHT(YEAR(Cover!$C$25)+13,2) -> 2008-09 | R7: =YEAR(Cover!$C$25)+13&"-"&RIGHT(YEAR(Cover!$C$25)+14,2) -> 2009-10 | S7: =YEAR(Cover!$C$25)+14&"-"&RIGHT(YEAR(Cover!$C$25)+15,2) -> 2010-11 | T7: =YEAR(Cover!$C$25)+15&"-"&RIGHT(YEAR(Cover!$C$25)+16,2) -> 2011-12 | U7: =YEAR(Cover!$C$25)+16&"-"&RIGHT(YEAR(Cover!$C$25)+17,2) -> 2012-13 | V7: =YEAR(Cover!$C$25)+17&"-"&RIGHT(YEAR(Cover!$C$25)+18,2) -> 2013-14 | W7: =YEAR(Cover!$C$25)+18&"-"&RIGHT(YEAR(Cover!$C$25)+19,2) -> 2014-15 | X7: =YEAR(Cover!$C$25)+19&"-"&RIGHT(YEAR(Cover!$C$25)+20,2) -> 2015-16 | Y7: =YEAR(Cover!$C$25)+20&"-"&RIGHT(YEAR(Cover!$C$25)+21,2) -> 2016-17 | Z7: =YEAR(Cover!$C$25)+21&"-"&RIGHT(YEAR(Cover!$C$25)+22,2) -> 2017-18 | AA7: =YEAR(Cover!$C$25)+22&"-"&RIGHT(YEAR(Cover!$C$25)+23,2) -> 2018-19 | AB7: =YEAR(Cover!$C$25)+23&"-"&RIGHT(YEAR(Cover!$C$25)+24,2) -> 2019-20 | AC7: =YEAR(Cover!$C$25)+24&"-"&RIGHT(YEAR(Cover!$C$25)+25,2) -> 2020-21 | AD7: =YEAR(Cover!$C$25)+25&"-"&RIGHT(YEAR(Cover!$C$25)+26,2) -> 2021-22 | AE7: =YEAR(Cover!$C$25)+26&"-"&RIGHT(YEAR(Cover!$C$25)+27,2) -> 2022-23 | AF7: =YEAR(Cover!$C$21)&"-"&RIGHT(YEAR(Cover!$C$23),2) -> 2023-24
B8: Inputs | C8: Guideline Reference
B9: CPI | C9: Section 1.5.2 | D9: ='3. Statement of pipeline assets'!D93 -> 0 | E9: ='3. Statement of pipeline assets'!E93 -> 0.0033388982 | F9: ='3. Statement of pipeline assets'!F93 -> 0.006655574 | G9: ='3. Statement of pipeline assets'!G93 -> 0.010743802 | H9: ='3. Statement of pipeline assets'!H93 -> 0.031888798 | I9: ='3. Statement of pipeline assets'!I93 -> 0.06022187 | J9: ='3. Statement of pipeline assets'!J93 -> 0.028400598 | K9: ='3. Statement of pipeline assets'!K93 -> 0.026889535 | ... AF9: ='3. Statement of pipeline assets'!AF93 -> 0.038145101
B10: Nominal WACC | C10: Section 6 | E10: 0.142775 | F10: 0.12501 | G10: 0.109395 | H10: 0.10676 | I10: 0.106345 | J10: 0.0938675 | K10: 0.08967 | L10: 0.0775275 | M10: 0.092045 | N10: 0.0850125 | O10: 0.0887775 | P10: 0.1046475 | Q10: 0.1084675 | R10: 0.0982675 | S10: 0.0958625 | T10: 0.09355 | U10: 0.07354 | V10: 0.0753125 | W10: 0.077025 | X10: 0.0698775 | Y10: 0.0571875 | Z10: 0.055494416 | AA10: 0.05716995 | AB10: 0.04577 | AC10: 0.035444 | AD10: 0.047310774 | AE10: 0.054609329 | AF10: 0.069946703
B11: Opening Asset Base ($m, Nominal) - RAB value | C11: Section 4 | D11: =('3. Statement of pipeline assets'!D13+'3. Statement of pipeline assets'!D20+'3. Statement of pipeline assets'!D26+'3. Statement of pipeline assets'!D32+'3. Statement of pipeline assets'!D38+'3. Statement of pipeline assets'!D44+'3. Statement of pipeline assets'!D50+'3. Statement of pipeline assets'!D56+'3. Statement of pipeline assets'!D62+'3. Statement of pipeline assets'!D68+'3. Statement of pipeline assets'!D76+'3. Statement of pipeline assets'!D82+'3. Statement of pipeline assets'!D88)/1000000 -> 0 | E11: =('3. Statement of pipeline assets'!E13+'3. Statement of pipeline assets'!E20+'3. Statement of pipeline assets'!E26+'3. Statement of pipeline assets'!E32+'3. Statement of pipeline assets'!E38+'3. Statement of pipeline assets'!E44+'3. Statement of pipeline assets'!E50+'3. Statement of pipeline assets'!E56+'3. Statement of pipeline assets'!E62+'3. Statement of pipeline assets'!E68+'3. Statement of pipeline assets'!E76+'3. Statement of pipeline assets'!E82+'3. Statement of pipeline assets'!E88)/1000000 -> 0 | F11: =('3. Statement of pipeline assets'!F13+'3. Statement of pipeline assets'!F20+'3. Statement of pipeline assets'!F26+'3. Statement of pipeline assets'!F32+'3. Statement of pipeline assets'!F38+'3. Statement of pipeline assets'!F44+'3. Statement of pipeline assets'!F50+'3. Statement of pipeline assets'!F56+'3. Statement of pipeline assets'!F62+'3. Statement of pipeline assets'!F68+'3. Statement of pipeline assets'!F76+'3. Statement of pipeline assets'!F82+'3. Statement of pipeline assets'!F88)/1000000 -> 12.709613 | G11: =('3. Statement of pipeline assets'!G13+'3. Statement of pipeline assets'!G20+'3. Statement of pipeline assets'!G26+'3. Statement of pipeline assets'!G32+'3. Statement of pipeline assets'!G38+'3. Statement of pipeline assets'!G44+'3. Statement of pipeline assets'!G50+'3. Statement of pipeline assets'!G56+'3. Statement of pipeline assets'!G62+'3. Statement of pipeline assets'!G68+'3. Statement of pipeline assets'!G76+'3. Statement of pipeline assets'!G82+'3. Statement of pipeline assets'!G88)/1000000 -> 12.634802 | H11: =('3. Statement of pipeline assets'!H13+'3. Statement of pipeline assets'!H20+'3. Statement of pipeline assets'!H26+'3. Statement of pipeline assets'!H32+'3. Statement of pipeline assets'!H38+'3. Statement of pipeline assets'!H44+'3. Statement of pipeline assets'!H50+'3. Statement of pipeline assets'!H56+'3. Statement of pipeline assets'!H62+'3. Statement of pipeline assets'!H68+'3. Statement of pipeline assets'!H76+'3. Statement of pipeline assets'!H82+'3. Statement of pipeline assets'!H88)/1000000 -> 12.610086 | I11: =('3. Statement of pipeline assets'!I13+'3. Statement of pipeline assets'!I20+'3. Statement of pipeline assets'!I26+'3. Statement of pipeline assets'!I32+'3. Statement of pipeline assets'!I38+'3. Statement of pipeline assets'!I44+'3. Statement of pipeline assets'!I50+'3. Statement of pipeline assets'!I56+'3. Statement of pipeline assets'!I62+'3. Statement of pipeline assets'!I68+'3. Statement of pipeline assets'!I76+'3. Statement of pipeline assets'!I82+'3. Statement of pipeline assets'!I88)/1000000 -> 12.855127 | J11: =('3. Statement of pipeline assets'!J13+'3. Statement of pipeline assets'!J20+'3. Statement of pipeline assets'!J26+'3. Statement of pipeline assets'!J32+'3. Statement of pipeline assets'!J38+'3. Statement of pipeline assets'!J44+'3. Statement of pipeline assets'!J50+'3. Statement of pipeline assets'!J56+'3. Statement of pipeline assets'!J62+'3. Statement of pipeline assets'!J68+'3. Statement of pipeline assets'!J76+'3. Statement of pipeline assets'!J82+'3. Statement of pipeline assets'!J88)/1000000 -> 13.462704 | K11: =('3. Statement of pipeline assets'!K13+'3. Statement of pipeline assets'!K20+'3. Statement of pipeline assets'!K26+'3. Statement of pipeline assets'!K32+'3. Statement of pipeline assets'!K38+'3. Statement of pipeline assets'!K44+'3. Statement of pipeline assets'!K50+'3. Statement of pipeline assets'!K56+'3. Statement of pipeline assets'!K62+'3. Statement of pipeline assets'!K68+'3. Statement of pipeline assets'!K76+'3. Statement of pipeline assets'!K82+'3. Statement of pipeline assets'!K88)/1000000 -> 13.713365 | ... AF11: =('3. Statement of pipeline assets'!AF13+'3. Statement of pipeline assets'!AF20+'3. Statement of pipeline assets'!AF26+'3. Statement of pipeline assets'!AF32+'3. Statement of pipeline assets'!AF38+'3. Statement of pipeline assets'!AF44+'3. Statement of pipeline assets'!AF50+'3. Statement of pipeline assets'!AF56+'3. Statement of pipeline assets'!AF62+'3. Statement of pipeline assets'!AF68+'3. Statement of pipeline assets'!AF76+'3. Statement of pipeline assets'!AF82+'3. Statement of pipeline assets'!AF88)/1000000 -> 18.936073
B12: Capex ($m, Nominal) | C12: Section 3 | D12: =('3. Statement of pipeline assets'!D14+'3. Statement of pipeline assets'!D21+'3. Statement of pipeline assets'!D27+'3. Statement of pipeline assets'!D33+'3. Statement of pipeline assets'!D39+'3. Statement of pipeline assets'!D45+'3. Statement of pipeline assets'!D51+'3. Statement of pipeline assets'!D57+'3. Statement of pipeline assets'!D63+'3. Statement of pipeline assets'!D69+'3. Statement of pipeline assets'!D77+'3. Statement of pipeline assets'!D83+'3. Statement of pipeline assets'!D89)/1000000 -> 0 | E12: =('3. Statement of pipeline assets'!E14+'3. Statement of pipeline assets'!E21+'3. Statement of pipeline assets'!E27+'3. Statement of pipeline assets'!E33+'3. Statement of pipeline assets'!E39+'3. Statement of pipeline assets'!E45+'3. Statement of pipeline assets'!E51+'3. Statement of pipeline assets'!E57+'3. Statement of pipeline assets'!E63+'3. Statement of pipeline assets'!E69+'3. Statement of pipeline assets'!E77+'3. Statement of pipeline assets'!E83+'3. Statement of pipeline assets'!E89)/1000000 -> 12.709613 | F12: =('3. Statement of pipeline assets'!F14+'3. Statement of pipeline assets'!F21+'3. Statement of pipeline assets'!F27+'3. Statement of pipeline assets'!F33+'3. Statement of pipeline assets'!F39+'3. Statement of pipeline assets'!F45+'3. Statement of pipeline assets'!F51+'3. Statement of pipeline assets'!F57+'3. Statement of pipeline assets'!F63+'3. Statement of pipeline assets'!F69+'3. Statement of pipeline assets'!F77+'3. Statement of pipeline assets'!F83+'3. Statement of pipeline assets'!F89)/1000000 -> 0 | G12: =('3. Statement of pipeline assets'!G14+'3. Statement of pipeline assets'!G21+'3. Statement of pipeline assets'!G27+'3. Statement of pipeline assets'!G33+'3. Statement of pipeline assets'!G39+'3. Statement of pipeline assets'!G45+'3. Statement of pipeline assets'!G51+'3. Statement of pipeline assets'!G57+'3. Statement of pipeline assets'!G63+'3. Statement of pipeline assets'!G69+'3. Statement of pipeline assets'!G77+'3. Statement of pipeline assets'!G83+'3. Statement of pipeline assets'!G89)/1000000 -> 0 | H12: =('3. Statement of pipeline assets'!H14+'3. Statement of pipeline assets'!H21+'3. Statement of pipeline assets'!H27+'3. Statement of pipeline assets'!H33+'3. Statement of pipeline assets'!H39+'3. Statement of pipeline assets'!H45+'3. Statement of pipeline assets'!H51+'3. Statement of pipeline assets'!H57+'3. Statement of pipeline assets'!H63+'3. Statement of pipeline assets'!H69+'3. Statement of pipeline assets'!H77+'3. Statement of pipeline assets'!H83+'3. Statement of pipeline assets'!H89)/1000000 -> 0.0051062343 | I12: =('3. Statement of pipeline assets'!I14+'3. Statement of pipeline assets'!I21+'3. Statement of pipeline assets'!I27+'3. Statement of pipeline assets'!I33+'3. Statement of pipeline assets'!I39+'3. Statement of pipeline assets'!I45+'3. Statement of pipeline assets'!I51+'3. Statement of pipeline assets'!I57+'3. Statement of pipeline assets'!I63+'3. Statement of pipeline assets'!I69+'3. Statement of pipeline assets'!I77+'3. Statement of pipeline assets'!I83+'3. Statement of pipeline assets'!I89)/1000000 -> 0.00083973838 | J12: =('3. Statement of pipeline assets'!J14+'3. Statement of pipeline assets'!J21+'3. Statement of pipeline assets'!J27+'3. Statement of pipeline assets'!J33+'3. Statement of pipeline assets'!J39+'3. Statement of pipeline assets'!J45+'3. Statement of pipeline assets'!J51+'3. Statement of pipeline assets'!J57+'3. Statement of pipeline assets'!J63+'3. Statement of pipeline assets'!J69+'3. Statement of pipeline assets'!J77+'3. Statement of pipeline assets'!J83+'3. Statement of pipeline assets'!J89)/1000000 -> 0.045835718 | K12: =('3. Statement of pipeline assets'!K14+'3. Statement of pipeline assets'!K21+'3. Statement of pipeline assets'!K27+'3. Statement of pipeline assets'!K33+'3. Statement of pipeline assets'!K39+'3. Statement of pipeline assets'!K45+'3. Statement of pipeline assets'!K51+'3. Statement of pipeline assets'!K57+'3. Statement of pipeline assets'!K63+'3. Statement of pipeline assets'!K69+'3. Statement of pipeline assets'!K77+'3. Statement of pipeline assets'!K83+'3. Statement of pipeline assets'!K89)/1000000 -> 0.0077620062 | ... AF12: =('3. Statement of pipeline assets'!AF14+'3. Statement of pipeline assets'!AF21+'3. Statement of pipeline assets'!AF27+'3. Statement of pipeline assets'!AF33+'3. Statement of pipeline assets'!AF39+'3. Statement of pipeline assets'!AF45+'3. Statement of pipeline assets'!AF51+'3. Statement of pipeline assets'!AF57+'3. Statement of pipeline assets'!AF63+'3. Statement of pipeline assets'!AF69+'3. Statement of pipeline assets'!AF77+'3. Statement of pipeline assets'!AF83+'3. Statement of pipeline assets'!AF89)/1000000 -> 0.97701406
B13: Total Contribution ($m, Nominal) | C13: Section 3 | D13: 0 | E13: 0 | F13: 0 | G13: 0 | H13: 0 | I13: 0 | J13: 0 | K13: 0 | L13: 0 | M13: 0 | N13: 0 | O13: 0 | P13: 0 | Q13: 0 | R13: 0 | S13: 0 | T13: 0 | U13: 0 | V13: 0 | W13: 0 | X13: 0 | Y13: 0 | Z13: 0 | AA13: 0 | AB13: 0 | AC13: 0 | AD13: 0 | AE13: 0 | AF13: =('2.2 Revenue contributions '!E15+'2.2 Revenue contributions '!D27)/1000000 -> 0
B14: Disposal (at proceeds)($m, Nominal) | C14: Section 3 | D14: =-('3. Statement of pipeline assets'!D16+'3. Statement of pipeline assets'!D23+'3. Statement of pipeline assets'!D29+'3. Statement of pipeline assets'!D35+'3. Statement of pipeline assets'!D41+'3. Statement of pipeline assets'!D47+'3. Statement of pipeline assets'!D53+'3. Statement of pipeline assets'!D59+'3. Statement of pipeline assets'!D65+'3. Statement of pipeline assets'!D71+'3. Statement of pipeline assets'!D79+'3. Statement of pipeline assets'!D85)/1000000 -> 0 | E14: =-('3. Statement of pipeline assets'!E16+'3. Statement of pipeline assets'!E23+'3. Statement of pipeline assets'!E29+'3. Statement of pipeline assets'!E35+'3. Statement of pipeline assets'!E41+'3. Statement of pipeline assets'!E47+'3. Statement of pipeline assets'!E53+'3. Statement of pipeline assets'!E59+'3. Statement of pipeline assets'!E65+'3. Statement of pipeline assets'!E71+'3. Statement of pipeline assets'!E79+'3. Statement of pipeline assets'!E85)/1000000 -> 0 | F14: =-('3. Statement of pipeline assets'!F16+'3. Statement of pipeline assets'!F23+'3. Statement of pipeline assets'!F29+'3. Statement of pipeline assets'!F35+'3. Statement of pipeline assets'!F41+'3. Statement of pipeline assets'!F47+'3. Statement of pipeline assets'!F53+'3. Statement of pipeline assets'!F59+'3. Statement of pipeline assets'!F65+'3. Statement of pipeline assets'!F71+'3. Statement of pipeline assets'!F79+'3. Statement of pipeline assets'!F85)/1000000 -> 0 | G14: =-('3. Statement of pipeline assets'!G16+'3. Statement of pipeline assets'!G23+'3. Statement of pipeline assets'!G29+'3. Statement of pipeline assets'!G35+'3. Statement of pipeline assets'!G41+'3. Statement of pipeline assets'!G47+'3. Statement of pipeline assets'!G53+'3. Statement of pipeline assets'!G59+'3. Statement of pipeline assets'!G65+'3. Statement of pipeline assets'!G71+'3. Statement of pipeline assets'!G79+'3. Statement of pipeline assets'!G85)/1000000 -> 0 | H14: =-('3. Statement of pipeline assets'!H16+'3. Statement of pipeline assets'!H23+'3. Statement of pipeline assets'!H29+'3. Statement of pipeline assets'!H35+'3. Statement of pipeline assets'!H41+'3. Statement of pipeline assets'!H47+'3. Statement of pipeline assets'!H53+'3. Statement of pipeline assets'!H59+'3. Statement of pipeline assets'!H65+'3. Statement of pipeline assets'!H71+'3. Statement of pipeline assets'!H79+'3. Statement of pipeline assets'!H85)/1000000 -> 0 | I14: =-('3. Statement of pipeline assets'!I16+'3. Statement of pipeline assets'!I23+'3. Statement of pipeline assets'!I29+'3. Statement of pipeline assets'!I35+'3. Statement of pipeline assets'!I41+'3. Statement of pipeline assets'!I47+'3. Statement of pipeline assets'!I53+'3. Statement of pipeline assets'!I59+'3. Statement of pipeline assets'!I65+'3. Statement of pipeline assets'!I71+'3. Statement of pipeline assets'!I79+'3. Statement of pipeline assets'!I85)/1000000 -> 0 | J14: =-('3. Statement of pipeline assets'!J16+'3. Statement of pipeline assets'!J23+'3. Statement of pipeline assets'!J29+'3. Statement of pipeline assets'!J35+'3. Statement of pipeline assets'!J41+'3. Statement of pipeline assets'!J47+'3. Statement of pipeline assets'!J53+'3. Statement of pipeline assets'!J59+'3. Statement of pipeline assets'!J65+'3. Statement of pipeline assets'!J71+'3. Statement of pipeline assets'!J79+'3. Statement of pipeline assets'!J85)/1000000 -> 0 | K14: =-('3. Statement of pipeline assets'!K16+'3. Statement of pipeline assets'!K23+'3. Statement of pipeline assets'!K29+'3. Statement of pipeline assets'!K35+'3. Statement of pipeline assets'!K41+'3. Statement of pipeline assets'!K47+'3. Statement of pipeline assets'!K53+'3. Statement of pipeline assets'!K59+'3. Statement of pipeline assets'!K65+'3. Statement of pipeline assets'!K71+'3. Statement of pipeline assets'!K79+'3. Statement of pipeline assets'!K85)/1000000 -> 0 | ... AF14: =-('3. Statement of pipeline assets'!AF16+'3. Statement of pipeline assets'!AF23+'3. Statement of pipeline assets'!AF29+'3. Statement of pipeline assets'!AF35+'3. Statement of pipeline assets'!AF41+'3. Statement of pipeline assets'!AF47+'3. Statement of pipeline assets'!AF53+'3. Statement of pipeline assets'!AF59+'3. Statement of pipeline assets'!AF65+'3. Statement of pipeline assets'!AF71+'3. Statement of pipeline assets'!AF79+'3. Statement of pipeline assets'!AF85)/1000000 -> 0.00048109369
B15: Opex ($m, Nominal) | C15: Section 3 | D15: 0 | E15: 0.078831576 | F15: 0.096837194 | G15: 0.098081272 | H15: 0.10039855 | I15: 0.10055355 | J15: 0.11020523 | K15: 0.10550781 | L15: 0.13301958 | M15: 0.11772101 | N15: 0.12625323 | O15: 0.13521965 | P15: 0.13908789 | Q15: 0.12872786 | R15: 0.13978677 | S15: 0.14263438 | T15: 0.16211831 | U15: 0.17943023 | V15: 0.1701832 | W15: 0.19101388 | X15: 0.18237991 | Y15: 0.18114454 | Z15: 0.18676397 | AA15: 0.25688072 | AB15: 0.37766277 | AC15: 0.52045233 | AD15: 0.52736223 | AE15: 0.71184539 | AF15: 0.75164859
B16: Net Tax Liabilities ($m, Nominal) | C16: Section 3 | D16: 0 | E16: 0 | F16: 0.041752367 | G16: 0.018193357 | H16: 0 | I16: 0 | J16: 0 | K16: 0 | L16: 0 | M16: 0 | N16: 0 | O16: 0 | P16: 0 | Q16: 0.030482961 | R16: 0 | S16: 0 | T16: 0.024902444 | U16: 0 | V16: 0 | W16: 0 | X16: 0 | Y16: 0.025453571 | Z16: 0.035463961 | AA16: 0.049757538 | AB16: 0.077529661 | AC16: 0 | AD16: 0 | AE16: 0 | AF16: 0.032176351
B19: Building Block Revenue ($m, Nominal) - RAB value | C19: Source
B20: Return on Capital | C20: Formula | D20: =(D11-D13-D14)*D10 -> 0 | E20: =(E11-E13-E14)*E10 -> 0 | F20: =(F11-F13-F14)*F10 -> 1.5888287 | G20: =(G11-G13-G14)*G10 -> 1.3821842 | H20: =(H11-H13-H14)*H10 -> 1.3462528 | I20: =(I11-I13-I14)*I10 -> 1.3670785 | J20: =(J11-J13-J14)*J10 -> 1.2637103 | K20: =(K11-K13-K14)*K10 -> 1.2296774 | ... AF20: =(AF11-AF13-AF14)*AF10 -> 1.3244822
B21: Return of Capital | C21: Output of roll forward per rule 77(2) | D21: =-('3. Statement of pipeline assets'!D17+'3. Statement of pipeline assets'!D22+'3. Statement of pipeline assets'!D28+'3. Statement of pipeline assets'!D34+'3. Statement of pipeline assets'!D40+'3. Statement of pipeline assets'!D46+'3. Statement of pipeline assets'!D52+'3. Statement of pipeline assets'!D58+'3. Statement of pipeline assets'!D64+'3. Statement of pipeline assets'!D70+'3. Statement of pipeline assets'!D78+'3. Statement of pipeline assets'!D84)/1000000 -> 0 | E21: =-('3. Statement of pipeline assets'!E17+'3. Statement of pipeline assets'!E22+'3. Statement of pipeline assets'!E28+'3. Statement of pipeline assets'!E34+'3. Statement of pipeline assets'!E40+'3. Statement of pipeline assets'!E46+'3. Statement of pipeline assets'!E52+'3. Statement of pipeline assets'!E58+'3. Statement of pipeline assets'!E64+'3. Statement of pipeline assets'!E70+'3. Statement of pipeline assets'!E78+'3. Statement of pipeline assets'!E84)/1000000 -> 0 | F21: =-('3. Statement of pipeline assets'!F17+'3. Statement of pipeline assets'!F22+'3. Statement of pipeline assets'!F28+'3. Statement of pipeline assets'!F34+'3. Statement of pipeline assets'!F40+'3. Statement of pipeline assets'!F46+'3. Statement of pipeline assets'!F52+'3. Statement of pipeline assets'!F58+'3. Statement of pipeline assets'!F64+'3. Statement of pipeline assets'!F70+'3. Statement of pipeline assets'!F78+'3. Statement of pipeline assets'!F84)/1000000 -> 0.074810842 | G21: =-('3. Statement of pipeline assets'!G17+'3. Statement of pipeline assets'!G22+'3. Statement of pipeline assets'!G28+'3. Statement of pipeline assets'!G34+'3. Statement of pipeline assets'!G40+'3. Statement of pipeline assets'!G46+'3. Statement of pipeline assets'!G52+'3. Statement of pipeline assets'!G58+'3. Statement of pipeline assets'!G64+'3. Statement of pipeline assets'!G70+'3. Statement of pipeline assets'!G78+'3. Statement of pipeline assets'!G84)/1000000 -> 0.024715708 | H21: =-('3. Statement of pipeline assets'!H17+'3. Statement of pipeline assets'!H22+'3. Statement of pipeline assets'!H28+'3. Statement of pipeline assets'!H34+'3. Statement of pipeline assets'!H40+'3. Statement of pipeline assets'!H46+'3. Statement of pipeline assets'!H52+'3. Statement of pipeline assets'!H58+'3. Statement of pipeline assets'!H64+'3. Statement of pipeline assets'!H70+'3. Statement of pipeline assets'!H78+'3. Statement of pipeline assets'!H84)/1000000 -> -0.23993501 | I21: =-('3. Statement of pipeline assets'!I17+'3. Statement of pipeline assets'!I22+'3. Statement of pipeline assets'!I28+'3. Statement of pipeline assets'!I34+'3. Statement of pipeline assets'!I40+'3. Statement of pipeline assets'!I46+'3. Statement of pipeline assets'!I52+'3. Statement of pipeline assets'!I58+'3. Statement of pipeline assets'!I64+'3. Statement of pipeline assets'!I70+'3. Statement of pipeline assets'!I78+'3. Statement of pipeline assets'!I84)/1000000 -> -0.60673657 | J21: =-('3. Statement of pipeline assets'!J17+'3. Statement of pipeline assets'!J22+'3. Statement of pipeline assets'!J28+'3. Statement of pipeline assets'!J34+'3. Statement of pipeline assets'!J40+'3. Statement of pipeline assets'!J46+'3. Statement of pipeline assets'!J52+'3. Statement of pipeline assets'!J58+'3. Statement of pipeline assets'!J64+'3. Statement of pipeline assets'!J70+'3. Statement of pipeline assets'!J78+'3. Statement of pipeline assets'!J84)/1000000 -> -0.20482525 | K21: =-('3. Statement of pipeline assets'!K17+'3. Statement of pipeline assets'!K22+'3. Statement of pipeline assets'!K28+'3. Statement of pipeline assets'!K34+'3. Statement of pipeline assets'!K40+'3. Statement of pipeline assets'!K46+'3. Statement of pipeline assets'!K52+'3. Statement of pipeline assets'!K58+'3. Statement of pipeline assets'!K64+'3. Statement of pipeline assets'!K70+'3. Statement of pipeline assets'!K78+'3. Statement of pipeline assets'!K84)/1000000 -> -0.18493632 | ... AF21: =-('3. Statement of pipeline assets'!AF17+'3. Statement of pipeline assets'!AF22+'3. Statement of pipeline assets'!AF28+'3. Statement of pipeline assets'!AF34+'3. Statement of pipeline assets'!AF40+'3. Statement of pipeline assets'!AF46+'3. Statement of pipeline assets'!AF52+'3. Statement of pipeline assets'!AF58+'3. Statement of pipeline assets'!AF64+'3. Statement of pipeline assets'!AF70+'3. Statement of pipeline assets'!AF78+'3. Statement of pipeline assets'!AF84)/1000000 -> -0.2386161
B22: Operating Expenditure | C22: As above | D22: =D15 -> 0 | E22: =E15 -> 0.078831576 | F22: =F15 -> 0.096837194 | G22: =G15 -> 0.098081272 | H22: =H15 -> 0.10039855 | I22: =I15 -> 0.10055355 | J22: =J15 -> 0.11020523 | K22: =K15 -> 0.10550781 | ... AF22: =AF15 -> 0.75164859
B23: Net Tax Liabilities | C23: As above | D23: =D16 -> 0 | E23: =E16 -> 0 | F23: =F16 -> 0.041752367 | G23: =G16 -> 0.018193357 | H23: =H16 -> 0 | I23: =I16 -> 0 | J23: =J16 -> 0 | K23: =K16 -> 0 | ... AF23: =AF16 -> 0.032176351
B24: Estimated Revenue (Based on RAB value) | D24: =SUM(D20:D23) -> 0 | E24: =SUM(E20:E23) -> 0.078831576 | F24: =SUM(F20:F23) -> 1.8022291 | G24: =SUM(G20:G23) -> 1.5231745 | H24: =SUM(H20:H23) -> 1.2067163 | I24: =SUM(I20:I23) -> 0.86089551 | J24: =SUM(J20:J23) -> 1.1690903 | K24: =SUM(K20:K23) -> 1.1502489 | ... AF24: =SUM(AF20:AF23) -> 1.869691
B27: Actual Revenue ($m, Nominal) | D27: 0 | E27: ='4. Recovered capital'!G26/1000000 -> 1.0170493 | F27: ='4. Recovered capital'!H26/1000000 -> 1.2792541 | G27: ='4. Recovered capital'!I26/1000000 -> 1.3114111 | H27: ='4. Recovered capital'!J26/1000000 -> 1.343321 | I27: ='4. Recovered capital'!K26/1000000 -> 1.3888464 | J27: ='4. Recovered capital'!L26/1000000 -> 1.4396306 | K27: ='4. Recovered capital'!M26/1000000 -> 1.4721913 | L27: ='4. Recovered capital'!N26/1000000 -> 1.7476203 | ... AD27: ='4. Recovered capital'!AF26/1000000 -> 2.7288219 | AE27: ='2. Revenues and expenses'!I20/1000000 -> 2.7734258 | AF27: ='2. Revenues and expenses'!F20/1000000 -> 2.4833066
B29: Year | D29: =YEAR(Cover!$C$25) -> 1996 | E29: =YEAR(Cover!$C$25)+1 -> 1997 | F29: =YEAR(Cover!$C$25)+2 -> 1998 | G29: =YEAR(Cover!$C$25)+3 -> 1999 | H29: =G29+1 -> 2000 | I29: =H29+1 -> 2001 | J29: =I29+1 -> 2002 | K29: =J29+1 -> 2003 | L29: =K29+1 -> 2004 | M29: =L29+1 -> 2005 | N29: =M29+1 -> 2006 | O29: =N29+1 -> 2007 | ... AE29: =AD29+1 -> 2023 | AF29: =YEAR(Cover!$C$23) -> 2024
B30: Recovered Capital ($m, Nominal) - if applicable | C30: Source
B31: Operating expenses | C31: 4. Recovered Capital | D31: 0 | E31: =-(INDEX('4. Recovered capital'!$F$8:$BH$33,MATCH('1.1 Financial summary'!$B31,'4. Recovered capital'!$D$8:$D$33,0),MATCH('1.1 Financial summary'!E$29,'4. Recovered capital'!$F$8:$BH$8,0)))/1000000 -> 0.078831576 | F31: =-(INDEX('4. Recovered capital'!$F$8:$BH$33,MATCH('1.1 Financial summary'!$B31,'4. Recovered capital'!$D$8:$D$33,0),MATCH('1.1 Financial summary'!F$29,'4. Recovered capital'!$F$8:$BH$8,0)))/1000000 -> 0.096837194 | G31: =-(INDEX('4. Recovered capital'!$F$8:$BH$33,MATCH('1.1 Financial summary'!$B31,'4. Recovered capital'!$D$8:$D$33,0),MATCH('1.1 Financial summary'!G$29,'4. Recovered capital'!$F$8:$BH$8,0)))/1000000 -> 0.098081272 | H31: =-(INDEX('4. Recovered capital'!$F$8:$BH$33,MATCH('1.1 Financial summary'!$B31,'4. Recovered capital'!$D$8:$D$33,0),MATCH('1.1 Financial summary'!H$29,'4. Recovered capital'!$F$8:$BH$8,0)))/1000000 -> 0.10039855 | I31: =-(INDEX('4. Recovered capital'!$F$8:$BH$33,MATCH('1.1 Financial summary'!$B31,'4. Recovered capital'!$D$8:$D$33,0),MATCH('1.1 Financial summary'!I$29,'4. Recovered capital'!$F$8:$BH$8,0)))/1000000 -> 0.10055355 | J31: =-(INDEX('4. Recovered capital'!$F$8:$BH$33,MATCH('1.1 Financial summary'!$B31,'4. Recovered capital'!$D$8:$D$33,0),MATCH('1.1 Financial summary'!J$29,'4. Recovered capital'!$F$8:$BH$8,0)))/1000000 -> 0.11020523 | K31: =-(INDEX('4. Recovered capital'!$F$8:$BH$33,MATCH('1.1 Financial summary'!$B31,'4. Recovered capital'!$D$8:$D$33,0),MATCH('1.1 Financial summary'!K$29,'4. Recovered capital'!$F$8:$BH$8,0)))/1000000 -> 0.10550781 | L31: =-(INDEX('4. Recovered capital'!$F$8:$BH$33,MATCH('1.1 Financial summary'!$B31,'4. Recovered capital'!$D$8:$D$33,0),MATCH('1.1 Financial summary'!L$29,'4. Recovered capital'!$F$8:$BH$8,0)))/1000000 -> 0.13301958 | ... AF31: =-(INDEX('4. Recovered capital'!$F$8:$BH$33,MATCH('1.1 Financial summary'!$B31,'4. Recovered capital'!$D$8:$D$33,0),MATCH('1.1 Financial summary'!AF$29,'4. Recovered capital'!$F$8:$BH$8,0)))/1000000 -> 0.73805521
B32: Net tax liabilities | C32: 4. Recovered Capital | D32: 0 | E32: =-(INDEX('4. Recovered capital'!$F$8:$BH$33,MATCH('1.1 Financial summary'!$B32,'4. Recovered capital'!$D$8:$D$33,0),MATCH('1.1 Financial summary'!E$29,'4. Recovered capital'!$F$8:$BH$8,0)))/1000000 -> 0.21408071 | F32: =-(INDEX('4. Recovered capital'!$F$8:$BH$33,MATCH('1.1 Financial summary'!$B32,'4. Recovered capital'!$D$8:$D$33,0),MATCH('1.1 Financial summary'!F$29,'4. Recovered capital'!$F$8:$BH$8,0)))/1000000 -> 0 | G32: =-(INDEX('4. Recovered capital'!$F$8:$BH$33,MATCH('1.1 Financial summary'!$B32,'4. Recovered capital'!$D$8:$D$33,0),MATCH('1.1 Financial summary'!G$29,'4. Recovered capital'!$F$8:$BH$8,0)))/1000000 -> 0 | H32: =-(INDEX('4. Recovered capital'!$F$8:$BH$33,MATCH('1.1 Financial summary'!$B32,'4. Recovered capital'!$D$8:$D$33,0),MATCH('1.1 Financial summary'!H$29,'4. Recovered capital'!$F$8:$BH$8,0)))/1000000 -> 0 | I32: =-(INDEX('4. Recovered capital'!$F$8:$BH$33,MATCH('1.1 Financial summary'!$B32,'4. Recovered capital'!$D$8:$D$33,0),MATCH('1.1 Financial summary'!I$29,'4. Recovered capital'!$F$8:$BH$8,0)))/1000000 -> 0 | J32: =-(INDEX('4. Recovered capital'!$F$8:$BH$33,MATCH('1.1 Financial summary'!$B32,'4. Recovered capital'!$D$8:$D$33,0),MATCH('1.1 Financial summary'!J$29,'4. Recovered capital'!$F$8:$BH$8,0)))/1000000 -> 0 | K32: =-(INDEX('4. Recovered capital'!$F$8:$BH$33,MATCH('1.1 Financial summary'!$B32,'4. Recovered capital'!$D$8:$D$33,0),MATCH('1.1 Financial summary'!K$29,'4. Recovered capital'!$F$8:$BH$8,0)))/1000000 -> 0 | L32: =-(INDEX('4. Recovered capital'!$F$8:$BH$33,MATCH('1.1 Financial summary'!$B32,'4. Recovered capital'!$D$8:$D$33,0),MATCH('1.1 Financial summary'!L$29,'4. Recovered capital'!$F$8:$BH$8,0)))/1000000 -> 0.10098201 | ... AF32: =-(INDEX('4. Recovered capital'!$F$8:$BH$33,MATCH('1.1 Financial summary'!$B32,'4. Recovered capital'!$D$8:$D$33,0),MATCH('1.1 Financial summary'!AF$29,'4. Recovered capital'!$F$8:$BH$8,0)))/1000000 -> 0.48185198
B33: Return on capital | C33: 4. Recovered Capital | D33: 0 | E33: =-(INDEX('4. Recovered capital'!$F$8:$BH$33,MATCH('1.1 Financial summary'!$B33,'4. Recovered capital'!$D$8:$D$33,0),MATCH('1.1 Financial summary'!E$29,'4. Recovered capital'!$F$8:$BH$8,0)))/1000000 -> 0 | F33: =-(INDEX('4. Recovered capital'!$F$8:$BH$33,MATCH('1.1 Financial summary'!$B33,'4. Recovered capital'!$D$8:$D$33,0),MATCH('1.1 Financial summary'!F$29,'4. Recovered capital'!$F$8:$BH$8,0)))/1000000 -> 1.4841623 | G33: =-(INDEX('4. Recovered capital'!$F$8:$BH$33,MATCH('1.1 Financial summary'!$B33,'4. Recovered capital'!$D$8:$D$33,0),MATCH('1.1 Financial summary'!G$29,'4. Recovered capital'!$F$8:$BH$8,0)))/1000000 -> 1.3221284 | H33: =-(INDEX('4. Recovered capital'!$F$8:$BH$33,MATCH('1.1 Financial summary'!$B33,'4. Recovered capital'!$D$8:$D$33,0),MATCH('1.1 Financial summary'!H$29,'4. Recovered capital'!$F$8:$BH$8,0)))/1000000 -> 1.4357904 | I33: =-(INDEX('4. Recovered capital'!$F$8:$BH$33,MATCH('1.1 Financial summary'!$B33,'4. Recovered capital'!$D$8:$D$33,0),MATCH('1.1 Financial summary'!I$29,'4. Recovered capital'!$F$8:$BH$8,0)))/1000000 -> 1.4630875 | J33: =-(INDEX('4. Recovered capital'!$F$8:$BH$33,MATCH('1.1 Financial summary'!$B33,'4. Recovered capital'!$D$8:$D$33,0),MATCH('1.1 Financial summary'!J$29,'4. Recovered capital'!$F$8:$BH$8,0)))/1000000 -> 1.3331445 | K33: =-(INDEX('4. Recovered capital'!$F$8:$BH$33,MATCH('1.1 Financial summary'!$B33,'4. Recovered capital'!$D$8:$D$33,0),MATCH('1.1 Financial summary'!K$29,'4. Recovered capital'!$F$8:$BH$8,0)))/1000000 -> 1.2775127 | L33: =-(INDEX('4. Recovered capital'!$F$8:$BH$33,MATCH('1.1 Financial summary'!$B33,'4. Recovered capital'!$D$8:$D$33,0),MATCH('1.1 Financial summary'!L$29,'4. Recovered capital'!$F$8:$BH$8,0)))/1000000 -> 1.1033798 | ... AF33: =-(INDEX('4. Recovered capital'!$F$8:$BH$33,MATCH('1.1 Financial summary'!$B33,'4. Recovered capital'!$D$8:$D$33,0),MATCH('1.1 Financial summary'!AF$29,'4. Recovered capital'!$F$8:$BH$8,0)))/1000000 -> 1.0200465
B34: Return of capital | C34: 4. Recovered Capital | D34: 0 | E34: =(INDEX('4. Recovered capital'!$F$8:$BH$33,MATCH('1.1 Financial summary'!$B34,'4. Recovered capital'!$D$8:$D$33,0),MATCH('1.1 Financial summary'!E$29,'4. Recovered capital'!$F$8:$BH$8,0)))/1000000 -> 0.72413699 | F34: =(INDEX('4. Recovered capital'!$F$8:$BH$33,MATCH('1.1 Financial summary'!$B34,'4. Recovered capital'!$D$8:$D$33,0),MATCH('1.1 Financial summary'!F$29,'4. Recovered capital'!$F$8:$BH$8,0)))/1000000 -> -0.30174535 | G34: =(INDEX('4. Recovered capital'!$F$8:$BH$33,MATCH('1.1 Financial summary'!$B34,'4. Recovered capital'!$D$8:$D$33,0),MATCH('1.1 Financial summary'!G$29,'4. Recovered capital'!$F$8:$BH$8,0)))/1000000 -> -0.10879854 | H34: =(INDEX('4. Recovered capital'!$F$8:$BH$33,MATCH('1.1 Financial summary'!$B34,'4. Recovered capital'!$D$8:$D$33,0),MATCH('1.1 Financial summary'!H$29,'4. Recovered capital'!$F$8:$BH$8,0)))/1000000 -> -0.19286793 | I34: =(INDEX('4. Recovered capital'!$F$8:$BH$33,MATCH('1.1 Financial summary'!$B34,'4. Recovered capital'!$D$8:$D$33,0),MATCH('1.1 Financial summary'!I$29,'4. Recovered capital'!$F$8:$BH$8,0)))/1000000 -> -0.17479462 | J34: =(INDEX('4. Recovered capital'!$F$8:$BH$33,MATCH('1.1 Financial summary'!$B34,'4. Recovered capital'!$D$8:$D$33,0),MATCH('1.1 Financial summary'!J$29,'4. Recovered capital'!$F$8:$BH$8,0)))/1000000 -> -0.0037191366 | K34: =(INDEX('4. Recovered capital'!$F$8:$BH$33,MATCH('1.1 Financial summary'!$B34,'4. Recovered capital'!$D$8:$D$33,0),MATCH('1.1 Financial summary'!K$29,'4. Recovered capital'!$F$8:$BH$8,0)))/1000000 -> 0.089170799 | L34: =(INDEX('4. Recovered capital'!$F$8:$BH$33,MATCH('1.1 Financial summary'!$B34,'4. Recovered capital'!$D$8:$D$33,0),MATCH('1.1 Financial summary'!L$29,'4. Recovered capital'!$F$8:$BH$8,0)))/1000000 -> 0.41023887 | ... AF34: =(INDEX('4. Recovered capital'!$F$8:$BH$33,MATCH('1.1 Financial summary'!$B34,'4. Recovered capital'!$D$8:$D$33,0),MATCH('1.1 Financial summary'!AF$29,'4. Recovered capital'!$F$8:$BH$8,0)))/1000000 -> 0.24091256
B35: Opening Asset Base - RCM value | C35: 4. Recovered Capital | D35: 0 | E35: =(INDEX('4. Recovered capital'!$F$8:$BH$33,MATCH('1.1 Financial summary'!$B35,'4. Recovered capital'!$D$8:$D$33,0),MATCH('1.1 Financial summary'!E$29,'4. Recovered capital'!$F$8:$BH$8,0)))/1000000 -> 0 | F35: =(INDEX('4. Recovered capital'!$F$8:$BH$33,MATCH('1.1 Financial summary'!$B35,'4. Recovered capital'!$D$8:$D$33,0),MATCH('1.1 Financial summary'!F$29,'4. Recovered capital'!$F$8:$BH$8,0)))/1000000 -> 13.017826 | G35: =(INDEX('4. Recovered capital'!$F$8:$BH$33,MATCH('1.1 Financial summary'!$B35,'4. Recovered capital'!$D$8:$D$33,0),MATCH('1.1 Financial summary'!G$29,'4. Recovered capital'!$F$8:$BH$8,0)))/1000000 -> 13.326547 | H35: =(INDEX('4. Recovered capital'!$F$8:$BH$33,MATCH('1.1 Financial summary'!$B35,'4. Recovered capital'!$D$8:$D$33,0),MATCH('1.1 Financial summary'!H$29,'4. Recovered capital'!$F$8:$BH$8,0)))/1000000 -> 13.445112 | I35: =(INDEX('4. Recovered capital'!$F$8:$BH$33,MATCH('1.1 Financial summary'!$B35,'4. Recovered capital'!$D$8:$D$33,0),MATCH('1.1 Financial summary'!I$29,'4. Recovered capital'!$F$8:$BH$8,0)))/1000000 -> 13.672379 | J35: =(INDEX('4. Recovered capital'!$F$8:$BH$33,MATCH('1.1 Financial summary'!$B35,'4. Recovered capital'!$D$8:$D$33,0),MATCH('1.1 Financial summary'!J$29,'4. Recovered capital'!$F$8:$BH$8,0)))/1000000 -> 13.907993 | K35: =(INDEX('4. Recovered capital'!$F$8:$BH$33,MATCH('1.1 Financial summary'!$B35,'4. Recovered capital'!$D$8:$D$33,0),MATCH('1.1 Financial summary'!K$29,'4. Recovered capital'!$F$8:$BH$8,0)))/1000000 -> 13.986753 | L35: =(INDEX('4. Recovered capital'!$F$8:$BH$33,MATCH('1.1 Financial summary'!$B35,'4. Recovered capital'!$D$8:$D$33,0),MATCH('1.1 Financial summary'!L$29,'4. Recovered capital'!$F$8:$BH$8,0)))/1000000 -> 13.933236 | ... AF35: =(INDEX('4. Recovered capital'!$F$8:$BH$33,MATCH('1.1 Financial summary'!$B35,'4. Recovered capital'!$D$8:$D$33,0),MATCH('1.1 Financial summary'!AF$29,'4. Recovered capital'!$F$8:$BH$8,0)))/1000000 -> 3.434252e-15

Sheet 2. Revenues and expenses
B1: Statement of pipeline revenues and expenses
B2: =Tradingname -> Southern Cross Pipelines Australia Pty Limited
B3: Year ending | C3: =Yearending -> 45473
B5: Table 2.1: Statement of pipeline revenues and expenses
D7: Reporting period | G7: Previous reporting period
B8: Basis of Preparation reference | C8: Description | D8: Amounts excluding related party transactions | E8: Related party transactions | F8: Total | G8: Amounts excluding related party transactions | H8: Related party transactions | I8: Total
D9: $ nominal | E9: $ nominal | F9: $ nominal | G9: $ nominal | H9: $ nominal | I9: $ nominal
C10: Direct revenue
B11: 3.3.1 | C11: Total service revenue | D11: ='2.1 Revenue by service'!D21 -> 2483306.6 | E11: ='2.1 Revenue by service'!E21 -> 0 | F11: =SUM(D11:E11) -> 2483306.6 | G11: ='2.1 Revenue by service'!G21 -> 2773425.8 | H11: ='2.1 Revenue by service'!H21 -> 0 | I11: =SUM(G11:H11) -> 2773425.8
C12: Customer contribution revenue | D12: ='2.2 Revenue contributions '!C15 -> 0 | E12: ='2.2 Revenue contributions '!D15 -> 0 | F12: =SUM(D12:E12) -> 0 | G12: 0 | H12: 0 | I12: =SUM(G12:H12) -> 0
C13: Government contribution revenue | D13: ='2.2 Revenue contributions '!D27 -> 0 | F13: =SUM(D13:E13) -> 0 | G13: 0 | H13: 0 | I13: =SUM(G13:H13) -> 0
C14: Profit from sale of fixed assets | D14: 0 | E14: 0 | F14: =SUM(D14:E14) -> 0 | G14: 0 | H14: 0 | I14: =SUM(G14:H14) -> 0
B15: 3.3.1 | C15: Other direct revenue | D15: 0 | E15: 0 | F15: =SUM(D15:E15) -> 0 | G15: 0 | H15: 0 | I15: =SUM(G15:H15) -> 0
C16: Total direct revenue | D16: =SUM(D11:D15) -> 2483306.6 | E16: =SUM(E11:E15) -> 0 | F16: =SUM(F11:F15) -> 2483306.6 | G16: =SUM(G11:G15) -> 2773425.8 | H16: =SUM(H11:H15) -> 0 | I16: =SUM(I11:I15) -> 2773425.8
C17: Indirect revenue allocated
B18: 3.3.1 | C18: Other revenue | D18: ='2.3 Indirect revenue'!G36 -> 0 | E18: ='2.3 Indirect revenue'!H36 -> 0 | F18: =SUM(D18:E18) -> 0 | I18: =SUM(G18:H18) -> 0
C19: Total indirect revenue allocated | D19: =SUM(D18:D18) -> 0 | E19: =SUM(E18:E18) -> 0 | F19: =SUM(F18:F18) -> 0 | G19: =SUM(G18:G18) -> 0 | H19: =SUM(H18:H18) -> 0 | I19: =SUM(I18:I18) -> 0
C20: Total revenue | D20: =D16+D19 -> 2483306.6 | E20: =E16+E19 -> 0 | F20: =F16+F19 -> 2483306.6 | G20: =G16+G19 -> 2773425.8 | H20: =H16+H19 -> 0 | I20: =I16+I19 -> 2773425.8
C21: Direct costs
B22: 3.3.2 | C22: Repairs and maintenance | D22: 0 | E22: 0 | F22: =SUM(D22:E22) -> 0 | G22: 0 | H22: 0 | I22: =SUM(G22:H22) -> 0
B23: 3.3.2 | C23: Wages | D23: -129591.46 | E23: 0 | F23: =SUM(D23:E23) -> -129591.46 | G23: -83235.533 | H23: 0 | I23: =SUM(G23:H23) -> -83235.533
B24: 3.3.2.1 | C24: Depreciation | D24: 355594.42 | E24: 0 | F24: =SUM(D24:E24) -> 355594.42 | G24: 729263.39 | H24: 0 | I24: =SUM(G24:H24) -> 729263.39
B25: 3.3.2 | C25: Insurance | D25: 0 | E25: 0 | F25: =SUM(D25:E25) -> 0 | G25: 0 | H25: 0 | I25: =SUM(G25:H25) -> 0
B26: 3.3.2 | C26: Licence and regulatory costs | D26: -89746.08 | E26: 0 | F26: =SUM(D26:E26) -> -89746.08 | G26: -35987.12 | H26: 0 | I26: =SUM(G26:H26) -> -35987.12
B27: 3.3.2 | C27: Directly attributable finance charges | D27: 0 | E27: 0 | F27: =SUM(D27:E27) -> 0 | G27: 0 | H27: 0 | I27: =SUM(G27:H27) -> 0
B28: 3.3.2 | C28: Leasing and rental costs | D28: 0 | E28: 0 | F28: =SUM(D28:E28) -> 0 | G28: 0 | H28: 0 | I28: =SUM(G28:H28) -> 0
B29: 3.3.2 | C29: Other direct costs | D29: -199055.52 | E29: 0 | F29: =SUM(D29:E29) -> -199055.52 | G29: -245926.58 | H29: 0 | I29: =SUM(G29:H29) -> -245926.58
C30: Total direct costs | D30: =SUM(D22:D29) -> -62798.647 | E30: =SUM(E22:E29) -> 0 | F30: =SUM(F22:F29) -> -62798.647 | G30: =SUM(G22:G29) -> 364114.16 | H30: =SUM(H22:H29) -> 0 | I30: =SUM(I22:I29) -> 364114.16
C31: Shared costs
C32: Employee costs | D32: =SUMIF('2.4 Shared costs'!$C$9:$C$35,'2. Revenues and expenses'!$C32,'2.4 Shared costs'!$H$9:$H$35) -> 0 | E32: =SUMIF('2.4 Shared costs'!$C$9:$C$35,'2. Revenues and expenses'!$C32,'2.4 Shared costs'!$I$9:$I$35) -> 0 | F32: =SUM(D32:E32) -> 0 | G32: 0 | H32: 0 | I32: =SUM(G32:H32) -> 0
C33: Information technology and communication costs | D33: =SUMIF('2.4 Shared costs'!$C$9:$C$35,'2. Revenues and expenses'!$C33,'2.4 Shared costs'!$H$9:$H$35) -> 0 | E33: =SUMIF('2.4 Shared costs'!$C$9:$C$35,'2. Revenues and expenses'!$C33,'2.4 Shared costs'!$I$9:$I$35) -> 0 | F33: =SUM(D33:E33) -> 0 | G33: 0 | H33: 0 | I33: =SUM(G33:H33) -> 0
C34: Indirect operating expenses | D34: =SUMIF('2.4 Shared costs'!$C$9:$C$35,'2. Revenues and expenses'!$C34,'2.4 Shared costs'!$H$9:$H$35) -> 0 | E34: =SUMIF('2.4 Shared costs'!$C$9:$C$35,'2. Revenues and expenses'!$C34,'2.4 Shared costs'!$I$9:$I$35) -> 0 | F34: =SUM(D34:E34) -> 0 | G34: 0 | H34: 0 | I34: =SUM(G34:H34) -> 0
B35: 3.3.2.1 | C35: Shared asset depreciation | D35: =SUMIF('2.4 Shared costs'!$C$9:$C$35,'2. Revenues and expenses'!$C35,'2.4 Shared costs'!$H$9:$H$35) -> -116978.31 | E35: =SUMIF('2.4 Shared costs'!$C$9:$C$35,'2. Revenues and expenses'!$C35,'2.4 Shared costs'!$I$9:$I$35) -> 0 | F35: =SUM(D35:E35) -> -116978.31 | G35: -76363.233 | H35: 0 | I35: =SUM(G35:H35) -> -76363.233
C36: Rental and leasing costs | D36: =SUMIF('2.4 Shared costs'!$C$9:$C$35,'2. Revenues and expenses'!$C36,'2.4 Shared costs'!$H$9:$H$35) -> 0 | E36: =SUMIF('2.4 Shared costs'!$C$9:$C$35,'2. Revenues and expenses'!$C36,'2.4 Shared costs'!$I$9:$I$35) -> 0 | F36: =SUM(D36:E36) -> 0 | G36: 0 | H36: 0 | I36: =SUM(G36:H36) -> 0
B37: 3.3.2.3 | C37: Borrowing costs | D37: =SUMIF('2.4 Shared costs'!$C$9:$C$35,'2. Revenues and expenses'!$C37,'2.4 Shared costs'!$H$9:$H$35) -> -11153.025 | E37: =SUMIF('2.4 Shared costs'!$C$9:$C$35,'2. Revenues and expenses'!$C37,'2.4 Shared costs'!$I$9:$I$35) -> 0 | F37: =SUM(D37:E37) -> -11153.025 | G37: -10510.242 | H37: 0 | I37: =SUM(G37:H37) -> -10510.242
C38: Loss from sale of shared fixed assets | D38: =SUMIF('2.4 Shared costs'!$C$9:$C$35,'2. Revenues and expenses'!$C38,'2.4 Shared costs'!$H$9:$H$35) -> 0 | E38: =SUMIF('2.4 Shared costs'!$C$9:$C$35,'2. Revenues and expenses'!$C38,'2.4 Shared costs'!$I$9:$I$35) -> 0 | F38: =SUM(D38:E38) -> 0 | G38: 0 | H38: 0 | I38: =SUM(G38:H38) -> 0
C39: Impairment losses (nature of the impairment loss) | D39: =SUMIF('2.4 Shared costs'!$C$9:$C$35,'2. Revenues and expenses'!$C39,'2.4 Shared costs'!$H$9:$H$35) -> 0 | E39: =SUMIF('2.4 Shared costs'!$C$9:$C$35,'2. Revenues and expenses'!$C39,'2.4 Shared costs'!$I$9:$I$35) -> 0 | F39: =SUM(D39:E39) -> 0 | G39: 0 | H39: 0 | I39: =SUM(G39:H39) -> 0
B40: 3.3.2.2 | C40: Other shared costs | D40: =SUMIF('2.4 Shared costs'!$C$9:$C$35,'2. Revenues and expenses'!$C40,'2.4 Shared costs'!$H$9:$H$35) -> -322102.5 | E40: =SUMIF('2.4 Shared costs'!$C$9:$C$35,'2. Revenues and expenses'!$C40,'2.4 Shared costs'!$I$9:$I$35) -> 0 | F40: =SUM(D40:E40) -> -322102.5 | G40: -336185.91 | H40: 0 | I40: =SUM(G40:H40) -> -336185.91
C41: Total shared costs allocated | D41: =SUM(D32:D40) -> -450233.84 | E41: =SUM(E32:E40) -> 0 | F41: =SUM(F32:F40) -> -450233.84 | G41: =SUM(G32:G40) -> -423059.39 | H41: =SUM(H32:H40) -> 0 | I41: =SUM(I32:I40) -> -423059.39
C42: Total costs | D42: =D30+D41 -> -513032.49 | E42: =E30+E41 -> 0 | F42: =F30+F41 -> -513032.49 | G42: =G30+G41 -> -58945.233 | H42: =H30+H41 -> 0 | I42: =I30+I41 -> -58945.233
...

Sheet 2.1 Revenue by service
B1: Revenue by service
B2: =Tradingname -> Southern Cross Pipelines Australia Pty Limited
B3: Year ending | C3: =Yearending -> 45473
B5: Table 2.1.1: Revenue by service
D7: Reporting period | G7: Previous reporting period
B8: Basis of Preparation reference | C8: Description | D8: Amounts excluding related party transactions | E8: Related party transactions | F8: Total | G8: Amounts excluding related party transactions | H8: Related party transactions | I8: Total
D9: $ nominal | E9: $ nominal | F9: $ nominal | G9: $ nominal | H9: $ nominal | I9: $ nominal
C10: Revenue by service
B11: 3.3.1 | C11: Firm forward haul transportation services | D11: 2471836.8 | E11: 0 | F11: =SUM(D11:E11) -> 2471836.8 | G11: 2684710.9 | H11: 0 | I11: =SUM(G11:H11) -> 2684710.9
B12: 3.3.1 | C12: Interruptible or as available transportation services | D12: 11469.8 | E12: 0 | F12: =SUM(D12:E12) -> 11469.8 | G12: 86222.41 | H12: 0 | I12: =SUM(G12:H12) -> 86222.41
C13: Backhaul services | D13: 0 | E13: 0 | F13: =SUM(D13:E13) -> 0 | G13: 0 | H13: 0 | I13: =SUM(G13:H13) -> 0
C14: Firm stand-alone compression service | D14: 0 | E14: 0 | F14: =SUM(D14:E14) -> 0 | G14: 0 | H14: 0 | I14: =SUM(G14:H14) -> 0
C15: Interruptible or as available stand-alone compression service | D15: 0 | E15: 0 | F15: =SUM(D15:E15) -> 0 | G15: 0 | H15: 0 | I15: =SUM(G15:H15) -> 0
C16: Park services | D16: 0 | E16: 0 | F16: =SUM(D16:E16) -> 0 | G16: 0 | H16: 0 | I16: =SUM(G16:H16) -> 0
C17: Park and loan services | D17: 0 | E17: 0 | F17: =SUM(D17:E17) -> 0 | G17: 0 | H17: 0 | I17: =SUM(G17:H17) -> 0
C18: Capacity trading service | D18: 0 | E18: 0 | F18: =SUM(D18:E18) -> 0 | G18: 0 | H18: 0 | I18: =SUM(G18:H18) -> 0
C19: In pipe trading service | D19: 0 | E19: 0 | F19: =SUM(D19:E19) -> 0 | G19: 0 | H19: 0 | I19: =SUM(G19:H19) -> 0
B20: 3.3.1 | C20: Other pipeline revenue (if relevant) | D20: 0 | E20: 0 | F20: =SUM(D20:E20) -> 0 | G20: 2492.55 | H20: 0 | I20: =SUM(G20:H20) -> 2492.55
C21: Total service revenue | D21: =SUM(D11:D20) -> 2483306.6 | E21: =SUM(E11:E20) -> 0 | F21: =SUM(F11:F20) -> 2483306.6 | G21: =SUM(G11:G20) -> 2773425.8 | H21: =SUM(H11:H20) -> 0 | I21: =SUM(I11:I20) -> 2773425.8

Sheet 2.2 Revenue contributions 
B1: Revenue - contributions
B2: =Tradingname -> Southern Cross Pipelines Australia Pty Limited
B3: Year ending | C3: =Yearending -> 45473
B5: Table 2.2.1: Customer contributions received
B7: Description | C7: Amounts excluding related party transactions | D7: Related party transactions | E7: Total
C8: $ nominal | D8: $ nominal | E8: $ nominal
B9: CUSTOMER CONTRIBUTIONS | C9: 0 | E9: =SUM(C9:D9) -> 0
E10: =SUM(C10:D10) -> 0
E11: =SUM(C11:D11) -> 0
E12: =SUM(C12:D12) -> 0
E13: =SUM(C13:D13) -> 0
E14: =SUM(C14:D14) -> 0
B15: Total | C15: =SUM(C9:C14) -> 0 | D15: =SUM(D9:D14) -> 0 | E15: =SUM(E9:E14) -> 0
B17: Table 2.2.2: Government contributions received
B19: Source | C19: Description | D19: Total
D20: $ nominal
B27: Total | D27: =SUM(D21:D26) -> 0

Sheet 2.3 Indirect revenue
B1: Indirect revenue
B2: =Tradingname -> Southern Cross Pipelines Australia Pty Limited | E2: Please ensure allocation methodologies are explained in sufficient detail in the Basis of Preparation as required under section 3.2.7 of the Guideline
B3: Year ending | C3: =Yearending -> 45473
B5: Table 2.3.1: Indirect revenue allocation
B7: Basis of Preparation reference | C7: Description | D7: Indirect revenue excluding related parties | E7: Indirect revenue from related parties | F7: % allocated to pipeline | G7: Total allocated to pipeline excluding related parties | H7: Total related party amounts allocated to pipeline
C8: (list each individual revenue item) | D8: $ nominal | E8: $ nominal | G8: $ nominal | H8: $ nominal
G9: =D9*F9 -> 0 | H9: =E9*F9 -> 0
G10: =D10*F10 -> 0 | H10: =E10*F10 -> 0
G11: =D11*F11 -> 0 | H11: =E11*F11 -> 0
G12: =D12*F12 -> 0 | H12: =E12*F12 -> 0
G13: =D13*F13 -> 0 | H13: =E13*F13 -> 0
G14: =D14*F14 -> 0 | H14: =E14*F14 -> 0
G15: =D15*F15 -> 0 | H15: =E15*F15 -> 0
G16: =D16*F16 -> 0 | H16: =E16*F16 -> 0
G17: =D17*F17 -> 0 | H17: =E17*F17 -> 0
G18: =D18*F18 -> 0 | H18: =E18*F18 -> 0
G19: =D19*F19 -> 0 | H19: =E19*F19 -> 0
G20: =D20*F20 -> 0 | H20: =E20*F20 -> 0
... G35: =D35*F35 -> 0 | H35: =E35*F35 -> 0
C36: Total | D36: =SUM(D9:D35) -> 0 | E36: =SUM(E9:E35) -> 0 | G36: =SUM(G9:G35) -> 0 | H36: =SUM(H9:H35) -> 0

Sheet 2.4 Shared costs
B1: Shared costs
B2: =Tradingname -> Southern Cross Pipelines Australia Pty Limited | F2: Please ensure allocation methodologies are explained in sufficient detail in the Basis of Preparation as required under section 3.2.7 of the Guideline
B3: Year ending | C3: =Yearending -> 45473
B5: Table 2.4.1: Shared cost allocation
B7: Basis of Preparation reference | C7: Description | D7: Income statement account applied to | E7: Shared costs excluding related parties | F7: Shared costs paid to related parties | G7: % allocated to pipeline | H7: Total allocated to pipeline excluding related parties | I7: Total related party amounts allocated to pipeline
C8: (list each individual cost) | E8: $ nominal | F8: $ nominal | H8: $ nominal | I8: $ nominal
C9: Employee costs | H9: =E9*G9 -> 0 | I9: =F9*G9 -> 0
C10: Information technology and communication costs | H10: =E10*G10 -> 0 | I10: =F10*G10 -> 0
C11: Indirect operating expenses | H11: =E11*G11 -> 0 | I11: =F11*G11 -> 0
B12: 3.3.2.1 | C12: Shared asset depreciation | E12: -55971771 | G12: =('3. Statement of pipeline assets'!AF78+'3. Statement of pipeline assets'!AF84)/E12 -> 0.002089952 | H12: =E12*G12 -> -116978.31 | I12: =F12*G12 -> 0
C13: Rental and leasing costs | H13: =E13*G13 -> 0 | I13: =F13*G13 -> 0
B14: 3.3.2.3 | C14: Borrowing costs | E14: -11153.025 | G14: 1 | H14: =E14*G14 -> -11153.025 | I14: =F14*G14 -> 0
C15: Loss from sale of shared fixed assets | H15: =E15*G15 -> 0 | I15: =F15*G15 -> 0
C16: Impairment losses (nature of the impairment loss) | H16: =E16*G16 -> 0 | I16: =F16*G16 -> 0
C17: Other shared costs | E17: =SUM(E18:E35) -> -2.1174491e+08 | F17: =SUM(F18:F35) -> 0 | H17: =SUM(H18:H35) -> -322102.5 | I17: =SUM(I18:I35) -> 0
B18: 3.3.2.2 | C18: Corporate operating expenditure | E18: -2.1014066e+08 | G18: 0.0015211818 | H18: =E18*G18 -> -319662.15 | I18: =F18*G18 -> 0
B19: 3.3.2.2 | C19: Shared leased asset interest | E19: -1604247.2 | G19: 0.0015211818 | H19: =E19*G19 -> -2440.3516 | I19: =F19*G19 -> 0
H20: =E20*G20 -> 0 | I20: =F20*G20 -> 0
H21: =E21*G21 -> 0 | I21: =F21*G21 -> 0
H22: =E22*G22 -> 0 | I22: =F22*G22 -> 0
H23: =E23*G23 -> 0 | I23: =F23*G23 -> 0
H24: =E24*G24 -> 0 | I24: =F24*G24 -> 0
H25: =E25*G25 -> 0 | I25: =F25*G25 -> 0
H26: =E26*G26 -> 0 | I26: =F26*G26 -> 0
H27: =E27*G27 -> 0 | I27: =F27*G27 -> 0
H28: =E28*G28 -> 0 | I28: =F28*G28 -> 0
H29: =E29*G29 -> 0 | I29: =F29*G29 -> 0
H30: =E30*G30 -> 0 | I30: =F30*G30 -> 0
H31: =E31*G31 -> 0 | I31: =F31*G31 -> 0
... H35: =E35*G35 -> 0 | I35: =F35*G35 -> 0
C36: Total | E36: =SUM(E9:E17) -> -2.6772783e+08 | F36: =SUM(F9:F17) -> 0 | H36: =SUM(H9:H17) -> -450233.84 | I36: =SUM(I9:I17) -> 0

Sheet 3. Statement of pipeline assets
B1: Statement of pipeline assets
C2: =Tradingname -> Southern Cross Pipelines Australia Pty Limited
C3: Year ending | D3: =Yearending -> 45473
C4: Date RAB established | D4: =Cover!C25 -> 35247
C5: RAB at date established | D5: 12016834
B7: Table 3.1: Pipeline assets
D8: Year
B9: Basis of Preparation reference | C9: Description | D9: =YEAR(Cover!$C$25)-1&"-"&RIGHT(YEAR(Cover!$C$25),2) -> 1995-96 | E9: =YEAR(Cover!$C$25)&"-"&RIGHT(YEAR(Cover!$C$25)+1,2) -> 1996-97 | F9: =YEAR(Cover!$C$25)+1&"-"&RIGHT(YEAR(Cover!$C$25)+2,2) -> 1997-98 | G9: =YEAR(Cover!$C$25)+2&"-"&RIGHT(YEAR(Cover!$C$25)+3,2) -> 1998-99 | H9: =YEAR(Cover!$C$25)+3&"-"&RIGHT(YEAR(Cover!$C$25)+4,2) -> 1999-00 | I9: =YEAR(Cover!$C$25)+4&"-"&RIGHT(YEAR(Cover!$C$25)+5,2) -> 2000-01 | J9: =YEAR(Cover!$C$25)+5&"-"&RIGHT(YEAR(Cover!$C$25)+6,2) -> 2001-02 | K9: =YEAR(Cover!$C$25)+6&"-"&RIGHT(YEAR(Cover!$C$25)+7,2) -> 2002-03 | L9: =YEAR(Cover!$C$25)+7&"-"&RIGHT(YEAR(Cover!$C$25)+8,2) -> 2003-04 | M9: =YEAR(Cover!$C$25)+8&"-"&RIGHT(YEAR(Cover!$C$25)+9,2) -> 2004-05 | N9: =YEAR(Cover!$C$25)+9&"-"&RIGHT(YEAR(Cover!$C$25)+10,2) -> 2005-06 | O9: =YEAR(Cover!$C$25)+10&"-"&RIGHT(YEAR(Cover!$C$25)+11,2) -> 2006-07 | P9: =YEAR(Cover!$C$25)+11&"-"&RIGHT(YEAR(Cover!$C$25)+12,2) -> 2007-08 | Q9: =YEAR(Cover!$C$25)+12&"-"&RIGHT(YEAR(Cover!$C$25)+13,2) -> 2008-09 | R9: =YEAR(Cover!$C$25)+13&"-"&RIGHT(YEAR(Cover!$C$25)+14,2) -> 2009-10 | S9: =YEAR(Cover!$C$25)+14&"-"&RIGHT(YEAR(Cover!$C$25)+15,2) -> 2010-11 | T9: =YEAR(Cover!$C$25)+15&"-"&RIGHT(YEAR(Cover!$C$25)+16,2) -> 2011-12 | U9: =YEAR(Cover!$C$25)+16&"-"&RIGHT(YEAR(Cover!$C$25)+17,2) -> 2012-13 | V9: =YEAR(Cover!$C$25)+17&"-"&RIGHT(YEAR(Cover!$C$25)+18,2) -> 2013-14 | W9: =YEAR(Cover!$C$25)+18&"-"&RIGHT(YEAR(Cover!$C$25)+19,2) -> 2014-15 | X9: =YEAR(Cover!$C$25)+19&"-"&RIGHT(YEAR(Cover!$C$25)+20,2) -> 2015-16 | Y9: =YEAR(Cover!$C$25)+20&"-"&RIGHT(YEAR(Cover!$C$25)+21,2) -> 2016-17 | Z9: =YEAR(Cover!$C$25)+21&"-"&RIGHT(YEAR(Cover!$C$25)+22,2) -> 2017-18 | AA9: =YEAR(Cover!$C$25)+22&"-"&RIGHT(YEAR(Cover!$C$25)+23,2) -> 2018-19 | AB9: =YEAR(Cover!$C$25)+23&"-"&RIGHT(YEAR(Cover!$C$25)+24,2) -> 2019-20 | AC9: =YEAR(Cover!$C$25)+24&"-"&RIGHT(YEAR(Cover!$C$25)+25,2) -> 2020-21 | AD9: =YEAR(Cover!$C$25)+25&"-"&RIGHT(YEAR(Cover!$C$25)+26,2) -> 2021-22 | AE9: =YEAR(Cover!$C$25)+26&"-"&RIGHT(YEAR(Cover!$C$25)+27,2) -> 2022-23 | AF9: =YEAR(Cover!$C$21)&"-"&RIGHT(YEAR(Cover!$C$23),2) -> 2023-24
D10: $ | E10: $ | F10: $ | G10: $ | H10: $ | I10: $ | J10: $ | K10: $ | L10: $ | M10: $ | N10: $ | O10: $ | P10: $ | Q10: $ | R10: $ | S10: $ | T10: $ | U10: $ | V10: $ | W10: $ | X10: $ | Y10: $ | Z10: $ | AA10: $ | AB10: $ | AC10: $ | AD10: $ | AE10: $ | AF10: $
C11: Pipeline assets
C12: Pipelines
B13: 3.4 | C13: Nominal Opening Regulatory Asset Base | E13: =D18 -> 0 | F13: =E18 -> 12709613 | G13: =F18 -> 12634802 | H13: =G18 -> 12610086 | I13: =H18 -> 12850021 | J13: =I18 -> 13456516 | K13: =J18 -> 13661584 | L13: =K18 -> 13849529 | ... AF13: =AE18 -> 18249639
B14: 3.4 | C14: Nominal Capex | E14: 12709613 | F14: 0 | G14: 0 | H14: 0 | I14: 0 | J14: 330.46645 | K14: 3071.2365 | L14: 0 | M14: 185857.8 | N14: 0 | O14: 0 | P14: 345614.18 | Q14: 0 | R14: 0 | S14: 0 | T14: 0 | U14: 0 | V14: 0 | W14: 0 | X14: 0 | Y14: 142925.46 | Z14: 0 | AA14: 0 | AB14: 0 | AC14: 0 | AD14: 0 | AE14: 243681.52 | AF14: 917780.76
C15: Total capitalised pipeline construction costs | D15: =D13+D14 -> 0 | E15: =E13+E14 -> 12709613 | F15: =F13+F14 -> 12709613 | G15: =G13+G14 -> 12634802 | H15: =H13+H14 -> 12610086 | I15: =I13+I14 -> 12850021 | J15: =J13+J14 -> 13456847 | K15: =K13+K14 -> 13664655 | ... AF15: =AF13+AF14 -> 19167420
B16: 3.4 | C16: Less Asset disposal (at cost) | E16: 0 | F16: 0 | G16: 0 | H16: 0 | I16: 0 | J16: 0 | K16: 0 | L16: 0 | M16: 0 | N16: 0 | O16: 0 | P16: 0 | Q16: 0 | R16: 0 | S16: 0 | T16: 0 | U16: 0 | V16: 0 | W16: 0 | X16: 0 | Y16: 0 | Z16: 0 | AA16: 0 | AB16: 0 | AC16: 0 | AD16: 0 | AE16: 0 | AF16: 0
B17: 3.4 | C17: Less Nominal Actual Regulatory Depreciation | E17: 0 | F17: -74810.842 | G17: -24715.708 | H17: 239935.01 | I17: 606494.93 | J17: 204737.15 | K17: 184874.14 | L17: 155627.04 | M17: 156126.26 | N17: 371180.78 | O17: 90025.093 | P17: 447872 | Q17: -6609.5246 | R17: 238751.23 | S17: 325664.51 | T17: -63254.465 | U17: 128206.36 | V17: 226562.08 | W17: -22069.003 | X17: -106599.95 | Y17: 46869.763 | Z17: 67297.07 | AA17: -17406.808 | AB17: -343698.32 | AC17: 338793.4 | AD17: 721452.4 | AE17: 727240.76 | AF17: 359830.51
C18: Closing pipeline carrying value | D18: =SUM(D15:D17) -> 0 | E18: =SUM(E15:E17) -> 12709613 | F18: =SUM(F15:F17) -> 12634802 | G18: =SUM(G15:G17) -> 12610086 | H18: =SUM(H15:H17) -> 12850021 | I18: =SUM(I15:I17) -> 13456516 | J18: =SUM(J15:J17) -> 13661584 | K18: =SUM(K15:K17) -> 13849529 | ... AF18: =SUM(AF15:AF17) -> 19527250
C19: Compressors
B20: 3.4 | C20: Nominal Opening Regulatory Asset Base | E20: =D24 -> 0 | F20: =E24 -> 0 | G20: =F24 -> 0 | H20: =G24 -> 0 | I20: =H24 -> 0 | J20: =I24 -> 0 | K20: =J24 -> 0 | L20: =K24 -> 0 | ... AF20: =AE24 -> 0
B21: 3.4 | C21: Additions and improvements capitalised | E21: 0 | F21: 0 | G21: 0 | H21: 0 | I21: 0 | J21: 0 | K21: 0 | L21: 0 | M21: 0 | N21: 0 | O21: 0 | P21: 0 | Q21: 0 | R21: 0 | S21: 0 | T21: 0 | U21: 0 | V21: 0 | W21: 0 | X21: 0 | Y21: 0 | Z21: 0 | AA21: 0 | AB21: 0 | AC21: 0 | AD21: 0 | AE21: 0 | AF21: 0
